Workbook
Name Opbrengspeil: 'Bes-mielies'!$Z$9:$Z$14
Name Sojaopbrengspeil: 'Bes-soja'!$Z$9:$Z$14
Name Sonopbrengspeil: 'Bes-Sonneblom'!$Z$9:$Z$12
Name Sorgopbrengspeil: 'Bes- Sorghum'!$Z$9:$Z$14

Sheet Pryse + Sensatiwiteitsanalise
A1: Limpopo - Irrigation | B1: 2026/27 season
A2: Datum opgedateer / Date updated | B2: 46269
A3: Gewas / Crop | B3: SAFEX pryse (R/ton) | D3: Total deductions (R/ton)
A4: Geel Mielies / Yellow Maize- Jul 27 | B4: 4177 | D4: 286.29
A5: Sonneblom / Sunflower- Mei 27 | B5: 10000 | D5: 445.55
A6: Sojabone / Soybeans- Mei 27 | B6: 8345 | D6: 192.41
A7: Graansorghum / Grain sorghum | B7: 3500 | D7: 108.52
A11: Mielies / Maize | D11: MIELIES: SENSITIWITEITSANALISE - TOTALE KOSTES ( DIREKTE KOSTE + VASTE KOSTE) (R/ton) | P11: MIELIES: SENSITIWITEITSANALISE - DIREKTE KOSTE (R/ton)
A12: Lopendekoste / Variable cost (R/ha) | B12: ='Crop Comparison'!B28 -> 44030.648 | J12: Huidig | V12: Huidig
A13: Oorhoofse koste / Overhead cost (R/ha) | B13: ='Crop Comparison'!B30 -> 6930.69 | D13: SAFEX prys / price(R/ton) | F13: =G13-250 -> 3177 | G13: =H13-250 -> 3427 | H13: =I13-250 -> 3677 | I13: =J13-250 -> 3927 | J13: =B18 -> 4177 | K13: =J13+250 -> 4427 | L13: =K13+250 -> 4677 | M13: =L13+250 -> 4927 | N13: =M13+250 -> 5177 | P13: SAFEX prys / price(R/ton) | R13: =S13-250 -> 3177 | S13: =T13-250 -> 3427 | T13: =U13-250 -> 3677 | U13: =V13-250 -> 3927 | V13: =J13 -> 4177 | W13: =V13+250 -> 4427 | X13: =W13+250 -> 4677 | Y13: =X13+250 -> 4927 | Z13: =Y13+250 -> 5177
A14: Totale Koste / Total cost (R/ha) | B14: =B13+B12 -> 50961.338 | D14: Produsenteprys/ Producer price | F14: =F13-$B$19 -> 2890.71 | G14: =G13-$B$19 -> 3140.71 | H14: =H13-$B$19 -> 3390.71 | I14: =I13-$B$19 -> 3640.71 | J14: =J13-$B$19 -> 3890.71 | K14: =K13-$B$19 -> 4140.71 | L14: =L13-$B$19 -> 4390.71 | M14: =M13-$B$19 -> 4640.71 | N14: =N13-$B$19 -> 4890.71 | P14: Produsenteprys/ Producer price | R14: =R13-$B$19 -> 2890.71 | S14: =S13-$B$19 -> 3140.71 | T14: =T13-$B$19 -> 3390.71 | U14: =U13-$B$19 -> 3640.71 | V14: =V13-$B$19 -> 3890.71 | W14: =W13-$B$19 -> 4140.71 | X14: =X13-$B$19 -> 4390.71 | Y14: =Y13-$B$19 -> 4640.71 | Z14: =Z13-$B$19 -> 4890.71
D15: Opbrengs / Yield (t/ha) | E15: =E16-0.5 -> 11 | F15: =F$14-($B$14/$E15) -> -1742.1389 | G15: =G$14-($B$14/$E15) -> -1492.1389 | H15: =H$14-($B$14/$E15) -> -1242.1389 | I15: =I$14-($B$14/$E15) -> -992.13892 | J15: =J$14-($B$14/$E15) -> -742.13892 | K15: =K$14-($B$14/$E15) -> -492.13892 | L15: =L$14-($B$14/$E15) -> -242.13892 | M15: =M$14-($B$14/$E15) -> 7.8610832 | N15: =N$14-($B$14/$E15) -> 257.86108 | P15: Opbrengs / Yield (t/ha) | Q15: =Q16-0.5 -> 11 | R15: =R$14-($B$12/$E15) -> -1112.0762 | S15: =S$14-($B$12/$E15) -> -862.07619 | T15: =T$14-($B$12/$E15) -> -612.07619 | U15: =U$14-($B$12/$E15) -> -362.07619 | V15: =V$14-($B$12/$E15) -> -112.07619 | W15: =W$14-($B$12/$E15) -> 137.92381 | X15: =X$14-($B$12/$E15) -> 387.92381 | Y15: =Y$14-($B$12/$E15) -> 637.92381 | Z15: =Z$14-($B$12/$E15) -> 887.92381
A16: Gemid Opbrengs / Average Yield (t/ha) | B16: 12 | E16: =E17-0.5 -> 11.5 | F16: =F$14-($B$14/$E16) -> -1540.7107 | G16: =G$14-($B$14/$E16) -> -1290.7107 | H16: =H$14-($B$14/$E16) -> -1040.7107 | I16: =I$14-($B$14/$E16) -> -790.7107 | J16: =J$14-($B$14/$E16) -> -540.7107 | K16: =K$14-($B$14/$E16) -> -290.7107 | L16: =L$14-($B$14/$E16) -> -40.710703 | M16: =M$14-($B$14/$E16) -> 209.2893 | N16: =N$14-($B$14/$E16) -> 459.2893 | Q16: =Q17-0.5 -> 11.5 | R16: =R$14-($B$12/$E16) -> -938.04201 | S16: =S$14-($B$12/$E16) -> -688.04201 | T16: =T$14-($B$12/$E16) -> -438.04201 | U16: =U$14-($B$12/$E16) -> -188.04201 | V16: =V$14-($B$12/$E16) -> 61.957993 | W16: =W$14-($B$12/$E16) -> 311.95799 | X16: =X$14-($B$12/$E16) -> 561.95799 | Y16: =Y$14-($B$12/$E16) -> 811.95799 | Z16: =Z$14-($B$12/$E16) -> 1061.958
E17: =B16 -> 12 | F17: =F$14-($B$14/$E17) -> -1356.0682 | G17: =G$14-($B$14/$E17) -> -1106.0682 | H17: =H$14-($B$14/$E17) -> -856.06817 | I17: =I$14-($B$14/$E17) -> -606.06817 | J17: =J$14-($B$14/$E17) -> -356.06817 | K17: =K$14-($B$14/$E17) -> -106.06817 | L17: =L$14-($B$14/$E17) -> 143.93183 | M17: =M$14-($B$14/$E17) -> 393.93183 | N17: =N$14-($B$14/$E17) -> 643.93183 | Q17: =E17 -> 12 | R17: =R$14-($B$12/$E17) -> -778.51067 | S17: =S$14-($B$12/$E17) -> -528.51067 | T17: =T$14-($B$12/$E17) -> -278.51067 | U17: =U$14-($B$12/$E17) -> -28.510674 | V17: =V$14-($B$12/$E17) -> 221.48933 | W17: =W$14-($B$12/$E17) -> 471.48933 | X17: =X$14-($B$12/$E17) -> 721.48933 | Y17: =Y$14-($B$12/$E17) -> 971.48933 | Z17: =Z$14-($B$12/$E17) -> 1221.4893
A18: SAFEX Jul'27 WM 1 prys/price (R/ton) | B18: =$B$4 -> 4177 | E18: =E17+0.5 -> 12.5 | F18: =F$14-($B$14/$E18) -> -1186.197 | G18: =G$14-($B$14/$E18) -> -936.19705 | H18: =H$14-($B$14/$E18) -> -686.19705 | I18: =I$14-($B$14/$E18) -> -436.19705 | J18: =J$14-($B$14/$E18) -> -186.19705 | K18: =K$14-($B$14/$E18) -> 63.802953 | L18: =L$14-($B$14/$E18) -> 313.80295 | M18: =M$14-($B$14/$E18) -> 563.80295 | N18: =N$14-($B$14/$E18) -> 813.80295 | Q18: =Q17+0.5 -> 12.5 | R18: =R$14-($B$12/$E18) -> -631.74185 | S18: =S$14-($B$12/$E18) -> -381.74185 | T18: =T$14-($B$12/$E18) -> -131.74185 | U18: =U$14-($B$12/$E18) -> 118.25815 | V18: =V$14-($B$12/$E18) -> 368.25815 | W18: =W$14-($B$12/$E18) -> 618.25815 | X18: =X$14-($B$12/$E18) -> 868.25815 | Y18: =Y$14-($B$12/$E18) -> 1118.2582 | Z18: =Z$14-($B$12/$E18) -> 1368.2582
A19: Aftrekkings / Deductions | B19: =D4 -> 286.29 | E19: =E18+0.5 -> 13 | F19: =F$14-($B$14/$E19) -> -1029.3929 | G19: =G$14-($B$14/$E19) -> -779.39293 | H19: =H$14-($B$14/$E19) -> -529.39293 | I19: =I$14-($B$14/$E19) -> -279.39293 | J19: =J$14-($B$14/$E19) -> -29.39293 | K19: =K$14-($B$14/$E19) -> 220.60707 | L19: =L$14-($B$14/$E19) -> 470.60707 | M19: =M$14-($B$14/$E19) -> 720.60707 | N19: =N$14-($B$14/$E19) -> 970.60707 | Q19: =Q18+0.5 -> 13 | R19: =R$14-($B$12/$E19) -> -496.26293 | S19: =S$14-($B$12/$E19) -> -246.26293 | T19: =T$14-($B$12/$E19) -> 3.7370704 | U19: =U$14-($B$12/$E19) -> 253.73707 | V19: =V$14-($B$12/$E19) -> 503.73707 | W19: =W$14-($B$12/$E19) -> 753.73707 | X19: =X$14-($B$12/$E19) -> 1003.7371 | Y19: =Y$14-($B$12/$E19) -> 1253.7371 | Z19: =Z$14-($B$12/$E19) -> 1503.7371
A20: Produsenteprys/ Producer price (R/ton) | B20: =B18-B19 -> 3890.71
A24: Sonneblom / Sunflower | D24: SONNEBLOM: SENSITIWITEITSANALISE - TOTALE KOSTES ( DIREKTE KOSTE + VASTE KOSTE) (R/ton) | P24: SONNEBLOM: SENSITIWITEITSANALISE - DIREKTE KOSTE (R/ton)
A25: Lopendekoste / Variable cost (R/ha) | B25: ='Crop Comparison'!E28 -> 14366.253 | J25: Huidig | V25: Huidig
A26: Oorhoofse koste / Overhead cost (R/ha) | B26: ='Crop Comparison'!E30 -> 5934.62 | D26: SAFEX prys / price(R/ton) | F26: =G26-200 -> 9200 | G26: =H26-200 -> 9400 | H26: =I26-200 -> 9600 | I26: =J26-200 -> 9800 | J26: =B31 -> 10000 | K26: =J26+200 -> 10200 | L26: =K26+200 -> 10400 | M26: =L26+200 -> 10600 | N26: =M26+200 -> 10800 | P26: SAFEX prys / price(R/ton) | R26: =S26-200 -> 9200 | S26: =T26-200 -> 9400 | T26: =U26-200 -> 9600 | U26: =V26-200 -> 9800 | V26: =J26 -> 10000 | W26: =V26+200 -> 10200 | X26: =W26+200 -> 10400 | Y26: =X26+200 -> 10600 | Z26: =Y26+200 -> 10800
A27: Totale Koste / Total cost (R/ha) | B27: =B26+B25 -> 20300.873 | D27: Produsenteprys/ Producer price | F27: =F26-$B$32 -> 8754.45 | G27: =G26-$B$32 -> 8954.45 | H27: =H26-$B$32 -> 9154.45 | I27: =I26-$B$32 -> 9354.45 | J27: =J26-$B$32 -> 9554.45 | K27: =K26-$B$32 -> 9754.45 | L27: =L26-$B$32 -> 9954.45 | M27: =M26-$B$32 -> 10154.45 | N27: =N26-$B$32 -> 10354.45 | P27: Produsenteprys/ Producer price | R27: =R26-$B$32 -> 8754.45 | S27: =S26-$B$32 -> 8954.45 | T27: =T26-$B$32 -> 9154.45 | U27: =U26-$B$32 -> 9354.45 | V27: =V26-$B$32 -> 9554.45 | W27: =W26-$B$32 -> 9754.45 | X27: =X26-$B$32 -> 9954.45 | Y27: =Y26-$B$32 -> 10154.45 | Z27: =Z26-$B$32 -> 10354.45
D28: Opbrengs / Yield (t/ha) | E28: =E29-0.25 -> 1.5 | F28: =F$27-($B$27/$E28) -> -4779.4653 | G28: =G$27-($B$27/$E28) -> -4579.4653 | H28: =H$27-($B$27/$E28) -> -4379.4653 | I28: =I$27-($B$27/$E28) -> -4179.4653 | J28: =J$27-($B$27/$E28) -> -3979.4653 | K28: =K$27-($B$27/$E28) -> -3779.4653 | L28: =L$27-($B$27/$E28) -> -3579.4653 | M28: =M$27-($B$27/$E28) -> -3379.4653 | N28: =N$27-($B$27/$E28) -> -3179.4653 | P28: Opbrengs / Yield (t/ha) | Q28: =Q29-0.25 -> 1.5 | R28: =R$27-($B$25/$E28) -> -823.05195 | S28: =S$27-($B$25/$E28) -> -623.05195 | T28: =T$27-($B$25/$E28) -> -423.05195 | U28: =U$27-($B$25/$E28) -> -223.05195 | V28: =V$27-($B$25/$E28) -> -23.051955 | W28: =W$27-($B$25/$E28) -> 176.94805 | X28: =X$27-($B$25/$E28) -> 376.94805 | Y28: =Y$27-($B$25/$E28) -> 576.94805 | Z28: =Z$27-($B$25/$E28) -> 776.94805
A29: Gemid Opbrengs / Average Yield (t/ha) | B29: 2 | E29: =E30-0.25 -> 1.75 | F29: =F$27-($B$27/$E29) -> -2846.0488 | G29: =G$27-($B$27/$E29) -> -2646.0488 | H29: =H$27-($B$27/$E29) -> -2446.0488 | I29: =I$27-($B$27/$E29) -> -2246.0488 | J29: =J$27-($B$27/$E29) -> -2046.0488 | K29: =K$27-($B$27/$E29) -> -1846.0488 | L29: =L$27-($B$27/$E29) -> -1646.0488 | M29: =M$27-($B$27/$E29) -> -1446.0488 | N29: =N$27-($B$27/$E29) -> -1246.0488 | Q29: =Q30-0.25 -> 1.75 | R29: =R$27-($B$25/$E29) -> 545.16261 | S29: =S$27-($B$25/$E29) -> 745.16261 | T29: =T$27-($B$25/$E29) -> 945.16261 | U29: =U$27-($B$25/$E29) -> 1145.1626 | V29: =V$27-($B$25/$E29) -> 1345.1626 | W29: =W$27-($B$25/$E29) -> 1545.1626 | X29: =X$27-($B$25/$E29) -> 1745.1626 | Y29: =Y$27-($B$25/$E29) -> 1945.1626 | Z29: =Z$27-($B$25/$E29) -> 2145.1626
E30: =B29 -> 2 | F30: =F$27-($B$27/$E30) -> -1395.9865 | G30: =G$27-($B$27/$E30) -> -1195.9865 | H30: =H$27-($B$27/$E30) -> -995.98647 | I30: =I$27-($B$27/$E30) -> -795.98647 | J30: =J$27-($B$27/$E30) -> -595.98647 | K30: =K$27-($B$27/$E30) -> -395.98647 | L30: =L$27-($B$27/$E30) -> -195.98647 | M30: =M$27-($B$27/$E30) -> 4.013534 | N30: =N$27-($B$27/$E30) -> 204.01353 | Q30: =E30 -> 2 | R30: =R$27-($B$25/$E30) -> 1571.3235 | S30: =S$27-($B$25/$E30) -> 1771.3235 | T30: =T$27-($B$25/$E30) -> 1971.3235 | U30: =U$27-($B$25/$E30) -> 2171.3235 | V30: =V$27-($B$25/$E30) -> 2371.3235 | W30: =W$27-($B$25/$E30) -> 2571.3235 | X30: =X$27-($B$25/$E30) -> 2771.3235 | Y30: =Y$27-($B$25/$E30) -> 2971.3235 | Z30: =Z$27-($B$25/$E30) -> 3171.3235
A31: SAFEX Mar'27 WM 1 prys/price (R/ton) | B31: =B5 -> 10000 | E31: =E30+0.25 -> 2.25 | F31: =F$27-($B$27/$E31) -> -268.16019 | G31: =G$27-($B$27/$E31) -> -68.160192 | H31: =H$27-($B$27/$E31) -> 131.83981 | I31: =I$27-($B$27/$E31) -> 331.83981 | J31: =J$27-($B$27/$E31) -> 531.83981 | K31: =K$27-($B$27/$E31) -> 731.83981 | L31: =L$27-($B$27/$E31) -> 931.83981 | M31: =M$27-($B$27/$E31) -> 1131.8398 | N31: =N$27-($B$27/$E31) -> 1331.8398 | Q31: =Q30+0.25 -> 2.25 | R31: =R$27-($B$25/$E31) -> 2369.4487 | S31: =S$27-($B$25/$E31) -> 2569.4487 | T31: =T$27-($B$25/$E31) -> 2769.4487 | U31: =U$27-($B$25/$E31) -> 2969.4487 | V31: =V$27-($B$25/$E31) -> 3169.4487 | W31: =W$27-($B$25/$E31) -> 3369.4487 | X31: =X$27-($B$25/$E31) -> 3569.4487 | Y31: =Y$27-($B$25/$E31) -> 3769.4487 | Z31: =Z$27-($B$25/$E31) -> 3969.4487
A32: Aftrekkings / Deductions | B32: =D5 -> 445.55 | E32: =E31+0.25 -> 2.5 | F32: =F$27-($B$27/$E32) -> 634.10083 | G32: =G$27-($B$27/$E32) -> 834.10083 | H32: =H$27-($B$27/$E32) -> 1034.1008 | I32: =I$27-($B$27/$E32) -> 1234.1008 | J32: =J$27-($B$27/$E32) -> 1434.1008 | K32: =K$27-($B$27/$E32) -> 1634.1008 | L32: =L$27-($B$27/$E32) -> 1834.1008 | M32: =M$27-($B$27/$E32) -> 2034.1008 | N32: =N$27-($B$27/$E32) -> 2234.1008 | Q32: =Q31+0.25 -> 2.5 | R32: =R$27-($B$25/$E32) -> 3007.9488 | S32: =S$27-($B$25/$E32) -> 3207.9488 | T32: =T$27-($B$25/$E32) -> 3407.9488 | U32: =U$27-($B$25/$E32) -> 3607.9488 | V32: =V$27-($B$25/$E32) -> 3807.9488 | W32: =W$27-($B$25/$E32) -> 4007.9488 | X32: =X$27-($B$25/$E32) -> 4207.9488 | Y32: =Y$27-($B$25/$E32) -> 4407.9488 | Z32: =Z$27-($B$25/$E32) -> 4607.9488
A33: Produsenteprys/ Producer price (R/ton) | B33: =B31-B32 -> 9554.45
A37: Sojabone Soyabean | D37: SOJABONE: SENSITIWITEITSANALISE - TOTALE KOSTES ( DIREKTE KOSTE + VASTE KOSTE) (R/ton) | P37: SOJABONE: SENSITIWITEITSANALISE - DIREKTE KOSTE (R/ton)
A38: Lopendekoste / Variable cost (R/ha) | B38: ='Crop Comparison'!C28 -> 26066.441 | J38: Huidige | V38: Huidige
A39: Oorhoofse koste / Overhead cost (R/ha) | B39: ='Crop Comparison'!C30 -> 6022.34 | D39: SAFEX prys / price(R/ton) | F39: =G39-200 -> 7545 | G39: =H39-200 -> 7745 | H39: =I39-200 -> 7945 | I39: =J39-200 -> 8145 | J39: =B44 -> 8345 | K39: =J39+200 -> 8545 | L39: =K39+200 -> 8745 | M39: =L39+200 -> 8945 | N39: =M39+200 -> 9145 | P39: SAFEX prys / price(R/ton) | R39: =S39-200 -> 7545 | S39: =T39-200 -> 7745 | T39: =U39-200 -> 7945 | U39: =V39-200 -> 8145 | V39: =J39 -> 8345 | W39: =V39+200 -> 8545 | X39: =W39+200 -> 8745 | Y39: =X39+200 -> 8945 | Z39: =Y39+200 -> 9145
A40: Totale Koste / Total cost (R/ha) | B40: =B39+B38 -> 32088.781 | D40: Produsenteprys/ Producer price | F40: =F39-$B$45 -> 7352.59 | G40: =G39-$B$45 -> 7552.59 | H40: =H39-$B$45 -> 7752.59 | I40: =I39-$B$45 -> 7952.59 | J40: =J39-$B$45 -> 8152.59 | K40: =K39-$B$45 -> 8352.59 | L40: =L39-$B$45 -> 8552.59 | M40: =M39-$B$45 -> 8752.59 | N40: =N39-$B$45 -> 8952.59 | P40: Produsenteprys/ Producer price | R40: =R39-$B$45 -> 7352.59 | S40: =S39-$B$45 -> 7552.59 | T40: =T39-$B$45 -> 7752.59 | U40: =U39-$B$45 -> 7952.59 | V40: =V39-$B$45 -> 8152.59 | W40: =W39-$B$45 -> 8352.59 | X40: =X39-$B$45 -> 8552.59 | Y40: =Y39-$B$45 -> 8752.59 | Z40: =Z39-$B$45 -> 8952.59
D41: Opbrengs / Yield (t/ha) | E41: =E42-0.25 -> 3 | F41: =F$40-($B$40/$E41) -> -3343.6703 | G41: =G$40-($B$40/$E41) -> -3143.6703 | H41: =H$40-($B$40/$E41) -> -2943.6703 | I41: =I$40-($B$40/$E41) -> -2743.6703 | J41: =J$40-($B$40/$E41) -> -2543.6703 | K41: =K$40-($B$40/$E41) -> -2343.6703 | L41: =L$40-($B$40/$E41) -> -2143.6703 | M41: =M$40-($B$40/$E41) -> -1943.6703 | N41: =N$40-($B$40/$E41) -> -1743.6703 | P41: Opbrengs / Yield (t/ha) | Q41: =Q42-0.25 -> 3 | R41: =R$40-($B$38/$E41) -> -1336.2237 | S41: =S$40-($B$38/$E41) -> -1136.2237 | T41: =T$40-($B$38/$E41) -> -936.22368 | U41: =U$40-($B$38/$E41) -> -736.22368 | V41: =V$40-($B$38/$E41) -> -536.22368 | W41: =W$40-($B$38/$E41) -> -336.22368 | X41: =X$40-($B$38/$E41) -> -136.22368 | Y41: =Y$40-($B$38/$E41) -> 63.776319 | Z41: =Z$40-($B$38/$E41) -> 263.77632
A42: Gemid Opbrengs / Average Yield (t/ha) | B42: 3.5 | E42: =E43-0.25 -> 3.25 | F42: =F$40-($B$40/$E42) -> -2520.8811 | G42: =G$40-($B$40/$E42) -> -2320.8811 | H42: =H$40-($B$40/$E42) -> -2120.8811 | I42: =I$40-($B$40/$E42) -> -1920.8811 | J42: =J$40-($B$40/$E42) -> -1720.8811 | K42: =K$40-($B$40/$E42) -> -1520.8811 | L42: =L$40-($B$40/$E42) -> -1320.8811 | M42: =M$40-($B$40/$E42) -> -1120.8811 | N42: =N$40-($B$40/$E42) -> -920.88109 | Q42: =Q43-0.25 -> 3.25 | R42: =R$40-($B$38/$E42) -> -667.8534 | S42: =S$40-($B$38/$E42) -> -467.8534 | T42: =T$40-($B$38/$E42) -> -267.8534 | U42: =U$40-($B$38/$E42) -> -67.853398 | V42: =V$40-($B$38/$E42) -> 132.1466 | W42: =W$40-($B$38/$E42) -> 332.1466 | X42: =X$40-($B$38/$E42) -> 532.1466 | Y42: =Y$40-($B$38/$E42) -> 732.1466 | Z42: =Z$40-($B$38/$E42) -> 932.1466
E43: =B42 -> 3.5 | F43: =F$40-($B$40/$E43) -> -1815.6332 | G43: =G$40-($B$40/$E43) -> -1615.6332 | H43: =H$40-($B$40/$E43) -> -1415.6332 | I43: =I$40-($B$40/$E43) -> -1215.6332 | J43: =J$40-($B$40/$E43) -> -1015.6332 | K43: =K$40-($B$40/$E43) -> -815.63316 | L43: =L$40-($B$40/$E43) -> -615.63316 | M43: =M$40-($B$40/$E43) -> -415.63316 | N43: =N$40-($B$40/$E43) -> -215.63316 | Q43: =E43 -> 3.5 | R43: =R$40-($B$38/$E43) -> -94.964584 | S43: =S$40-($B$38/$E43) -> 105.03542 | T43: =T$40-($B$38/$E43) -> 305.03542 | U43: =U$40-($B$38/$E43) -> 505.03542 | V43: =V$40-($B$38/$E43) -> 705.03542 | W43: =W$40-($B$38/$E43) -> 905.03542 | X43: =X$40-($B$38/$E43) -> 1105.0354 | Y43: =Y$40-($B$38/$E43) -> 1305.0354 | Z43: =Z$40-($B$38/$E43) -> 1505.0354
A44: SAFEX Mei'27 Soy prys/price (R/ton) | B44: =B6 -> 8345 | E44: =E43+0.25 -> 3.75 | F44: =F$40-($B$40/$E44) -> -1204.4183 | G44: =G$40-($B$40/$E44) -> -1004.4183 | H44: =H$40-($B$40/$E44) -> -804.41828 | I44: =I$40-($B$40/$E44) -> -604.41828 | J44: =J$40-($B$40/$E44) -> -404.41828 | K44: =K$40-($B$40/$E44) -> -204.41828 | L44: =L$40-($B$40/$E44) -> -4.4182783 | M44: =M$40-($B$40/$E44) -> 195.58172 | N44: =N$40-($B$40/$E44) -> 395.58172 | Q44: =Q43+0.25 -> 3.75 | R44: =R$40-($B$38/$E44) -> 401.53906 | S44: =S$40-($B$38/$E44) -> 601.53906 | T44: =T$40-($B$38/$E44) -> 801.53906 | U44: =U$40-($B$38/$E44) -> 1001.5391 | V44: =V$40-($B$38/$E44) -> 1201.5391 | W44: =W$40-($B$38/$E44) -> 1401.5391 | X44: =X$40-($B$38/$E44) -> 1601.5391 | Y44: =Y$40-($B$38/$E44) -> 1801.5391 | Z44: =Z$40-($B$38/$E44) -> 2001.5391
A45: Aftrekkings / Deductions | B45: =D6 -> 192.41 | E45: =E44+0.25 -> 4 | F45: =F$40-($B$40/$E45) -> -669.60526 | G45: =G$40-($B$40/$E45) -> -469.60526 | H45: =H$40-($B$40/$E45) -> -269.60526 | I45: =I$40-($B$40/$E45) -> -69.605261 | J45: =J$40-($B$40/$E45) -> 130.39474 | K45: =K$40-($B$40/$E45) -> 330.39474 | L45: =L$40-($B$40/$E45) -> 530.39474 | M45: =M$40-($B$40/$E45) -> 730.39474 | N45: =N$40-($B$40/$E45) -> 930.39474 | Q45: =Q44+0.25 -> 4 | R45: =R$40-($B$38/$E45) -> 835.97974 | S45: =S$40-($B$38/$E45) -> 1035.9797 | T45: =T$40-($B$38/$E45) -> 1235.9797 | U45: =U$40-($B$38/$E45) -> 1435.9797 | V45: =V$40-($B$38/$E45) -> 1635.9797 | W45: =W$40-($B$38/$E45) -> 1835.9797 | X45: =X$40-($B$38/$E45) -> 2035.9797 | Y45: =Y$40-($B$38/$E45) -> 2235.9797 | Z45: =Z$40-($B$38/$E45) -> 2435.9797
A46: Produsenteprys/ Producer price (R/ton) | B46: =B44-B45 -> 8152.59
A50: Sorghum | D50: SORGHUM: SENSITIWITEITSANALISE - TOTALE KOSTES ( DIREKTE KOSTE + VASTE KOSTE) (R/ton) | P50: SORGHUM: SENSITIWITEITSANALISE - DIREKTE KOSTE (R/ton)
A51: Lopendekoste / Variable cost (R/ha) | B51: ='Crop Comparison'!D28 -> 16162.026 | J51: Huidige | V51: Huidige
A52: Oorhoofse koste / Overhead cost (R/ha) | B52: ='Crop Comparison'!D30 -> 7215.57 | D52: SAFEX prys / price(R/ton) | F52: =G52-200 -> 2700 | G52: =H52-200 -> 2900 | H52: =I52-200 -> 3100 | I52: =J52-200 -> 3300 | J52: =B57 -> 3500 | K52: =J52+200 -> 3700 | L52: =K52+200 -> 3900 | M52: =L52+200 -> 4100 | N52: =M52+200 -> 4300 | P52: SAFEX prys / price(R/ton) | R52: =S52-200 -> 2700 | S52: =T52-200 -> 2900 | T52: =U52-200 -> 3100 | U52: =V52-200 -> 3300 | V52: =J52 -> 3500 | W52: =V52+200 -> 3700 | X52: =W52+200 -> 3900 | Y52: =X52+200 -> 4100 | Z52: =Y52+200 -> 4300
...

Sheet Bes-mielies
A1: Produsent prys raming vir BESPROEIING MIELIES vir die / Producer price framework for IRRIGATION MAIZE for the | E1: PRODUKSIEJAAR 2026-27 PRODUCTION YEAR 2026-27
A3: Huidige Produkprys op plaas vir beste graad / Current product price for the best grade (R/TON) (Safex min bemarkingskoste/marketing cost) | E3: ='Pryse + Sensatiwiteitsanalise'!B20 -> 3890.71 | F3: Rand/ton
A5: Beplanningsopbrengs / Estimated yields (ton/ha) | D5: 9 | E5: 10 | F5: 12 | G5: 14 | H5: 15 | I5: 16
A6: Bruto produksiewaarde / Gross production value (R/ha) | D6: 34813.89 | E6: 38682.1 | F6: 46418.52 | G6: 54154.94 | H6: 58023.15 | I6: 61891.36
Z7: Mielies
A8: Direk Toedeelbare veranderlike koste / Direct Allocated Variable costs (R/ha) | Z8: Opbrengspeil | AA8: Lopende koste | AB8: Oorhoofse koste
A9: Saad / Seed | D9: 7093.125 | E9: 7093.125 | F9: 7093.125 | G9: 7093.125 | H9: 7093.125 | I9: 7093.125 | Z9: 9 | AA9: =D26 -> 44030.648 | AB9: =D28 -> 6930.69
A10: Kunsmis / Fertiliser | D10: 13513.4 | E10: 14926 | F10: 17751.2 | G10: 20576.4 | H10: 21989 | I10: 23401.6 | Z10: 10 | AA10: =E26 -> 47201.294 | AB10: =E28 -> 6930.69
A11: Kalk / Lime | D11: 800 | E11: 800 | F11: 800 | G11: 800 | H11: 800 | I11: 800 | Z11: 12 | AA11: =F26 -> 53527.479 | AB11: =F28 -> 6930.69
A12: Brandstof / Fuel | D12: 1842.6232 | E12: 1907.6232 | F12: 2024.6232 | G12: 2141.6232 | H12: 2206.6232 | I12: 2271.6232 | Z12: 14 | AA12: =G26 -> 59853.665 | AB12: =G28 -> 6930.69
A13: Reparasie / Reparation | D13: 1309.671 | E13: 1320.461 | F13: 1342.041 | G13: 1363.621 | H13: 1374.411 | I13: 1385.201 | Z13: 15 | AA13: =H26 -> 63024.311 | AB13: =H28 -> 6930.69
A14: Onkruiddoders / Herbicide | D14: 1836 | E14: 1836 | F14: 1836 | G14: 1836 | H14: 1836 | I14: 1836 | Z14: 16 | AA14: =I26 -> 66194.956 | AB14: =I28 -> 6930.69
A15: Plaagdoder / Pest control | D15: 1224 | E15: 1224 | F15: 1224 | G15: 1224 | H15: 1224 | I15: 1224
A16: Insetversekering / Input insurance
A17: Besproeiingskoste / Irrigation cost | D17: 8591 | E17: 9699.8 | F17: 11917.4 | G17: 14135 | H17: 15243.8 | I17: 16352.6
A18: Graanprysverskansing / Grain hedging | D18: 3547.1185 | E18: 3802.5464 | F18: 4312.1853 | G18: 4821.8242 | H18: 5077.2521 | I18: 5332.68
A19: Kontrakstroop / Contract Harvesting
A20: Oesversekering / Harvest insurance | D20: 1183.6723 | E20: 1315.1914 | F20: 1578.2297 | G20: 1841.268 | H20: 1972.7871 | I20: 2104.3062
A21: Lugspuit / Aerial spray | D21: 200 | E21: 200 | F21: 200 | G21: 200 | H21: 200 | I21: 200
A22: Losarbeid / Casual labour | D22: 300 | E22: 300 | F22: 300 | G22: 300 | H22: 300 | I22: 300
A23: Droogkoste / Drying cost
A24: Verpakking en Pakmateriaal / Packaging and packaging material
A25: Produksiekrediet rente / Interest on production R/ha | D25: 2590.0381 | E25: 2776.5467 | F25: 3148.6753 | G25: 3520.8038 | H25: 3707.3124 | I25: 3893.821
A26: Totale Direk Toedeelbare veranderlike koste / Total Direct Allocated Variable Cost (R/ha) | D26: =SUM(D9:D25) -> 44030.648 | E26: =SUM(E9:E25) -> 47201.294 | F26: =SUM(F9:F25) -> 53527.479 | G26: =SUM(G9:G25) -> 59853.665 | H26: =SUM(H9:H25) -> 63024.311 | I26: =SUM(I9:I25) -> 66194.956
A28: Totale Oorhoofse koste / Total overhead cost R/ha | D28: 6930.69 | E28: 6930.69 | F28: 6930.69 | G28: 6930.69 | H28: 6930.69 | I28: 6930.69
A30: Totale Koste per ha voor fisiese bemarking R/ha / Total cost per ha before marketing cost R/ha | D30: =D26+D28 -> 50961.338 | E30: =E26+E28 -> 54131.984 | F30: =F26+F28 -> 60458.169 | G30: =G26+G28 -> 66784.355 | H30: =H26+H28 -> 69955.001 | I30: =I26+I28 -> 73125.646
A32: Totale koste per ton voor fisiese bemarking R/Ton / Total cost per ton before marketing cost R/Ton | D32: =D30/D5 -> 5662.3709 | E32: =E30/E5 -> 5413.1984 | F32: =F30/F5 -> 5038.1808 | G32: =G30/G5 -> 4770.3111 | H32: =H30/H5 -> 4663.6667 | I32: =I30/I5 -> 4570.3529
A34: Totale bemarkingskoste / Total marketing cost R/ton | D34: ='Pryse + Sensatiwiteitsanalise'!$D$4 -> 286.29 | E34: ='Pryse + Sensatiwiteitsanalise'!$D$4 -> 286.29 | F34: ='Pryse + Sensatiwiteitsanalise'!$D$4 -> 286.29 | G34: ='Pryse + Sensatiwiteitsanalise'!$D$4 -> 286.29 | H34: ='Pryse + Sensatiwiteitsanalise'!$D$4 -> 286.29 | I34: ='Pryse + Sensatiwiteitsanalise'!$D$4 -> 286.29
A36: Verwagte minimum Safex prys SONDER wins/ Expected minimum Safex price, WITHOUT profit | D36: =D32+D34 -> 5948.6609 | E36: =E32+E34 -> 5699.4884 | F36: =F32+F34 -> 5324.4708 | G36: =G32+G34 -> 5056.6011 | H36: =H32+H34 -> 4949.9567 | I36: =I32+I34 -> 4856.6429
A37: Huidige Safex prys / Current Safex price | D37: ='Pryse + Sensatiwiteitsanalise'!B4 -> 4177 | E37: =$D$37 -> 4177 | F37: =$D$37 -> 4177 | G37: =$D$37 -> 4177 | H37: =$D$37 -> 4177 | I37: =$D$37 -> 4177
A39: BRUTO MARGE / GROSS MARGIN (R/ha) | D39: =D6-D26 -> -9216.7581 | E39: =E6-E26 -> -8519.1937 | F39: =F6-F26 -> -7108.9594 | G39: =G6-G26 -> -5698.7252 | H39: =H6-H26 -> -5001.1608 | I39: =I6-I26 -> -4303.5964
A40: NETTO MARGE / NETT MARGIN (R/ha) | D40: =D6-D30 -> -16147.448 | E40: =E6-E30 -> -15449.884 | F40: =F6-F30 -> -14039.649 | G40: =G6-G30 -> -12629.415 | H40: =H6-H30 -> -11931.851 | I40: =I6-I30 -> -11234.286
A41: Disclaimer: The information herein has been obtained from various sources, the accuracy and/or completeness of which Grain SA does not
A42: guarantee and for which Grain SA accepts no liability. Any prices or levels contained herein are preliminary and indicative only and do not
A43: represent bids or offers. These indications are provided solely for your information and consideration.
A44: Thank you to the Maize Trust for partially funding this project

Sheet Bes-soja
A1: Produsent prys raming vir BESPROEIING SOJABONE vir die / Producer price framework for IRRIGATION SOYBEANS for the | E1: PRODUKSIEJAAR 2026-27 PRODUCTION YEAR 2026-27
A3: Huidige Produkprys op plaas vir beste graad / Current product price for the best grade (R/TON) (Safex min bemarkingskoste/marketing cost) | E3: ='Pryse + Sensatiwiteitsanalise'!B46 -> 8152.59 | F3: Rand/ton
A5: Beplanningsopbrengs / Estimated yields (ton/ha) | D5: 2.5 | E5: 3 | F5: 3.5 | G5: 4 | H5: 5 | I5: 6
A6: Bruto produksiewaarde / Gross production value (R/ha) | D6: 20381.475 | E6: 24457.77 | F6: 28534.065 | G6: 32610.36 | H6: 40762.95 | I6: 48915.54
A8: Direk Toedeelbare veranderlike koste / Direct Allocated Variable costs (R/ha)
A9: Saad / Seed | D9: 3877.279 | E9: 3877.279 | F9: 3877.279 | G9: 3877.279 | H9: 3877.279 | I9: 4444.4708
A10: Kunsmis / Fertiliser | D10: 2311 | E10: 2700.4 | F10: 3089.8 | G10: 3479.2 | H10: 4258 | I10: 5036.8
A11: Kalk / Lime
A12: Brandstof / Fuel | D12: 1421.4232 | E12: 1447.4232 | F12: 1473.4232 | G12: 1499.4232 | H12: 1538.4232 | I12: 1577.4232
A13: Reparasie / Reparation | D13: 1536.2794 | E13: 1538.6561 | F13: 1541.0328 | G13: 1543.4094 | H13: 1548.1628 | I13: 1552.9161
A14: Onkruiddoders / Herbicide | D14: 1836 | E14: 1836 | F14: 1836 | G14: 1836 | H14: 1836 | I14: 1836
A15: Plaagdoder / Pest control | D15: 1836 | E15: 1836 | F15: 1836 | G15: 1836 | H15: 1836 | I15: 1836
A16: Insetversekering / Input insurance
A17: Besproeiingskoste / Irrigation cost | D17: 7957.4 | E17: 8274.2 | F17: 8591 | G17: 8987 | H17: 8591 | I17: 8591
A18: Graanprysverskansing / Grain hedging | D18: 1129.6268 | E18: 1177.9854 | F18: 1226.3439 | G18: 1278.6972 | H18: 1322.8276 | I18: 1415.5395
A19: Kontrakstroop / Contract Harvesting
A20: Oesversekering / Harvest insurance | D20: 1120.9811 | E20: 1345.1773 | F20: 1569.3736 | G20: 1793.5698 | H20: 2241.9623 | I20: 2690.3547
A21: Lugspuit / Aerial spray | D21: 200 | E21: 200 | F21: 200 | G21: 200 | H21: 200 | I21: 200
A22: Losarbeid / Casual labour | D22: 300 | E22: 300 | F22: 300 | G22: 300 | H22: 300 | I22: 300
A23: Droogkoste / Drying cost
A24: Verpakking en Pakmateriaal / Packaging and packaging material
A25: Produksiekrediet rente / Interest on production R/ha | D25: 1470.3743 | E25: 1533.3201 | F25: 1596.2658 | G25: 1664.4112 | H25: 1721.8534 | I25: 1842.5315
A26: Totale Direk Toedeelbare veranderlike koste / Total Direct Allocated Variable Cost (R/ha) | D26: =SUM(D9:D25) -> 24996.364 | E26: =SUM(E9:E25) -> 26066.441 | F26: =SUM(F9:F25) -> 27136.518 | G26: =SUM(G9:G25) -> 28294.99 | H26: =SUM(H9:H25) -> 29271.508 | I26: =SUM(I9:I25) -> 31323.036
A28: Totale Oorhoofse koste / Total overhead cost R/ha | D28: 6022.34 | E28: 6022.34 | F28: 6022.34 | G28: 6022.34 | H28: 6022.34 | I28: 6022.34
A30: Totale Koste per ha voor fisiese bemarking R/ha / Total cost per ha before marketing cost R/ha | D30: =D26+D28 -> 31018.704 | E30: =E26+E28 -> 32088.781 | F30: =F26+F28 -> 33158.858 | G30: =G26+G28 -> 34317.33 | H30: =H26+H28 -> 35293.848 | I30: =I26+I28 -> 37345.376
A32: Totale koste per ton voor fisiese bemarking R/Ton / Total cost per ton before marketing cost R/Ton | D32: =D30/D5 -> 12407.482 | E32: =E30/E5 -> 10696.26 | F32: =F30/F5 -> 9473.9595 | G32: =G30/G5 -> 8579.3324 | H32: =H30/H5 -> 7058.7696 | I32: =I30/I5 -> 6224.2293
A34: Totale bemarkingskoste / Total marketing cost R/ton | D34: ='Pryse + Sensatiwiteitsanalise'!$D$6 -> 192.41 | E34: ='Pryse + Sensatiwiteitsanalise'!$D$6 -> 192.41 | F34: ='Pryse + Sensatiwiteitsanalise'!$D$6 -> 192.41 | G34: ='Pryse + Sensatiwiteitsanalise'!$D$6 -> 192.41 | H34: ='Pryse + Sensatiwiteitsanalise'!$D$6 -> 192.41 | I34: ='Pryse + Sensatiwiteitsanalise'!$D$6 -> 192.41
A36: Verwagte minimum Safex prys SONDER wins/ Expected minimum Safex price, WITHOUT profit | D36: =D32+D34 -> 12599.892 | E36: =E32+E34 -> 10888.67 | F36: =F32+F34 -> 9666.3695 | G36: =G32+G34 -> 8771.7424 | H36: =H32+H34 -> 7251.1796 | I36: =I32+I34 -> 6416.6393
A37: Huidige Safex prys / Current Safex price | D37: ='Pryse + Sensatiwiteitsanalise'!B6 -> 8345 | E37: =$D$37 -> 8345 | F37: =$D$37 -> 8345 | G37: =$D$37 -> 8345 | H37: =$D$37 -> 8345 | I37: =$D$37 -> 8345
A39: BRUTO MARGE / GROSS MARGIN (R/ha) | D39: =D6-D26 -> -4614.8889 | E39: =E6-E26 -> -1608.671 | F39: =F6-F26 -> 1397.5468 | G39: =G6-G26 -> 4315.3703 | H39: =H6-H26 -> 11491.442 | I39: =I6-I26 -> 17592.504
A40: NETTO MARGE / NETT MARGIN (R/ha) | D40: =D6-D30 -> -10637.229 | E40: =E6-E30 -> -7631.011 | F40: =F6-F30 -> -4624.7932 | G40: =G6-G30 -> -1706.9697 | H40: =H6-H30 -> 5469.1018 | I40: =I6-I30 -> 11570.164
A41: Disclaimer: The information herein has been obtained from various sources, the accuracy and/or completeness of which Grain SA does not
A42: guarantee and for which Grain SA accepts no liability. Any prices or levels contained herein are preliminary and indicative only and do not
A43: represent bids or offers. These indications are provided solely for your information and consideration.
A44: Thank you to the Maize Trust for partially funding this project

Sheet Bes- Sorghum
A1: Produsent prys raming vir BESPROEIING GRAANSORGHUM vir die / Producer price framework for IRRIGATION GRAIN SORGHUM for the | E1: PRODUKSIEJAAR 2026-27 PRODUCTION YEAR 2026-27
A3: Huidige Produkprys op plaas vir beste graad / Current product price for the best grade (R/TON) (Safex min bemarkingskoste/marketing cost) | E3: ='Pryse + Sensatiwiteitsanalise'!B59 -> 3391.48 | F3: Rand/ton
A5: Beplanningsopbrengs / Estimated yields (ton/ha) | D5: 3 | E5: 4 | F5: 5 | G5: 6 | H5: 7 | I5: 8
A6: Bruto produksiewaarde / Gross production value (R/ha) | D6: 10129.44 | E6: 13505.92 | F6: 16882.4 | G6: 20258.88 | H6: 23635.36 | I6: 27011.84
Z7: Sorghum
A8: Direk Toedeelbare veranderlike koste / Direct Allocated Variable costs (R/ha) | Z8: Opbrengspeil | AA8: Lopende koste | AB8: Oorhoofse koste
A9: Saad / Seed | D9: 1072.2144 | E9: 1072.2144 | F9: 1072.2144 | G9: 1072.2144 | H9: 1072.2144 | I9: 1072.2144 | Z9: =D5 -> 3 | AA9: =D26 -> 16162.026 | AB9: =D28 -> 6774.08
A10: Kunsmis / Fertiliser | D10: 4078 | E10: 5204 | F10: 6330 | G10: 7456 | H10: 8582 | I10: 9708 | Z10: =E5 -> 4 | AA10: =E26 -> 18519.078 | AB10: =E28 -> 6774.08
A11: Kalk / Lime | Z11: =F5 -> 5 | AA11: =F26 -> 20876.13 | AB11: =F28 -> 6774.08
A12: Brandstof / Fuel | D12: 1888.3724 | E12: 1935.1724 | F12: 1981.9724 | G12: 2028.7724 | H12: 2075.5724 | I12: 2122.3724 | Z12: =G5 -> 6 | AA12: =G26 -> 23064.882 | AB12: =G28 -> 6774.08
A13: Reparasie / Reparation | D13: 1158.25 | E13: 1169.04 | F13: 1179.83 | G13: 1190.62 | H13: 1201.41 | I13: 1212.2 | Z13: =H5 -> 7 | AA13: =H26 -> 25253.634 | AB13: =H28 -> 6774.08
A14: Onkruiddoders / Herbicide | D14: 1503.2891 | E14: 1503.2891 | F14: 1503.2891 | G14: 1503.2891 | H14: 1503.2891 | I14: 1503.2891 | Z14: =I5 -> 8 | AA14: =I26 -> 27442.386 | AB14: =I28 -> 6774.08
A15: Plaagdoder / Pest control | D15: 323.75636 | E15: 323.75636 | F15: 323.75636 | G15: 323.75636 | H15: 323.75636 | I15: 323.75636
A16: Insetversekering / Input insurance
A17: Besproeiingskoste / Irrigation cost | D17: 4314.2 | E17: 5264.6 | F17: 6215 | G17: 7007 | H17: 7799 | I17: 8591
A18: Graanprysverskansing / Grain hedging
A19: Kontrakstroop / Contract Harvesting
A20: Oesversekering / Harvest insurance | D20: 253.236 | E20: 337.648 | F20: 422.06 | G20: 506.472 | H20: 590.884 | I20: 675.296
A21: Lugspuit / Aerial spray | D21: 320 | E21: 320 | F21: 320 | G21: 320 | H21: 320 | I21: 320
A22: Losarbeid / Casual labour | D22: 300 | E22: 300 | F22: 300 | G22: 300 | H22: 300 | I22: 300
A23: Droogkoste / Drying cost
A24: Verpakking en Pakmateriaal / Packaging and packaging material
A25: Produksiekrediet rente / Interest on production R/ha | D25: 950.70739 | E25: 1089.3575 | F25: 1228.0076 | G25: 1356.7578 | H25: 1485.5079 | I25: 1614.258
A26: Totale Direk Toedeelbare veranderlike koste / Total Direct Allocated Variable Cost (R/ha) | D26: =SUM(D9:D25) -> 16162.026 | E26: =SUM(E9:E25) -> 18519.078 | F26: =SUM(F9:F25) -> 20876.13 | G26: =SUM(G9:G25) -> 23064.882 | H26: =SUM(H9:H25) -> 25253.634 | I26: =SUM(I9:I25) -> 27442.386
A28: Totale Oorhoofse koste / Total overhead cost R/ha | D28: 6774.08 | E28: 6774.08 | F28: 6774.08 | G28: 6774.08 | H28: 6774.08 | I28: 6774.08
A30: Totale Koste per ha voor fisiese bemarking R/ha / Total cost per ha before marketing cost R/ha | D30: =D26+D28 -> 22936.106 | E30: =E26+E28 -> 25293.158 | F30: =F26+F28 -> 27650.21 | G30: =G26+G28 -> 29838.962 | H30: =H26+H28 -> 32027.714 | I30: =I26+I28 -> 34216.466
A32: Totale koste per ton voor fisiese bemarking R/Ton / Total cost per ton before marketing cost R/Ton | D32: =D30/D5 -> 7645.3686 | E32: =E30/E5 -> 6323.2894 | F32: =F30/F5 -> 5530.042 | G32: =G30/G5 -> 4973.1603 | H32: =H30/H5 -> 4575.3877 | I32: =I30/I5 -> 4277.0583
A34: Totale bemarkingskoste / Total marketing cost R/ton | D34: ='Pryse + Sensatiwiteitsanalise'!$D$7 -> 108.52 | E34: ='Pryse + Sensatiwiteitsanalise'!$D$7 -> 108.52 | F34: ='Pryse + Sensatiwiteitsanalise'!$D$7 -> 108.52 | G34: ='Pryse + Sensatiwiteitsanalise'!$D$7 -> 108.52 | H34: ='Pryse + Sensatiwiteitsanalise'!$D$7 -> 108.52 | I34: ='Pryse + Sensatiwiteitsanalise'!$D$7 -> 108.52
A36: Verwagte minimum Safex prys SONDER wins/ Expected minimum Safex price, WITHOUT profit | D36: =D32+D34 -> 7753.8886 | E36: =E32+E34 -> 6431.8094 | F36: =F32+F34 -> 5638.562 | G36: =G32+G34 -> 5081.6803 | H36: =H32+H34 -> 4683.9077 | I36: =I32+I34 -> 4385.5783
A37: Huidige Safex prys / Current Safex price | D37: ='Pryse + Sensatiwiteitsanalise'!B7 -> 3500 | E37: =$D$37 -> 3500 | F37: =$D$37 -> 3500 | G37: =$D$37 -> 3500 | H37: =$D$37 -> 3500 | I37: =$D$37 -> 3500
A39: BRUTO MARGE / GROSS MARGIN (R/ha) | D39: =D6-D26 -> -6032.5857 | E39: =E6-E26 -> -5013.1578 | F39: =F6-F26 -> -3993.7299 | G39: =G6-G26 -> -2806.002 | H39: =H6-H26 -> -1618.2742 | I39: =I6-I26 -> -430.5463
A40: NETTO MARGE / NETT MARGIN (R/ha) | D40: =D6-D30 -> -12806.666 | E40: =E6-E30 -> -11787.238 | F40: =F6-F30 -> -10767.81 | G40: =G6-G30 -> -9580.082 | H40: =H6-H30 -> -8392.3542 | I40: =I6-I30 -> -7204.6263
A41: Disclaimer: The information herein has been obtained from various sources, the accuracy and/or completeness of which Grain SA does not
A42: guarantee and for which Grain SA accepts no liability. Any prices or levels contained herein are preliminary and indicative only and do not
A43: represent bids or offers. These indications are provided solely for your information and consideration.
A44: Thank you to the Maize Trust for partially funding this project

Sheet Bes-Sonneblom
A1: Produsent prys raming vir BESPROEIING SONNEBLOM vir die / Producer price framework for IRRIGATION SUNFLOWER for the | E1: PRODUKSIEJAAR 2026-27 PRODUCTION YEAR 2026-27
A3: Huidige Produkprys op plaas vir beste graad / Current product price for the best grade (R/TON) (Safex min bemarkingskoste/marketing cost) | E3: ='Pryse + Sensatiwiteitsanalise'!B33 -> 9554.45 | F3: Rand/ton
A5: Beplanningsopbrengs / Estimated yields (ton/ha) | D5: 1,5 | E5: 2 | F5: 2,5 | G5: 3 | H5: 3,5 | I5: 4,00
A6: Bruto produksiewaarde / Gross production value (R/ha) | D6: 14331.675 | E6: 19108.9 | F6: 23886.125 | G6: 28663.35 | H6: 33440.575 | I6: 38217.8
Z7: Sonneblom
A8: Direk Toedeelbare veranderlike koste / Direct Allocated Variable costs (R/ha) | Z8: Opbrengspeil | AA8: Lopende koste | AB8: Oorhoofse koste
A9: Saad / Seed | D9: 1189.2647 | E9: 1189.2647 | F9: 1189.2647 | G9: 1189.2647 | H9: 1189.2647 | I9: 1189.2647 | Z9: =D5 -> 1,5 | AA9: =D26 -> 13033.168 | AB9: =D28 -> 5934.62
A10: Kunsmis / Fertiliser | D10: 1994.4 | E10: 2659.2 | F10: 3324 | G10: 3988.8 | H10: 4653.6 | I10: 5318.4 | Z10: =E5 -> 2 | AA10: =E26 -> 14366.253 | AB10: =E28 -> 5934.62
A11: Kalk / Lime | Z11: =F5 -> 2,5 | AA11: =F26 -> 15699.337 | AB11: =F28 -> 5934.62
A12: Brandstof / Fuel | D12: 2010.2344 | E12: 2033.5044 | F12: 2056.7744 | G12: 2080.0444 | H12: 2103.3144 | I12: 2126.5844 | Z12: =G5 -> 3 | AA12: =G26 -> 17470.835 | AB12: =G28 -> 5934.62
A13: Reparasie / Reparation | D13: 1094.735 | E13: 1100.13 | F13: 1105.525 | G13: 1110.92 | H13: 1116.315 | I13: 1121.71
A14: Onkruiddoders / Herbicide | D14: 1666.381 | E14: 1666.381 | F14: 1666.381 | G14: 1666.381 | H14: 1666.381 | I14: 1666.381
A15: Plaagdoder / Pest control | D15: 48.91104 | E15: 48.91104 | F15: 48.91104 | G15: 48.91104 | H15: 48.91104 | I15: 48.91104
A16: Insetversekering / Input insurance
A17: Besproeiingskoste / Irrigation cost | D17: 3047 | E17: 3443 | F17: 3839 | G17: 4631 | H17: 4463 | I17: 5063
A18: Graanprysverskansing / Grain hedging | D18: 495.1545 | E18: 545.70392 | F18: 596.25334 | G18: 663.42701 | H18: 690.29946 | I18: 749.41289
A19: Kontrakstroop / Contract Harvesting | D19: 400 | E19: 400 | F19: 400 | G19: 400 | H19: 400 | I19: 400
A20: Oesversekering / Harvest insurance | D20: 343.9602 | E20: 458.6136 | F20: 573.267 | G20: 687.9204 | H20: 802.5738 | I20: 917.2272
A21: Lugspuit / Aerial spray
A22: Losarbeid / Casual labour
A23: Droogkoste / Drying cost
A24: Verpakking en Pakmateriaal / Packaging and packaging material
A25: Produksiekrediet rente / Interest on production R/ha | D25: 743.12755 | E25: 821.54429 | F25: 899.96103 | G25: 1004.1668 | H25: 1045.8537 | I25: 1137.5557
A26: Totale Direk Toedeelbare veranderlike koste / Total Direct Allocated Variable Cost (R/ha) | D26: =SUM(D9:D25) -> 13033.168 | E26: =SUM(E9:E25) -> 14366.253 | F26: =SUM(F9:F25) -> 15699.337 | G26: =SUM(G9:G25) -> 17470.835 | H26: =SUM(H9:H25) -> 18179.513 | I26: =SUM(I9:I25) -> 19738.447
A28: Totale Oorhoofse koste / Total overhead cost R/ha | D28: 5934.62 | E28: 5934.62 | F28: 5934.62 | G28: 5934.62 | H28: 5934.62 | I28: 5934.62
A30: Totale Koste per ha voor fisiese bemarking R/ha / Total cost per ha before marketing cost R/ha | D30: =D26+D28 -> 18967.788 | E30: =E26+E28 -> 20300.873 | F30: =F26+F28 -> 21633.957 | G30: =G26+G28 -> 23405.455 | H30: =H26+H28 -> 24114.133 | I30: =I26+I28 -> 25673.067
A32: Totale koste per ton voor fisiese bemarking R/Ton / Total cost per ton before marketing cost R/Ton | D32: =D30/D5 -> 12645.192 | E32: =E30/E5 -> 10150.436 | F32: =F30/F5 -> 8653.583 | G32: =G30/G5 -> 7801.8184 | H32: =H30/H5 -> 6889.7523 | I32: =I30/I5 -> 6418.2667
A34: Totale bemarkingskoste / Total marketing cost R/ton | D34: ='Pryse + Sensatiwiteitsanalise'!$D$5 -> 445.55 | E34: ='Pryse + Sensatiwiteitsanalise'!$D$5 -> 445.55 | F34: ='Pryse + Sensatiwiteitsanalise'!$D$5 -> 445.55 | G34: ='Pryse + Sensatiwiteitsanalise'!$D$5 -> 445.55 | H34: ='Pryse + Sensatiwiteitsanalise'!$D$5 -> 445.55 | I34: ='Pryse + Sensatiwiteitsanalise'!$D$5 -> 445.55
A36: Verwagte minimum Safex prys SONDER wins/ Expected minimum Safex price, WITHOUT profit | D36: =D32+D34 -> 13090.742 | E36: =E32+E34 -> 10595.986 | F36: =F32+F34 -> 9099.133 | G36: =G32+G34 -> 8247.3684 | H36: =H32+H34 -> 7335.3023 | I36: =I32+I34 -> 6863.8167
A37: Huidige Safex prys / Current Safex price | D37: ='Pryse + Sensatiwiteitsanalise'!B5 -> 10000 | E37: =$D$37 -> 10000 | F37: =$D$37 -> 10000 | G37: =$D$37 -> 10000 | H37: =$D$37 -> 10000 | I37: =$D$37 -> 10000
A39: BRUTO MARGE / GROSS MARGIN (R/ha) | D39: =D6-D26 -> 1298.5066 | E39: =E6-E26 -> 4742.6471 | F39: =F6-F26 -> 8186.7875 | G39: =G6-G26 -> 11192.515 | H39: =H6-H26 -> 15261.062 | I39: =I6-I26 -> 18479.353
A40: NETTO MARGE / NETT MARGIN (R/ha) | D40: =D6-D30 -> -4636.1134 | E40: =E6-E30 -> -1191.9729 | F40: =F6-F30 -> 2252.1675 | G40: =G6-G30 -> 5257.8947 | H40: =H6-H30 -> 9326.4419 | I40: =I6-I30 -> 12544.733
A41: Disclaimer: The information herein has been obtained from various sources, the accuracy and/or completeness of which Grain SA does not
A42: guarantee and for which Grain SA accepts no liability. Any prices or levels contained herein are preliminary and indicative only and do not
A43: represent bids or offers. These indications are provided solely for your information and consideration.
A44: Thank you to the Maize Trust for partially funding this project

Sheet Crop Comparison
A1: LIMPOPO INCOME & COST BUDGETS - SUMMER CROPS 2026/27 | B1: Column1 | C1: Column2 | D1: Column3 | E1: Column4
A2: Crop | B2: ='[1]Rent calculations'!B2 -> Irr-Maize | C2: ='[1]Rent calculations'!C2 -> Irr-Soy | D2: ='[1]Rent calculations'!D2 -> Irr-Sorghum | E2: ='[1]Rent calculations'!E2 -> Irr-Sunflower | H2: Limpopo dry land 5-year average (2020/21-2024/25 production seasons)
A3: 1) INCOME | H3: Yellow Maize | I3: 8.2
A4: Yield target (ton/ha) | B4: =I3 -> 8.2 | C4: =I4 -> 3.38 | D4: =I6 -> 2.5 | E4: 2 | H4: Soybeans | I4: 3.38
A5: SAFEX: Estimated Price | B5: ='Pryse + Sensatiwiteitsanalise'!B4 -> 4177 | C5: ='Pryse + Sensatiwiteitsanalise'!B6 -> 8345 | D5: ='Pryse + Sensatiwiteitsanalise'!B7 -> 3500 | E5: ='Pryse + Sensatiwiteitsanalise'!B5 -> 10000 | H5: Sunflowers | I5: 0.83
A6: Deductions | B6: ='Pryse + Sensatiwiteitsanalise'!D4 -> 286.29 | C6: ='Pryse + Sensatiwiteitsanalise'!D6 -> 192.41 | D6: ='Pryse + Sensatiwiteitsanalise'!D7 -> 108.52 | E6: ='Pryse + Sensatiwiteitsanalise'!D5 -> 445.55 | H6: Sorghum | I6: 2.5
A7: Net Farm Gate Price | B7: =B5-B6 -> 3890.71 | C7: =C5-C6 -> 8152.59 | D7: =D5-D6 -> 3391.48 | E7: =E5-E6 -> 9554.45
A8: GROSS INCOME (R/ha) | B8: =B4*B7 -> 31903.822 | C8: =C4*C7 -> 27555.754 | D8: =D4*D7 -> 8478.7 | E8: =E4*E7 -> 19108.9
A10: 2) VARIABLE EXPENDITURES
A11: Saad / Seed | B11: ='Bes-mielies'!D9 -> 7093.125 | C11: ='Bes-soja'!E9 -> 3877.279 | D11: ='Bes- Sorghum'!D9 -> 1072.2144 | E11: ='Bes-Sonneblom'!E9 -> 1189.2647
A12: Kunsmis / Fertiliser | B12: ='Bes-mielies'!D10 -> 13513.4 | C12: ='Bes-soja'!E10 -> 2700.4 | D12: ='Bes- Sorghum'!D10 -> 4078 | E12: ='Bes-Sonneblom'!E10 -> 2659.2
A13: Kalk / Lime | B13: ='Bes-mielies'!D11 -> 800
A14: Brandstof / Fuel | B14: ='Bes-mielies'!D12 -> 1842.6232 | C14: ='Bes-soja'!E12 -> 1447.4232 | D14: ='Bes- Sorghum'!D12 -> 1888.3724 | E14: ='Bes-Sonneblom'!E12 -> 2033.5044
A15: Reparasie / Reparation | B15: ='Bes-mielies'!D13 -> 1309.671 | C15: ='Bes-soja'!E13 -> 1538.6561 | D15: ='Bes- Sorghum'!D13 -> 1158.25 | E15: ='Bes-Sonneblom'!E13 -> 1100.13
A16: Onkruiddoders / Herbicide | B16: ='Bes-mielies'!D14 -> 1836 | C16: ='Bes-soja'!E14 -> 1836 | D16: ='Bes- Sorghum'!D14 -> 1503.2891 | E16: ='Bes-Sonneblom'!E14 -> 1666.381
A17: Plaagdoder / Pest control | B17: ='Bes-mielies'!D15 -> 1224 | C17: ='Bes-soja'!E15 -> 1836 | D17: ='Bes- Sorghum'!D15 -> 323.75636 | E17: ='Bes-Sonneblom'!E15 -> 48.91104
A18: Insetversekering / Input insurance
A19: Besproeiingskoste / Irrigation cost | B19: ='Bes-mielies'!D17 -> 8591 | C19: ='Bes-soja'!E17 -> 8274.2 | D19: ='Bes- Sorghum'!D17 -> 4314.2 | E19: ='Bes-Sonneblom'!E17 -> 3443
A20: Graanprysverskansing / Grain hedging | B20: ='Bes-mielies'!D18 -> 3547.1185 | C20: ='Bes-soja'!E18 -> 1177.9854 | E20: ='Bes-Sonneblom'!E18 -> 545.70392
A21: Kontrakstroop / Contract Harvesting | E21: ='Bes-Sonneblom'!E19 -> 400
A22: Oesversekering / Harvest insurance | B22: ='Bes-mielies'!D20 -> 1183.6723 | C22: ='Bes-soja'!E20 -> 1345.1773 | D22: ='Bes- Sorghum'!D20 -> 253.236 | E22: ='Bes-Sonneblom'!E20 -> 458.6136
A23: Lugspuit / Aerial spray | B23: ='Bes-mielies'!D21 -> 200 | C23: ='Bes-soja'!E21 -> 200 | D23: ='Bes- Sorghum'!D21 -> 320
A24: Losarbeid / Casual labour | B24: ='Bes-mielies'!D22 -> 300 | C24: ='Bes-soja'!E22 -> 300 | D24: ='Bes- Sorghum'!D22 -> 300
A25: Droogkoste / Drying cost
A26: Verpakking en Pakmateriaal / Packaging and packaging material
A27: Produksiekrediet rente / Interest on production R/ha | B27: ='Bes-mielies'!D25 -> 2590.0381 | C27: ='Bes-soja'!E25 -> 1533.3201 | D27: ='Bes- Sorghum'!D25 -> 950.70739 | E27: ='Bes-Sonneblom'!E25 -> 821.54429
A28: TOTAL VARIABLE EXPENDITURE (R/ha) | B28: =SUM(B11:B27) -> 44030.648 | C28: =SUM(C11:C27) -> 26066.441 | D28: =SUM(D11:D27) -> 16162.026 | E28: ='Bes-Sonneblom'!E26 -> 14366.253
A30: TOTAL FIXED COST (R/ha) | B30: ='Bes-mielies'!D28 -> 6930.69 | C30: ='Bes-soja'!E28 -> 6022.34 | D30: ='[2]Crop Comparison'!$D$30 -> 7215.57 | E30: ='Bes-Sonneblom'!E28 -> 5934.62
A32: TOTAL COST (R/ha) | B32: =B28+B30 -> 50961.338 | C32: =C28+C30 -> 32088.781 | D32: =D28+D30 -> 23377.596 | E32: =E28+E30 -> 20300.873
A34: 3) GROSS MARGIN (R/ha) | B34: =B8-B28 -> -12126.826 | C34: =C8-C28 -> 1489.3132 | D34: =D8-D28 -> -7683.3257 | E34: =E8-E28 -> 4742.6471
A35: 4) NETT MARGIN (R/ha) | B35: =B8-B32 -> -19057.516 | C35: =C8-C32 -> -4533.0268 | D35: =D8-D32 -> -14898.896 | E35: =E8-E32 -> -1191.9729
A37: Disclaimer: The information herein has been obtained from various sources, the accuracy and/or completeness of which Grain SA does not guarantee and for which Grain SA accepts no liability. Any prices or levels contained herein are preliminary and indicative only and do not represent bids or offers. These indications are provided solely for your information and consideration.
A58: SUMMARY
B59: =B2 -> Irr-Maize | C59: =C2 -> Irr-Soy | D59: =D2 -> Irr-Sorghum | E59: =E2 -> Irr-Sunflower
A60: SAFEX: Estimated Price | B60: =B5 -> 4177 | C60: =C5 -> 8345 | D60: =D5 -> 3500 | E60: =E5 -> 10000
A61: LGO (ton/ha) | B61: =B4 -> 8.2 | C61: =C4 -> 3.38 | D61: =D4 -> 2.5 | E61: =E4 -> 2
A63: 1) INCOME
A64: Net Farm Gate Price (R/ha) | B64: =B7 -> 3890.71 | C64: =C7 -> 8152.59 | D64: =D7 -> 3391.48 | E64: =E7 -> 9554.45
A65: Net Farm Gate Price (R/ton) | B65: =B64/B61 -> 474.47683 | C65: =C64/C61 -> 2412.0089 | D65: =D64/D61 -> 1356.592 | E65: =E64/E61 -> 4777.225
A67: 2) EXPENDITURES
...
