Workbook
Name BTopbrengspeil: '[1]W-BT Mielies'!$K$9:$K$14
Name Cultivar: [2]Seedprices!$A$3:$A$49
Name Obrengspeil: 'W-BT Mielies'!$J$9:$J$14
Name Price80DP: [2]Seedprices!$B$3:$B$49
Name RRLopbrengspeil: '[3]W-RR mielies Laer opbrengs '!$M$9:$M$14
Name Sojaopbrengspeil: [1]Sojabone!$K$9:$K$13
Name Sojaopbrengspeil: Sojabone!$I$9:$I$12
Name Sonopbrengspeil: [1]Sonneblom!$K$9:$K$13
Name Sonopbrengspeil: Sonneblom!#REF!
Name Sorgopbrengspeil: [1]Graansorghum!$K$9:$K$13

Sheet Pryse + Sensatiwiteitsanalise
A1: OOS FS / EASTERN FS | B1: 2026-27 season
A2: Datum opgedateer / Date updated | B2: 46269
A3: Gewas | B3: SAFEX pryse (R/ton) | D3: Total deductions (R/ton)
A4: Wit Mielies / White Maize- Jul 27 | B4: 4312 | D4: 406.25
A5: Sonneblom / Sunflower- Mei 27 | B5: 10000 | D5: 477.52
A6: Sojabone / Soybeans- Mei 27 | B6: 8345 | D6: 106.17
A10: BT MIELIES / BT MAIZE | D10: MIELIES: SENSITIWITEITSANALISE - TOTALE KOSTES ( DIREKTE KOSTE + VASTE KOSTE) R/ton | P10: MIELIES: SENSITIWITEITSANALISE - DIREKTE KOSTE R/ton
A11: Lopendekoste / Variable cost (R/ha) | B11: ='Crop Comparison'!C28 -> 21484.42 | J11: Huidig | V11: Huidig
A12: Oorhoofse koste / Overhead cost (R/ha) | B12: ='Crop Comparison'!C30 -> 6856.4322 | D12: SAFEX prys / price(R/ton) | F12: =G12-250 -> 3312 | G12: =H12-250 -> 3562 | H12: =I12-250 -> 3812 | I12: =J12-250 -> 4062 | J12: =B17 -> 4312 | K12: =J12+250 -> 4562 | L12: =K12+250 -> 4812 | M12: =L12+250 -> 5062 | N12: =M12+250 -> 5312 | P12: SAFEX prys / price(R/ton) | R12: =S12-250 -> 3312 | S12: =T12-250 -> 3562 | T12: =U12-250 -> 3812 | U12: =V12-250 -> 4062 | V12: =J12 -> 4312 | W12: =V12+250 -> 4562 | X12: =W12+250 -> 4812 | Y12: =X12+250 -> 5062 | Z12: =Y12+250 -> 5312
A13: Totale Koste / Total cost (R/ha) | B13: =B12+B11 -> 28340.853 | D13: Produsenteprys/ Producer price | F13: =F12-$B$18 -> 2905.75 | G13: =G12-$B$18 -> 3155.75 | H13: =H12-$B$18 -> 3405.75 | I13: =I12-$B$18 -> 3655.75 | J13: =J12-$B$18 -> 3905.75 | K13: =K12-$B$18 -> 4155.75 | L13: =L12-$B$18 -> 4405.75 | M13: =M12-$B$18 -> 4655.75 | N13: =N12-$B$18 -> 4905.75 | P13: Produsenteprys/ Producer price | R13: =R12-$B$18 -> 2905.75 | S13: =S12-$B$18 -> 3155.75 | T13: =T12-$B$18 -> 3405.75 | U13: =U12-$B$18 -> 3655.75 | V13: =V12-$B$18 -> 3905.75 | W13: =W12-$B$18 -> 4155.75 | X13: =X12-$B$18 -> 4405.75 | Y13: =Y12-$B$18 -> 4655.75 | Z13: =Z12-$B$18 -> 4905.75
D14: Opbrengs / Yield (t/ha) | E14: =E15-0.5 -> 5 | F14: =F$13-($B$13/$E14) -> -2762.4205 | G14: =G$13-($B$13/$E14) -> -2512.4205 | H14: =H$13-($B$13/$E14) -> -2262.4205 | I14: =I$13-($B$13/$E14) -> -2012.4205 | J14: =J$13-($B$13/$E14) -> -1762.4205 | K14: =K$13-($B$13/$E14) -> -1512.4205 | L14: =L$13-($B$13/$E14) -> -1262.4205 | M14: =M$13-($B$13/$E14) -> -1012.4205 | N14: =N$13-($B$13/$E14) -> -762.42053 | P14: Opbrengs / Yield (t/ha) | Q14: =Q15-0.5 -> 5 | R14: =R$13-($B$11/$E14) -> -1391.1341 | S14: =S$13-($B$11/$E14) -> -1141.1341 | T14: =T$13-($B$11/$E14) -> -891.13409 | U14: =U$13-($B$11/$E14) -> -641.13409 | V14: =V$13-($B$11/$E14) -> -391.13409 | W14: =W$13-($B$11/$E14) -> -141.13409 | X14: =X$13-($B$11/$E14) -> 108.86591 | Y14: =Y$13-($B$11/$E14) -> 358.86591 | Z14: =Z$13-($B$11/$E14) -> 608.86591
A15: Gemid Opbrengs / Average Yield (t/ha) | B15: 6 | E15: =E16-0.5 -> 5.5 | F15: =F$13-($B$13/$E15) -> -2247.1323 | G15: =G$13-($B$13/$E15) -> -1997.1323 | H15: =H$13-($B$13/$E15) -> -1747.1323 | I15: =I$13-($B$13/$E15) -> -1497.1323 | J15: =J$13-($B$13/$E15) -> -1247.1323 | K15: =K$13-($B$13/$E15) -> -997.1323 | L15: =L$13-($B$13/$E15) -> -747.1323 | M15: =M$13-($B$13/$E15) -> -497.1323 | N15: =N$13-($B$13/$E15) -> -247.1323 | Q15: =Q16-0.5 -> 5.5 | R15: =R$13-($B$11/$E15) -> -1000.5083 | S15: =S$13-($B$11/$E15) -> -750.50826 | T15: =T$13-($B$11/$E15) -> -500.50826 | U15: =U$13-($B$11/$E15) -> -250.50826 | V15: =V$13-($B$11/$E15) -> -0.50826279 | W15: =W$13-($B$11/$E15) -> 249.49174 | X15: =X$13-($B$11/$E15) -> 499.49174 | Y15: =Y$13-($B$11/$E15) -> 749.49174 | Z15: =Z$13-($B$11/$E15) -> 999.49174
E16: =B15 -> 6 | F16: =F$13-($B$13/$E16) -> -1817.7254 | G16: =G$13-($B$13/$E16) -> -1567.7254 | H16: =H$13-($B$13/$E16) -> -1317.7254 | I16: =I$13-($B$13/$E16) -> -1067.7254 | J16: =J$13-($B$13/$E16) -> -817.72544 | K16: =K$13-($B$13/$E16) -> -567.72544 | L16: =L$13-($B$13/$E16) -> -317.72544 | M16: =M$13-($B$13/$E16) -> -67.725444 | N16: =N$13-($B$13/$E16) -> 182.27456 | Q16: =E16 -> 6 | R16: =R$13-($B$11/$E16) -> -674.98674 | S16: =S$13-($B$11/$E16) -> -424.98674 | T16: =T$13-($B$11/$E16) -> -174.98674 | U16: =U$13-($B$11/$E16) -> 75.013259 | V16: =V$13-($B$11/$E16) -> 325.01326 | W16: =W$13-($B$11/$E16) -> 575.01326 | X16: =X$13-($B$11/$E16) -> 825.01326 | Y16: =Y$13-($B$11/$E16) -> 1075.0133 | Z16: =Z$13-($B$11/$E16) -> 1325.0133
A17: SAFEX Jul'27 WM 1 prys/price (R/ton) | B17: =$B$4 -> 4312 | E17: =E16+0.5 -> 6.5 | F17: =F$13-($B$13/$E17) -> -1454.3812 | G17: =G$13-($B$13/$E17) -> -1204.3812 | H17: =H$13-($B$13/$E17) -> -954.38118 | I17: =I$13-($B$13/$E17) -> -704.38118 | J17: =J$13-($B$13/$E17) -> -454.38118 | K17: =K$13-($B$13/$E17) -> -204.38118 | L17: =L$13-($B$13/$E17) -> 45.618821 | M17: =M$13-($B$13/$E17) -> 295.61882 | N17: =N$13-($B$13/$E17) -> 545.61882 | Q17: =Q16+0.5 -> 6.5 | R17: =R$13-($B$11/$E17) -> -399.54545 | S17: =S$13-($B$11/$E17) -> -149.54545 | T17: =T$13-($B$11/$E17) -> 100.45455 | U17: =U$13-($B$11/$E17) -> 350.45455 | V17: =V$13-($B$11/$E17) -> 600.45455 | W17: =W$13-($B$11/$E17) -> 850.45455 | X17: =X$13-($B$11/$E17) -> 1100.4545 | Y17: =Y$13-($B$11/$E17) -> 1350.4545 | Z17: =Z$13-($B$11/$E17) -> 1600.4545
A18: Aftrekkings / Deductions | B18: =D4 -> 406.25 | E18: =E17+0.5 -> 7 | F18: =F$13-($B$13/$E18) -> -1142.9432 | G18: =G$13-($B$13/$E18) -> -892.94324 | H18: =H$13-($B$13/$E18) -> -642.94324 | I18: =I$13-($B$13/$E18) -> -392.94324 | J18: =J$13-($B$13/$E18) -> -142.94324 | K18: =K$13-($B$13/$E18) -> 107.05676 | L18: =L$13-($B$13/$E18) -> 357.05676 | M18: =M$13-($B$13/$E18) -> 607.05676 | N18: =N$13-($B$13/$E18) -> 857.05676 | Q18: =Q17+0.5 -> 7 | R18: =R$13-($B$11/$E18) -> -163.45292 | S18: =S$13-($B$11/$E18) -> 86.547079 | T18: =T$13-($B$11/$E18) -> 336.54708 | U18: =U$13-($B$11/$E18) -> 586.54708 | V18: =V$13-($B$11/$E18) -> 836.54708 | W18: =W$13-($B$11/$E18) -> 1086.5471 | X18: =X$13-($B$11/$E18) -> 1336.5471 | Y18: =Y$13-($B$11/$E18) -> 1586.5471 | Z18: =Z$13-($B$11/$E18) -> 1836.5471
A19: Produsenteprys/ Producer price (R/ton) | B19: =B17-B18 -> 3905.75
A23: SONNEBLOM / SUNFLOWER | D23: SONNEBLOM: SENSITIWITEITSANALISE - TOTALE KOSTES ( DIREKTE KOSTE + VASTE KOSTE) R/ton | P23: SONNEBLOM: SENSITIWITEITSANALISE - DIREKTE KOSTE R/ton
A24: Lopendekoste / Variable cost (R/ha) | B24: ='Crop Comparison'!D28 -> 9308.6601 | J24: Huidig | V24: Huidig
A25: Oorhoofse koste / Overhead cost (R/ha) | B25: ='Crop Comparison'!D30 -> 5786.3481 | D25: SAFEX prys / price(R/ton) | F25: =G25-200 -> 9200 | G25: =H25-200 -> 9400 | H25: =I25-200 -> 9600 | I25: =J25-200 -> 9800 | J25: =B30 -> 10000 | K25: =J25+200 -> 10200 | L25: =K25+200 -> 10400 | M25: =L25+200 -> 10600 | N25: =M25+200 -> 10800 | P25: SAFEX prys / price(R/ton) | R25: =S25-200 -> 9200 | S25: =T25-200 -> 9400 | T25: =U25-200 -> 9600 | U25: =V25-200 -> 9800 | V25: =J25 -> 10000 | W25: =V25+200 -> 10200 | X25: =W25+200 -> 10400 | Y25: =X25+200 -> 10600 | Z25: =Y25+200 -> 10800
A26: Totale Koste / Total cost (R/ha) | B26: =B25+B24 -> 15095.008 | D26: Produsenteprys/ Producer price | F26: =F25-$B$31 -> 8722.48 | G26: =G25-$B$31 -> 8922.48 | H26: =H25-$B$31 -> 9122.48 | I26: =I25-$B$31 -> 9322.48 | J26: =J25-$B$31 -> 9522.48 | K26: =K25-$B$31 -> 9722.48 | L26: =L25-$B$31 -> 9922.48 | M26: =M25-$B$31 -> 10122.48 | N26: =N25-$B$31 -> 10322.48 | P26: Produsenteprys/ Producer price | R26: =R25-$B$31 -> 8722.48 | S26: =S25-$B$31 -> 8922.48 | T26: =T25-$B$31 -> 9122.48 | U26: =U25-$B$31 -> 9322.48 | V26: =V25-$B$31 -> 9522.48 | W26: =W25-$B$31 -> 9722.48 | X26: =X25-$B$31 -> 9922.48 | Y26: =Y25-$B$31 -> 10122.48 | Z26: =Z25-$B$31 -> 10322.48
D27: Opbrengs / Yield (t/ha) | E27: =E28-0.25 -> 0.75 | F27: =F$26-($B$26/$E27) -> -11404.198 | G27: =G$26-($B$26/$E27) -> -11204.198 | H27: =H$26-($B$26/$E27) -> -11004.198 | I27: =I$26-($B$26/$E27) -> -10804.198 | J27: =J$26-($B$26/$E27) -> -10604.198 | K27: =K$26-($B$26/$E27) -> -10404.198 | L27: =L$26-($B$26/$E27) -> -10204.198 | M27: =M$26-($B$26/$E27) -> -10004.198 | N27: =N$26-($B$26/$E27) -> -9804.1976 | P27: Opbrengs / Yield (t/ha) | Q27: =Q28-0.25 -> 0.75 | R27: =R$26-($B$24/$E27) -> -3689.0668 | S27: =S$26-($B$24/$E27) -> -3489.0668 | T27: =T$26-($B$24/$E27) -> -3289.0668 | U27: =U$26-($B$24/$E27) -> -3089.0668 | V27: =V$26-($B$24/$E27) -> -2889.0668 | W27: =W$26-($B$24/$E27) -> -2689.0668 | X27: =X$26-($B$24/$E27) -> -2489.0668 | Y27: =Y$26-($B$24/$E27) -> -2289.0668 | Z27: =Z$26-($B$24/$E27) -> -2089.0668
A28: Gemid Opbrengs / Average Yield (t/ha) | B28: 1.25 | E28: =E29-0.25 -> 1 | F28: =F$26-($B$26/$E28) -> -6372.5282 | G28: =G$26-($B$26/$E28) -> -6172.5282 | H28: =H$26-($B$26/$E28) -> -5972.5282 | I28: =I$26-($B$26/$E28) -> -5772.5282 | J28: =J$26-($B$26/$E28) -> -5572.5282 | K28: =K$26-($B$26/$E28) -> -5372.5282 | L28: =L$26-($B$26/$E28) -> -5172.5282 | M28: =M$26-($B$26/$E28) -> -4972.5282 | N28: =N$26-($B$26/$E28) -> -4772.5282 | Q28: =Q29-0.25 -> 1 | R28: =R$26-($B$24/$E28) -> -586.1801 | S28: =S$26-($B$24/$E28) -> -386.1801 | T28: =T$26-($B$24/$E28) -> -186.1801 | U28: =U$26-($B$24/$E28) -> 13.819895 | V28: =V$26-($B$24/$E28) -> 213.8199 | W28: =W$26-($B$24/$E28) -> 413.8199 | X28: =X$26-($B$24/$E28) -> 613.8199 | Y28: =Y$26-($B$24/$E28) -> 813.8199 | Z28: =Z$26-($B$24/$E28) -> 1013.8199
E29: =B28 -> 1.25 | F29: =F$26-($B$26/$E29) -> -3353.5265 | G29: =G$26-($B$26/$E29) -> -3153.5265 | H29: =H$26-($B$26/$E29) -> -2953.5265 | I29: =I$26-($B$26/$E29) -> -2753.5265 | J29: =J$26-($B$26/$E29) -> -2553.5265 | K29: =K$26-($B$26/$E29) -> -2353.5265 | L29: =L$26-($B$26/$E29) -> -2153.5265 | M29: =M$26-($B$26/$E29) -> -1953.5265 | N29: =N$26-($B$26/$E29) -> -1753.5265 | Q29: =E29 -> 1.25 | R29: =R$26-($B$24/$E29) -> 1275.5519 | S29: =S$26-($B$24/$E29) -> 1475.5519 | T29: =T$26-($B$24/$E29) -> 1675.5519 | U29: =U$26-($B$24/$E29) -> 1875.5519 | V29: =V$26-($B$24/$E29) -> 2075.5519 | W29: =W$26-($B$24/$E29) -> 2275.5519 | X29: =X$26-($B$24/$E29) -> 2475.5519 | Y29: =Y$26-($B$24/$E29) -> 2675.5519 | Z29: =Z$26-($B$24/$E29) -> 2875.5519
A30: SAFEX Mar'27 Sun prys/price (R/ton) | B30: =B5 -> 10000 | E30: =E29+0.25 -> 1.5 | F30: =F$26-($B$26/$E30) -> -1340.8588 | G30: =G$26-($B$26/$E30) -> -1140.8588 | H30: =H$26-($B$26/$E30) -> -940.85878 | I30: =I$26-($B$26/$E30) -> -740.85878 | J30: =J$26-($B$26/$E30) -> -540.85878 | K30: =K$26-($B$26/$E30) -> -340.85878 | L30: =L$26-($B$26/$E30) -> -140.85878 | M30: =M$26-($B$26/$E30) -> 59.14122 | N30: =N$26-($B$26/$E30) -> 259.14122 | Q30: =Q29+0.25 -> 1.5 | R30: =R$26-($B$24/$E30) -> 2516.7066 | S30: =S$26-($B$24/$E30) -> 2716.7066 | T30: =T$26-($B$24/$E30) -> 2916.7066 | U30: =U$26-($B$24/$E30) -> 3116.7066 | V30: =V$26-($B$24/$E30) -> 3316.7066 | W30: =W$26-($B$24/$E30) -> 3516.7066 | X30: =X$26-($B$24/$E30) -> 3716.7066 | Y30: =Y$26-($B$24/$E30) -> 3916.7066 | Z30: =Z$26-($B$24/$E30) -> 4116.7066
A31: Aftrekkings / Deductions | B31: =D5 -> 477.52 | E31: =E30+0.25 -> 1.75 | F31: =F$26-($B$26/$E31) -> 96.761046 | G31: =G$26-($B$26/$E31) -> 296.76105 | H31: =H$26-($B$26/$E31) -> 496.76105 | I31: =I$26-($B$26/$E31) -> 696.76105 | J31: =J$26-($B$26/$E31) -> 896.76105 | K31: =K$26-($B$26/$E31) -> 1096.761 | L31: =L$26-($B$26/$E31) -> 1296.761 | M31: =M$26-($B$26/$E31) -> 1496.761 | N31: =N$26-($B$26/$E31) -> 1696.761 | Q31: =Q30+0.25 -> 1.75 | R31: =R$26-($B$24/$E31) -> 3403.2457 | S31: =S$26-($B$24/$E31) -> 3603.2457 | T31: =T$26-($B$24/$E31) -> 3803.2457 | U31: =U$26-($B$24/$E31) -> 4003.2457 | V31: =V$26-($B$24/$E31) -> 4203.2457 | W31: =W$26-($B$24/$E31) -> 4403.2457 | X31: =X$26-($B$24/$E31) -> 4603.2457 | Y31: =Y$26-($B$24/$E31) -> 4803.2457 | Z31: =Z$26-($B$24/$E31) -> 5003.2457
A32: Produsenteprys/ Producer price (R/ton) | B32: =B30-B31 -> 9522.48
A36: SOJABONE / SOYBEANS | D36: SOJABONE: SENSITIWITEITSANALISE - TOTALE KOSTES ( DIREKTE KOSTE + VASTE KOSTE) R/ton | P36: SOJABONE: SENSITIWITEITSANALISE - DIREKTE KOSTE R/ton
A37: Lopendekoste / Variable cost (R/ha) | B37: =Sojabone!F26 -> 12941.519 | J37: Huidige | V37: Huidige
A38: Oorhoofse koste / Overhead cost (R/ha) | B38: =Sojabone!F28 -> 4226.6699 | D38: SAFEX prys / price(R/ton) | F38: =G38-200 -> 7545 | G38: =H38-200 -> 7745 | H38: =I38-200 -> 7945 | I38: =J38-200 -> 8145 | J38: =B43 -> 8345 | K38: =J38+200 -> 8545 | L38: =K38+200 -> 8745 | M38: =L38+200 -> 8945 | N38: =M38+200 -> 9145 | P38: SAFEX prys / price(R/ton) | R38: =S38-200 -> 7545 | S38: =T38-200 -> 7745 | T38: =U38-200 -> 7945 | U38: =V38-200 -> 8145 | V38: =J38 -> 8345 | W38: =V38+200 -> 8545 | X38: =W38+200 -> 8745 | Y38: =X38+200 -> 8945 | Z38: =Y38+200 -> 9145
A39: Totale Koste / Total cost (R/ha) | B39: =B38+B37 -> 17168.188 | D39: Produsenteprys/ Producer price | F39: =F38-$B$44 -> 7438.83 | G39: =G38-$B$44 -> 7638.83 | H39: =H38-$B$44 -> 7838.83 | I39: =I38-$B$44 -> 8038.83 | J39: =J38-$B$44 -> 8238.83 | K39: =K38-$B$44 -> 8438.83 | L39: =L38-$B$44 -> 8638.83 | M39: =M38-$B$44 -> 8838.83 | N39: =N38-$B$44 -> 9038.83 | P39: Produsenteprys/ Producer price | R39: =R38-$B$44 -> 7438.83 | S39: =S38-$B$44 -> 7638.83 | T39: =T38-$B$44 -> 7838.83 | U39: =U38-$B$44 -> 8038.83 | V39: =V38-$B$44 -> 8238.83 | W39: =W38-$B$44 -> 8438.83 | X39: =X38-$B$44 -> 8638.83 | Y39: =Y38-$B$44 -> 8838.83 | Z39: =Z38-$B$44 -> 9038.83
D40: Opbrengs / Yield (t/ha) | E40: =E41-0.25 -> 1.5 | F40: =F$39-($B$39/$E40) -> -4006.6289 | G40: =G$39-($B$39/$E40) -> -3806.6289 | H40: =H$39-($B$39/$E40) -> -3606.6289 | I40: =I$39-($B$39/$E40) -> -3406.6289 | J40: =J$39-($B$39/$E40) -> -3206.6289 | K40: =K$39-($B$39/$E40) -> -3006.6289 | L40: =L$39-($B$39/$E40) -> -2806.6289 | M40: =M$39-($B$39/$E40) -> -2606.6289 | N40: =N$39-($B$39/$E40) -> -2406.6289 | P40: Opbrengs / Yield (t/ha) | Q40: =Q41-0.25 -> 1.5 | R40: =R$39-($B$37/$E40) -> -1188.849 | S40: =S$39-($B$37/$E40) -> -988.84904 | T40: =T$39-($B$37/$E40) -> -788.84904 | U40: =U$39-($B$37/$E40) -> -588.84904 | V40: =V$39-($B$37/$E40) -> -388.84904 | W40: =W$39-($B$37/$E40) -> -188.84904 | X40: =X$39-($B$37/$E40) -> 11.150965 | Y40: =Y$39-($B$37/$E40) -> 211.15096 | Z40: =Z$39-($B$37/$E40) -> 411.15096
A41: Gemid Opbrengs / Average Yield (t/ha) | B41: 2 | E41: =E42-0.25 -> 1.75 | F41: =F$39-($B$39/$E41) -> -2371.5634 | G41: =G$39-($B$39/$E41) -> -2171.5634 | H41: =H$39-($B$39/$E41) -> -1971.5634 | I41: =I$39-($B$39/$E41) -> -1771.5634 | J41: =J$39-($B$39/$E41) -> -1571.5634 | K41: =K$39-($B$39/$E41) -> -1371.5634 | L41: =L$39-($B$39/$E41) -> -1171.5634 | M41: =M$39-($B$39/$E41) -> -971.56337 | N41: =N$39-($B$39/$E41) -> -771.56337 | Q41: =Q42-0.25 -> 1.75 | R41: =R$39-($B$37/$E41) -> 43.676541 | S41: =S$39-($B$37/$E41) -> 243.67654 | T41: =T$39-($B$37/$E41) -> 443.67654 | U41: =U$39-($B$37/$E41) -> 643.67654 | V41: =V$39-($B$37/$E41) -> 843.67654 | W41: =W$39-($B$37/$E41) -> 1043.6765 | X41: =X$39-($B$37/$E41) -> 1243.6765 | Y41: =Y$39-($B$37/$E41) -> 1443.6765 | Z41: =Z$39-($B$37/$E41) -> 1643.6765
E42: =B41 -> 2 | F42: =F$39-($B$39/$E42) -> -1145.2642 | G42: =G$39-($B$39/$E42) -> -945.2642 | H42: =H$39-($B$39/$E42) -> -745.2642 | I42: =I$39-($B$39/$E42) -> -545.2642 | J42: =J$39-($B$39/$E42) -> -345.2642 | K42: =K$39-($B$39/$E42) -> -145.2642 | L42: =L$39-($B$39/$E42) -> 54.735799 | M42: =M$39-($B$39/$E42) -> 254.7358 | N42: =N$39-($B$39/$E42) -> 454.7358 | Q42: =E42 -> 2 | R42: =R$39-($B$37/$E42) -> 968.07072 | S42: =S$39-($B$37/$E42) -> 1168.0707 | T42: =T$39-($B$37/$E42) -> 1368.0707 | U42: =U$39-($B$37/$E42) -> 1568.0707 | V42: =V$39-($B$37/$E42) -> 1768.0707 | W42: =W$39-($B$37/$E42) -> 1968.0707 | X42: =X$39-($B$37/$E42) -> 2168.0707 | Y42: =Y$39-($B$37/$E42) -> 2368.0707 | Z42: =Z$39-($B$37/$E42) -> 2568.0707
A43: SAFEX Mei'27 Soy prys/price (R/ton) | B43: =B6 -> 8345 | E43: =E42+0.25 -> 2.25 | F43: =F$39-($B$39/$E43) -> -191.47596 | G43: =G$39-($B$39/$E43) -> 8.5240432 | H43: =H$39-($B$39/$E43) -> 208.52404 | I43: =I$39-($B$39/$E43) -> 408.52404 | J43: =J$39-($B$39/$E43) -> 608.52404 | K43: =K$39-($B$39/$E43) -> 808.52404 | L43: =L$39-($B$39/$E43) -> 1008.524 | M43: =M$39-($B$39/$E43) -> 1208.524 | N43: =N$39-($B$39/$E43) -> 1408.524 | Q43: =Q42+0.25 -> 2.25 | R43: =R$39-($B$37/$E43) -> 1687.044 | S43: =S$39-($B$37/$E43) -> 1887.044 | T43: =T$39-($B$37/$E43) -> 2087.044 | U43: =U$39-($B$37/$E43) -> 2287.044 | V43: =V$39-($B$37/$E43) -> 2487.044 | W43: =W$39-($B$37/$E43) -> 2687.044 | X43: =X$39-($B$37/$E43) -> 2887.044 | Y43: =Y$39-($B$37/$E43) -> 3087.044 | Z43: =Z$39-($B$37/$E43) -> 3287.044
A44: Aftrekkings / Deductions | B44: =D6 -> 106.17 | E44: =E43+0.25 -> 2.5 | F44: =F$39-($B$39/$E44) -> 571.55464 | G44: =G$39-($B$39/$E44) -> 771.55464 | H44: =H$39-($B$39/$E44) -> 971.55464 | I44: =I$39-($B$39/$E44) -> 1171.5546 | J44: =J$39-($B$39/$E44) -> 1371.5546 | K44: =K$39-($B$39/$E44) -> 1571.5546 | L44: =L$39-($B$39/$E44) -> 1771.5546 | M44: =M$39-($B$39/$E44) -> 1971.5546 | N44: =N$39-($B$39/$E44) -> 2171.5546 | Q44: =Q43+0.25 -> 2.5 | R44: =R$39-($B$37/$E44) -> 2262.2226 | S44: =S$39-($B$37/$E44) -> 2462.2226 | T44: =T$39-($B$37/$E44) -> 2662.2226 | U44: =U$39-($B$37/$E44) -> 2862.2226 | V44: =V$39-($B$37/$E44) -> 3062.2226 | W44: =W$39-($B$37/$E44) -> 3262.2226 | X44: =X$39-($B$37/$E44) -> 3462.2226 | Y44: =Y$39-($B$37/$E44) -> 3662.2226 | Z44: =Z$39-($B$37/$E44) -> 3862.2226
A45: Produsenteprys/ Producer price (R/ton) | B45: =B43-B44 -> 8238.83

Sheet W-Mielie 
A1: Produsent prys raming vir droëland WIT KONVENSIONELE MIELIES vir die / Producer price framework for dry land WHITE CONVENTIONAL MAIZE for the | E1: PRODUKSIEJAAR 2026-26 PRODUCTION YEAR 2026-27
A3: Huidige Produkprys op plaas vir beste graad / Current product price for the best grade (R/TON) (Safex min bemarkingskoste/marketing cost) | E3: ='Pryse + Sensatiwiteitsanalise'!B19 -> 3905.75 | F3: Rand/ton
A5: Beplanningsopbrengs / Estimated yields (ton/ha) | D5: 3.5 | E5: 4 | F5: 4.5 | G5: 5 | H5: 5.5 | I5: 6
A6: Bruto produksiewaarde / Gross production value (R/ha) | D6: 13617.625 | E6: 15563 | F6: 17508.375 | G6: 19453.75 | H6: 21399.125 | I6: 23344.5
A8: Direk Toedeelbare veranderlike koste / Direct Allocated Variable costs (R/ha)
A9: Saad / Seed | D9: 1405.2166 | E9: 1505.5893 | F9: 1505.5893 | G9: 1656.1482 | H9: 1656.1482 | I9: 1806.7071
A10: Kunsmis / Fertiliser | D10: 4766.445 | E10: 5433.08 | F10: 6099.715 | G10: 6766.35 | H10: 7432.985 | I10: 8099.62
A11: Kalk / Lime | D11: 800 | E11: 800 | F11: 800 | G11: 800 | H11: 800 | I11: 800
A12: Brandstof / Fuel | D12: 1746.8905 | E12: 1785.9205 | F12: 1824.9505 | G12: 1863.9805 | H12: 1903.0105 | I12: 1942.0405
A13: Reparasie / Reparation | D13: 1339.0087 | E13: 1343.7621 | F13: 1348.5154 | G13: 1353.2687 | H13: 1358.0221 | I13: 1362.7754
A14: Onkruiddoders / Herbicide | D14: 1108.23 | E14: 1108.23 | F14: 1108.23 | G14: 1108.23 | H14: 1108.23 | I14: 1108.23
A15: Plaagdoder / Pesticides | D15: 333.54 | E15: 333.54 | F15: 333.54 | G15: 333.54 | H15: 333.54 | I15: 333.54
A16: Insetversekering / Input insurance
A17: Besproeiingskoste / Irrigation cost
A18: Graanprysverskansing / Grain hedging | D18: 1361.39 | E18: 1457.2943 | F18: 1542.2458 | G18: 1643.6265 | H18: 1728.5781 | I18: 1829.9588
A19: Kontrakstroop / Contract Harvesting
A20: Oesversekering / Harvest insurance | D20: 476.61688 | E20: 544.705 | F20: 612.79313 | G20: 680.88125 | H20: 748.96938 | I20: 817.0575
A21: Lugspuit / Aerial spray | D21: 200 | E21: 200 | F21: 200 | G21: 200 | H21: 200 | I21: 200
A22: Losarbeid / Casual labour | D22: 300 | E22: 300 | F22: 300 | G22: 300 | H22: 300 | I22: 300
A23: Droogkoste / Drying cost
A24: Verpakking en Pakmateriaal / Packaging and packaging material
A25: Produksiekrediet rente / Interest on production R/ha | D25: 1276.4944 | E25: 1366.4182 | F25: 1446.0722 | G25: 1541.1308 | H25: 1620.7848 | I25: 1715.8435
A26: Totale Direk Toedeelbare veranderlike koste / Total Direct Allocated Variable Cost (R/ha) | D26: =SUM(D9:D25) -> 15113.832 | E26: =SUM(E9:E25) -> 16178.539 | F26: =SUM(F9:F25) -> 17121.651 | G26: =SUM(G9:G25) -> 18247.156 | H26: =SUM(H9:H25) -> 19190.268 | I26: =SUM(I9:I25) -> 20315.773
A28: Totale Oorhoofse koste / Total overhead cost R/ha | D28: 7499.1824 | E28: 7499.1824 | F28: 7499.1824 | G28: 7499.1824 | H28: 7499.1824 | I28: 7499.1824
A30: Totale Koste per ha voor fisiese bemarking R/ha / Total cost per ha before marketing cost R/ha | D30: =D26+D28 -> 22613.015 | E30: =E26+E28 -> 23677.722 | F30: =F26+F28 -> 24620.834 | G30: =G26+G28 -> 25746.338 | H30: =H26+H28 -> 26689.45 | I30: =I26+I28 -> 27814.955
A32: Totale koste per ton voor fisiese bemarking R/Ton / Total cost per ton before marketing cost R/Ton | D32: =D30/D5 -> 6460.8613 | E32: =E30/E5 -> 5919.4304 | F32: =F30/F5 -> 5471.2964 | G32: =G30/G5 -> 5149.2677 | H32: =H30/H5 -> 4852.6274 | I32: =I30/I5 -> 4635.8259
A34: Totale bemarkingskoste / Total marketing cost R/ton | D34: ='Pryse + Sensatiwiteitsanalise'!$D$4 -> 406.25 | E34: ='Pryse + Sensatiwiteitsanalise'!$D$4 -> 406.25 | F34: ='Pryse + Sensatiwiteitsanalise'!$D$4 -> 406.25 | G34: ='Pryse + Sensatiwiteitsanalise'!$D$4 -> 406.25 | H34: ='Pryse + Sensatiwiteitsanalise'!$D$4 -> 406.25 | I34: ='Pryse + Sensatiwiteitsanalise'!$D$4 -> 406.25
A36: Verwagte minimum Safex prys SONDER wins/ Expected minimum Safex price, WITHOUT profit | D36: =D32+D34 -> 6867.1113 | E36: =E32+E34 -> 6325.6804 | F36: =F32+F34 -> 5877.5464 | G36: =G32+G34 -> 5555.5177 | H36: =H32+H34 -> 5258.8774 | I36: =I32+I34 -> 5042.0759
A37: Huidige Safex prys / Current Safex price | D37: ='Pryse + Sensatiwiteitsanalise'!B4 -> 4312 | E37: =$D$37 -> 4312 | F37: =$D$37 -> 4312 | G37: =$D$37 -> 4312 | H37: =$D$37 -> 4312 | I37: =$D$37 -> 4312
A39: BRUTO MARGE / GROSS MARGIN (R/ha) | D39: =D6-D26 -> -1496.2072 | E39: =E6-E26 -> -615.53935 | F39: =F6-F26 -> 386.72366 | G39: =G6-G26 -> 1206.5939 | H39: =H6-H26 -> 2208.8569 | I39: =I6-I26 -> 3028.7272
A40: NETTO MARGE / NETT MARGIN (R/ha) | D40: =D6-D30 -> -8995.3896 | E40: =E6-E30 -> -8114.7217 | F40: =F6-F30 -> -7112.4587 | G40: =G6-G30 -> -6292.5884 | H40: =H6-H30 -> -5290.3254 | I40: =I6-I30 -> -4470.4552
A41: Disclaimer: The information herein has been obtained from various sources, the accuracy and/or completeness of which Grain SA does not
A42: guarantee and for which Grain SA accepts no liability. Any prices or levels contained herein are preliminary and indicative only and do not
A43: represent bids or offers. These indications are provided solely for your information and consideration.
A44: Thank you to the Maize Trust for partially funding this project

Sheet W-BT Mielies
A1: Produsent prys raming vir droëland WIT BT MIELIES vir die / Producer price framework for dry land WHITE BT MAIZE for the | D1: PRODUKSIEJAAR 2026-27 PRODUCTION YEAR 2026-27
A3: Huidige Produkprys op plaas vir beste graad / Current product price for the best grade (R/TON) (Safex min bemarkingskoste/marketing cost) | D3: ='Pryse + Sensatiwiteitsanalise'!B19 -> 3905.75 | E3: Rand/ton
A5: Beplanningsopbrengs / Estimated yields (ton/ha) | C5: 3.5 | D5: 4 | E5: 4.5 | F5: 5 | G5: 5.5 | H5: 6
A6: Bruto produksiewaarde / Gross production value (R/ha) | C6: 14333.419 | D6: 16381.05 | E6: 18428.681 | F6: 20476.312 | G6: 22523.944 | H6: 24571.575
J7: BTMielies
A8: Direk Toedeelbare veranderlike koste / Direct Allocated Variable costs (R/ha) | J8: Opbrengspeil | K8: Lopende koste | L8: Oorhoofse koste
A9: ='W-Mielie '!A9 -> Saad / Seed | C9: 2122.1183 | D9: 2273.6982 | E9: 2273.6982 | F9: 2501.068 | G9: 2501.068 | H9: 2728.4379 | J9: =C5 -> 3.5 | K9: =C26 -> 16012.664 | L9: =C28 -> 6856.4322
A10: ='W-Mielie '!A10 -> Kunsmis / Fertiliser | C10: 4766.445 | D10: 5433.08 | E10: 6099.715 | F10: 6766.35 | G10: 7432.985 | H10: 8099.62 | J10: =D5 -> 4 | K10: =D26 -> 17143.741 | L10: =D28 -> 6856.4322
A11: ='W-Mielie '!A11 -> Kalk / Lime | C11: 800 | D11: 800 | E11: 800 | F11: 800 | G11: 800 | H11: 800 | J11: =E5 -> 4.5 | K11: =E26 -> 18091.189 | L11: =E28 -> 6856.4322
A12: ='W-Mielie '!A12 -> Brandstof / Fuel | C12: 1746.8905 | D12: 1785.9205 | E12: 1824.9505 | F12: 1863.9805 | G12: 1903.0105 | H12: 1942.0405 | J12: =F5 -> 5 | K12: =F26 -> 19314.081 | L12: =F28 -> 6856.4322
A13: ='W-Mielie '!A13 -> Reparasie / Reparation | C13: 1339.0087 | D13: 1343.7621 | E13: 1348.5154 | F13: 1353.2687 | G13: 1358.0221 | H13: 1362.7754 | J13: =G5 -> 5.5 | K13: =G26 -> 20261.528 | L13: =G28 -> 6856.4322
A14: ='W-Mielie '!A14 -> Onkruiddoders / Herbicide | C14: 1108.23 | D14: 1108.23 | E14: 1108.23 | F14: 1108.23 | G14: 1108.23 | H14: 1108.23 | J14: =H5 -> 6 | K14: =H26 -> 21484.42 | L14: =H28 -> 6856.4322
A15: ='W-Mielie '!A15 -> Plaagdoder / Pesticides | C15: 333.54 | D15: 333.54 | E15: 333.54 | F15: 333.54 | G15: 333.54 | H15: 333.54
A16: ='W-Mielie '!A16 -> Insetversekering / Input insurance
A17: ='W-Mielie '!A17 -> Besproeiingskoste / Irrigation cost
A18: ='W-Mielie '!A18 -> Graanprysverskansing / Grain hedging | C18: 1442.3529 | D18: 1544.2356 | E18: 1629.5777 | F18: 1739.7306 | G18: 1825.0727 | H18: 1935.2256
A19: ='W-Mielie '!A19 -> Kontrakstroop / Contract Harvesting
A20: ='W-Mielie '!A20 -> Oesversekering / Harvest insurance | C20: 501.66966 | D20: 573.33675 | E20: 645.00384 | F20: 716.67094 | G20: 788.33803 | H20: 860.00513
A21: ='W-Mielie '!A21 -> Lugspuit / Aerial spray | C21: 200 | D21: 200 | E21: 200 | F21: 200 | G21: 200 | H21: 200
A22: ='W-Mielie '!A22 -> Losarbeid / Casual labour | C22: 300 | D22: 300 | E22: 300 | F22: 300 | G22: 300 | H22: 300
A23: ='W-Mielie '!A23 -> Droogkoste / Drying cost
A24: ='W-Mielie '!A24 -> Verpakking en Pakmateriaal / Packaging and packaging material
A25: ='W-Mielie '!A25 -> Produksiekrediet rente / Interest on production R/ha | C25: 1352.4085 | D25: 1447.9378 | E25: 1527.958 | F25: 1631.2419 | G25: 1711.2621 | H25: 1814.5459
A26: Totale Direk Toedeelbare veranderlike koste / Total Direct Allocated Variable Cost (R/ha) | C26: =SUM(C9:C25) -> 16012.664 | D26: =SUM(D9:D25) -> 17143.741 | E26: =SUM(E9:E25) -> 18091.189 | F26: =SUM(F9:F25) -> 19314.081 | G26: =SUM(G9:G25) -> 20261.528 | H26: =SUM(H9:H25) -> 21484.42
A28: Totale Oorhoofse koste / Total overhead cost R/ha | C28: 6856.4322 | D28: 6856.4322 | E28: 6856.4322 | F28: 6856.4322 | G28: 6856.4322 | H28: 6856.4322
A30: Totale Koste per ha voor fisiese bemarking R/ha / Total cost per ha before marketing cost R/ha | C30: =C26+C28 -> 22869.096 | D30: =D26+D28 -> 24000.173 | E30: =E26+E28 -> 24947.621 | F30: =F26+F28 -> 26170.513 | G30: =G26+G28 -> 27117.961 | H30: =H26+H28 -> 28340.853
A32: Totale koste per ton voor fisiese bemarking R/Ton / Total cost per ton before marketing cost R/Ton | C32: =C30/C5 -> 6534.0274 | D32: =D30/D5 -> 6000.0433 | E32: =E30/E5 -> 5543.9158 | F32: =F30/F5 -> 5234.1026 | G32: =G30/G5 -> 4930.5383 | H32: =H30/H5 -> 4723.4754
A34: Totale bemarkingskoste / Total marketing cost R/ton | C34: ='Pryse + Sensatiwiteitsanalise'!$D$4 -> 406.25 | D34: ='Pryse + Sensatiwiteitsanalise'!$D$4 -> 406.25 | E34: ='Pryse + Sensatiwiteitsanalise'!$D$4 -> 406.25 | F34: ='Pryse + Sensatiwiteitsanalise'!$D$4 -> 406.25 | G34: ='Pryse + Sensatiwiteitsanalise'!$D$4 -> 406.25 | H34: ='Pryse + Sensatiwiteitsanalise'!$D$4 -> 406.25
A36: Verwagte minimum Safex prys SONDER wins/ Expected minimum Safex price, WITHOUT profit | C36: =C32+C34 -> 6940.2774 | D36: =D32+D34 -> 6406.2933 | E36: =E32+E34 -> 5950.1658 | F36: =F32+F34 -> 5640.3526 | G36: =G32+G34 -> 5336.7883 | H36: =H32+H34 -> 5129.7254
A37: Huidige Safex prys / Current Safex price | C37: ='Pryse + Sensatiwiteitsanalise'!B4 -> 4312 | D37: =$C$37 -> 4312 | E37: =$C$37 -> 4312 | F37: =$C$37 -> 4312 | G37: =$C$37 -> 4312 | H37: =$C$37 -> 4312
A39: BRUTO MARGE / GROSS MARGIN (R/ha) | C39: =C6-C26 -> -1679.245 | D39: =D6-D26 -> -762.69099 | E39: =E6-E26 -> 337.49257 | F39: =F6-F26 -> 1162.2318 | G39: =G6-G26 -> 2262.4153 | H39: =H6-H26 -> 3087.1546
A40: NETTO MARGE / NETT MARGIN (R/ha) | C40: =C6-C30 -> -8535.6772 | D40: =D6-D30 -> -7619.1232 | E40: =E6-E30 -> -6518.9396 | F40: =F6-F30 -> -5694.2004 | G40: =G6-G30 -> -4594.0169 | H40: =H6-H30 -> -3769.2777
A41: Disclaimer: The information herein has been obtained from various sources, the accuracy and/or completeness of which Grain SA does not
A42: guarantee and for which Grain SA accepts no liability. Any prices or levels contained herein are preliminary and indicative only and do not
A43: represent bids or offers. These indications are provided solely for your information and consideration.
A44: Thank you to the Maize Trust for partially funding this project

Sheet Bes-mielies
A1: Produsent prys raming vir BESPROEIING MIELIES vir die / Producer price framework for IRRIGATION MAIZE for the | D1: PRODUKSIEJAAR 2026-27 PRODUCTION YEAR 2026-27
A3: Huidige Produkprys op plaas vir beste graad / Current product price for the best grade (R/TON) (Safex min bemarkingskoste/marketing cost) | D3: ='Pryse + Sensatiwiteitsanalise'!B19 -> 3905.75 | E3: Rand/ton
A5: Beplanningsopbrengs / Estimated yields (ton/ha) | C5: 8 | D5: 10 | E5: 12
A6: Bruto produksiewaarde / Gross production value (R/ha) | C6: 31126 | D6: 38907.5 | E6: 46689
A8: Direk Toedeelbare veranderlike koste / Direct Allocated Variable costs (R/ha)
A9: =Sojabone!A9 -> Saad / Seed | C9: 4242.5625 | D9: 4628.25 | E9: 5013.9375
A10: =Sojabone!A10 -> Kunsmis / Fertiliser | C10: 11396.24 | D10: 14220.3 | E10: 17044.36
A11: =Sojabone!A11 -> Kalk / Lime | C11: 800 | D11: 800 | E11: 800
A12: =Sojabone!A12 -> Brandstof / Fuel | C12: 1981.0705 | D12: 2098.1605 | E12: 2215.2505
A13: =Sojabone!A13 -> Reparasie / Reparation | C13: 1381.7887 | D13: 1401.3021 | E13: 1420.8154
A14: =Sojabone!A14 -> Onkruiddoders / Herbicide | C14: 1108.23 | D14: 1108.23 | E14: 1108.23
A15: =Sojabone!A15 -> Plaagdoder / Pesticides | C15: 333.54 | D15: 333.54 | E15: 333.54
A16: =Sojabone!A16 -> Insetversekering / Input insurance
A17: =Sojabone!A17 -> Besproeiingskoste / Irrigation cost | C17: 11848.4 | D17: 11848.4 | E17: 11848.4
A18: =Sojabone!A18 -> Graanprysverskansing / Grain hedging | C18: 3784.4576 | D18: 4179.3347 | E18: 4574.2119
A19: =Sojabone!A19 -> Kontrakstroop / Contract Harvesting
A20: =Sojabone!A20 -> Oesversekering / Harvest insurance | C20: 1089.41 | D20: 1361.7625 | E20: 1634.115
A21: =Sojabone!A21 -> Lugspuit / Aerial spray | C21: 200 | D21: 200 | E21: 200
A22: =Sojabone!A22 -> Losarbeid / Casual labour | C22: 300 | D22: 300 | E22: 300
A23: =Sojabone!A23 -> Droogkoste / Drying cost
A24: =Sojabone!A24 -> Verpakking en Pakmateriaal / Packaging and packaging material
A25: =Sojabone!A25 -> Produksiekrediet rente / Interest on production R/ha | C25: 2365.6405 | D25: 2612.4757 | E25: 2859.3109
A26: Totale Direk Toedeelbare veranderlike koste / Total Direct Allocated Variable Cost (R/ha) | C26: =SUM(C9:C25) -> 40831.34 | D26: =SUM(D9:D25) -> 45091.756 | E26: =SUM(E9:E25) -> 49352.171
A28: Totale Oorhoofse koste / Total overhead cost R/ha | C28: 6807.9428 | D28: 6807.9428 | E28: 6807.9428
A30: Totale Koste per ha voor fisiese bemarking R/ha / Total cost per ha before marketing cost R/ha | C30: =C26+C28 -> 47639.283 | D30: =D26+D28 -> 51899.698 | E30: =E26+E28 -> 56160.114
A32: Totale koste per ton voor fisiese bemarking R/Ton / Total cost per ton before marketing cost R/Ton | C32: =C30/C5 -> 5954.9103 | D32: =D30/D5 -> 5189.9698 | E32: =E30/E5 -> 4680.0095
A34: Totale bemarkingskoste / Total marketing cost R/ton | C34: ='Pryse + Sensatiwiteitsanalise'!$D$4 -> 406.25 | D34: ='Pryse + Sensatiwiteitsanalise'!$D$4 -> 406.25 | E34: ='Pryse + Sensatiwiteitsanalise'!$D$4 -> 406.25
A36: Verwagte minimum Safex prys SONDER wins/ Expected minimum Safex price, WITHOUT profit | C36: =C32+C34 -> 6361.1603 | D36: =D32+D34 -> 5596.2198 | E36: =E32+E34 -> 5086.2595
A37: Huidige Safex prys / Current Safex price | C37: ='Pryse + Sensatiwiteitsanalise'!B4 -> 4312 | D37: =$C$37 -> 4312 | E37: =$C$37 -> 4312
A39: BRUTO MARGE / GROSS MARGIN (R/ha) | C39: =C6-C26 -> -9705.3399 | D39: =D6-D26 -> -6184.2555 | E39: =E6-E26 -> -2663.1712
A40: NETTO MARGE / NETT MARGIN (R/ha) | C40: =C6-C30 -> -16513.283 | D40: =D6-D30 -> -12992.198 | E40: =E6-E30 -> -9471.114
A41: Disclaimer: The information herein has been obtained from various sources, the accuracy and/or completeness of which Grain SA does not
A42: guarantee and for which Grain SA accepts no liability. Any prices or levels contained herein are preliminary and indicative only and do not
A43: represent bids or offers. These indications are provided solely for your information and consideration.
A44: Thank you to the Maize Trust for partially funding this project

Sheet Sonneblom
A1: Produsent prys raming vir droëland SONNEBLOM vir die / Producer price framework for dry land SUNFLOWER for the | E1: PRODUKSIEJAAR 2026-27 PRODUCTION YEAR 2026-27
A3: Huidige Produkprys op plaas vir beste graad / Current product price for the best grade (R/TON) (Safex min bemarkingskoste/marketing cost) | E3: ='Pryse + Sensatiwiteitsanalise'!B32 -> 9522.48 | F3: Rand/ton
A5: Beplanningsopbrengs / Estimated yields (ton/ha) | D5: 1 | E5: 1.25 | F5: 1.5 | G5: 1.75 | H5: 2
A6: Bruto produksiewaarde / Gross production value (R/ha) | D6: 9522.48 | E6: 11903.1 | F6: 14283.72 | G6: 16664.34 | H6: 19044.96
A8: Direk Toedeelbare veranderlike koste / Direct Allocated Variable costs (R/ha)
A9: ='W-BT Mielies'!A9 -> Saad / Seed | D9: 693.73772 | E9: 743.29042 | F9: 792.84311 | G9: 792.84311 | H9: 792.84311
A10: ='W-BT Mielies'!A10 -> Kunsmis / Fertiliser | D10: 1336.31 | E10: 1645.3875 | F10: 1954.465 | G10: 2263.5425 | H10: 2572.62
A11: ='W-BT Mielies'!A11 -> Kalk / Lime | D11: 800 | E11: 800 | F11: 800 | G11: 800 | H11: 800
A12: ='W-BT Mielies'!A12 -> Brandstof / Fuel | D12: 1527.1461 | E12: 1546.6611 | F12: 1566.1761 | G12: 1585.6911 | H12: 1605.2061
A13: ='W-BT Mielies'!A13 -> Reparasie / Reparation | D13: 1218.5687 | E13: 1219.7571 | F13: 1220.9454 | G13: 1222.1337 | H13: 1223.3221
A14: ='W-BT Mielies'!A14 -> Onkruiddoders / Herbicide | D14: 1011.33 | E14: 1011.33 | F14: 1011.33 | G14: 1011.33 | H14: 1011.33
A15: ='W-BT Mielies'!A15 -> Plaagdoder / Pesticides | D15: 436.72361 | E15: 436.72361 | F15: 436.72361 | G15: 436.72361 | H15: 436.72361
A16: ='W-BT Mielies'!A16 -> Insetversekering / Input insurance
A17: ='W-BT Mielies'!A17 -> Besproeiingskoste / Irrigation cost
A18: ='W-BT Mielies'!A18 -> Graanprysverskansing / Grain hedging | D18: 334.07751 | E18: 354.36233 | F18: 374.64715 | G18: 392.84526 | H18: 411.04337
A19: ='W-BT Mielies'!A19 -> Kontrakstroop / Contract Harvesting
A20: ='W-BT Mielies'!A20 -> Oesversekering / Harvest insurance | D20: 409.46664 | E20: 511.8333 | F20: 614.19996 | G20: 716.56662 | H20: 818.93328
A21: ='W-BT Mielies'!A21 -> Lugspuit / Aerial spray | D21: 200 | E21: 200 | F21: 200 | G21: 200 | H21: 200
A22: ='W-BT Mielies'!A22 -> Losarbeid / Casual labour | D22: 300 | E22: 300 | F22: 300 | G22: 300 | H22: 300
A23: ='W-BT Mielies'!A23 -> Droogkoste / Drying cost
A24: ='W-BT Mielies'!A24 -> Verpakking en Pakmateriaal / Packaging and packaging material
A25: ='W-BT Mielies'!A25 -> Produksiekrediet rente / Interest on production R/ha | D25: 508.44266 | E25: 539.31474 | F25: 570.18682 | G25: 597.88307 | H25: 625.57933
A26: Totale Direk Toedeelbare veranderlike koste / Total Direct Allocated Variable Cost (R/ha) | D26: =SUM(D9:D25) -> 8775.803 | E26: =SUM(E9:E25) -> 9308.6601 | F26: =SUM(F9:F25) -> 9841.5172 | G26: =SUM(G9:G25) -> 10319.559 | H26: =SUM(H9:H25) -> 10797.601
A28: Totale Oorhoofse koste / Total overhead cost R/ha | D28: 5786.3481 | E28: 5786.3481 | F28: 5786.3481 | G28: 5786.3481 | H28: 5786.3481
A30: Totale Koste per ha voor fisiese bemarking R/ha / Total cost per ha before marketing cost R/ha | D30: =D26+D28 -> 14562.151 | E30: =E26+E28 -> 15095.008 | F30: =F26+F28 -> 15627.865 | G30: =G26+G28 -> 16105.907 | H30: =H26+H28 -> 16583.949
A32: Totale koste per ton voor fisiese bemarking R/Ton / Total cost per ton before marketing cost R/Ton | D32: =D30/D5 -> 14562.151 | E32: =E30/E5 -> 12076.007 | F32: =F30/F5 -> 10418.577 | G32: =G30/G5 -> 9203.3755 | H32: =H30/H5 -> 8291.9745
A34: Totale bemarkingskoste / Total marketing cost R/ton | D34: ='Pryse + Sensatiwiteitsanalise'!D5 -> 477.52 | E34: =$D$34 -> 477.52 | F34: =$D$34 -> 477.52 | G34: =$D$34 -> 477.52 | H34: =$D$34 -> 477.52
A36: Verwagte minimum Safex prys SONDER wins/ Expected minimum Safex price, WITHOUT profit | D36: =D32+D34 -> 15039.671 | E36: =E32+E34 -> 12553.527 | F36: =F32+F34 -> 10896.097 | G36: =G32+G34 -> 9680.8955 | H36: =H32+H34 -> 8769.4945
A37: Huidige Safex prys / Current Safex price | D37: ='Pryse + Sensatiwiteitsanalise'!B5 -> 10000 | E37: =$D$37 -> 10000 | F37: =$D$37 -> 10000 | G37: =$D$37 -> 10000 | H37: =$D$37 -> 10000
A39: BRUTO MARGE / GROSS MARGIN (R/ha) | D39: =D6-D26 -> 746.67698 | E39: =E6-E26 -> 2594.4399 | F39: =F6-F26 -> 4442.2028 | G39: =G6-G26 -> 6344.781 | H39: =H6-H26 -> 8247.3591
A40: NETTO MARGE / NETT MARGIN (R/ha) | D40: =D6-D30 -> -5039.6711 | E40: =E6-E30 -> -3191.9082 | F40: =F6-F30 -> -1344.1453 | G40: =G6-G30 -> 558.43289 | H40: =H6-H30 -> 2461.011
A41: Disclaimer: The information herein has been obtained from various sources, the accuracy and/or completeness of which Grain SA does not
A42: guarantee and for which Grain SA accepts no liability. Any prices or levels contained herein are preliminary and indicative only and do not
A43: represent bids or offers. These indications are provided solely for your information and consideration.
A44: Thank you to the Maize Trust for partially funding this project

Sheet Sojabone
A1: Produsent prys raming vir droëland SOJABONE vir die / Producer price framework for dry land SOYBEANS for the | E1: PRODUKSIEJAAR 2026-27 PRODUCTION YEAR 2026-27
A3: Huidige Produkprys op plaas vir beste graad / Current product price for the best grade (R/TON) (Safex min bemarkingskoste/marketing cost) | E3: ='Pryse + Sensatiwiteitsanalise'!B45 -> 8238.83 | F3: Rand/ton
A5: Beplanningsopbrengs / Estimated yields (ton/ha) | D5: 1 | E5: 1.5 | F5: 1.8 | G5: 2
A6: Bruto produksiewaarde / Gross production value (R/ha) | D6: 8238.83 | E6: 12358.245 | F6: 14829.894 | G6: 16477.66
I7: Sojabone
A8: Direk Toedeelbare veranderlike koste / Direct Allocated Variable costs (R/ha) | I8: Opbrengspeil | J8: Lopende koste | K8: Oorhoofse koste
A9: =Sonneblom!A9 -> Saad / Seed | D9: 2269.8023 | E9: 2269.8023 | F9: 2269.8023 | G9: 2269.8023 | I9: =D5 -> 1 | J9: =D26 -> 11016.065 | K9: =D28 -> 4226.6699
A10: =Sonneblom!A10 -> Kunsmis / Fertiliser | D10: 1441.74 | E10: 2112.61 | F10: 2515.132 | G10: 2783.48 | I10: =E5 -> 1.5 | J10: =E26 -> 12233.987 | K10: =E28 -> 4226.6699
A11: =Sonneblom!A11 -> Kalk / Lime | D11: 800 | E11: 800 | F11: 800 | G11: 800 | I11: =F5 -> 1.8 | J11: =F26 -> 12941.519 | K11: =F28 -> 4226.6699
A12: =Sonneblom!A12 -> Brandstof / Fuel | D12: 1572.5565 | E12: 1598.5765 | F12: 1619.3925 | G12: 1637.6065 | I12: =G5 -> 2 | J12: =G26 -> 13418.04 | K12: =G28 -> 4226.6699
A13: =Sonneblom!A13 -> Reparasie / Reparation | D13: 1147.1037 | E13: 1192.8804 | F13: 1194.3064 | G13: 1195.2571 | I13: =#REF! -> #REF! | J13: =#REF! -> #REF! | K13: =#REF! -> #REF!
A14: =Sonneblom!A14 -> Onkruiddoders / Herbicide | D14: 590.58 | E14: 590.58 | F14: 590.58 | G14: 590.58
A15: =Sonneblom!A15 -> Plaagdoder / Pesticides | D15: 862.41 | E15: 862.41 | F15: 862.41 | G15: 862.41
A16: =Sonneblom!A16 -> Insetversekering / Input insurance
A17: =Sonneblom!A17 -> Besproeiingskoste / Irrigation cost
A18: =Sonneblom!A18 -> Graanprysverskansing / Grain hedging | D18: 493.33504 | E18: 547.87754 | F18: 579.56311 | G18: 600.90327
A19: =Sonneblom!A19 -> Kontrakstroop / Contract Harvesting
A20: =Sonneblom!A20 -> Oesversekering / Harvest insurance | D20: 700.30055 | E20: 1050.4508 | F20: 1260.541 | G20: 1400.6011
A21: =Sonneblom!A21 -> Lugspuit / Aerial spray | D21: 200 | E21: 200 | F21: 200 | G21: 200
A22: =Sonneblom!A22 -> Losarbeid / Casual labour | D22: 300 | E22: 300 | F22: 300 | G22: 300
A23: =Sonneblom!A23 -> Droogkoste / Drying cost
A24: =Sonneblom!A24 -> Verpakking en Pakmateriaal / Packaging and packaging material
A25: =Sonneblom!A25 -> Produksiekrediet rente / Interest on production R/ha | D25: 638.23643 | E25: 708.79904 | F25: 749.79123 | G25: 777.39938
A26: Totale Direk Toedeelbare veranderlike koste / Total Direct Allocated Variable Cost (R/ha) | D26: =SUM(D9:D25) -> 11016.065 | E26: =SUM(E9:E25) -> 12233.987 | F26: =SUM(F9:F25) -> 12941.519 | G26: =SUM(G9:G25) -> 13418.04
A28: Totale Oorhoofse koste / Total overhead cost R/ha | D28: 4226.6699 | E28: 4226.6699 | F28: 4226.6699 | G28: 4226.6699
A30: Totale Koste per ha voor fisiese bemarking R/ha / Total cost per ha before marketing cost R/ha | D30: =D26+D28 -> 15242.734 | E30: =E26+E28 -> 16460.656 | F30: =F26+F28 -> 17168.188 | G30: =G26+G28 -> 17644.709
A32: Totale koste per ton voor fisiese bemarking R/Ton / Total cost per ton before marketing cost R/Ton | D32: =D30/D5 -> 15242.734 | E32: =E30/E5 -> 10973.771 | F32: =F30/F5 -> 9537.8824 | G32: =G30/G5 -> 8822.3547
A34: Totale bemarkingskoste / Total marketing cost R/ton | D34: ='Pryse + Sensatiwiteitsanalise'!$D$6 -> 106.17 | E34: ='Pryse + Sensatiwiteitsanalise'!$D$6 -> 106.17 | F34: ='Pryse + Sensatiwiteitsanalise'!$D$6 -> 106.17 | G34: ='Pryse + Sensatiwiteitsanalise'!$D$6 -> 106.17
A36: Verwagte minimum Safex prys SONDER wins/ Expected minimum Safex price, WITHOUT profit | D36: =D32+D34 -> 15348.904 | E36: =E32+E34 -> 11079.941 | F36: =F32+F34 -> 9644.0524 | G36: =G32+G34 -> 8928.5247
A37: Huidige Safex prys / Current Safex price | D37: ='Pryse + Sensatiwiteitsanalise'!B6 -> 8345 | E37: =$D$37 -> 8345 | F37: =$D$37 -> 8345 | G37: =$D$37 -> 8345
A39: BRUTO MARGE / GROSS MARGIN (R/ha) | D39: =D6-D26 -> -2777.2346 | E39: =E6-E26 -> 124.25838 | F39: =F6-F26 -> 1888.3754 | G39: =G6-G26 -> 3059.6204
A40: NETTO MARGE / NETT MARGIN (R/ha) | D40: =D6-D30 -> -7003.9044 | E40: =E6-E30 -> -4102.4115 | F40: =F6-F30 -> -2338.2944 | G40: =G6-G30 -> -1167.0495
A41: Disclaimer: The information herein has been obtained from various sources, the accuracy and/or completeness of which Grain SA does not
A42: guarantee and for which Grain SA accepts no liability. Any prices or levels contained herein are preliminary and indicative only and do not
A43: represent bids or offers. These indications are provided solely for your information and consideration.
A44: Thank you to the Maize Trust for partially funding this project

Sheet Crop Comparison
A1: EASTERN FREE STATE INCOME & COST BUDGETS - SUMMER CROPS 2026/27 | B1: Column1 | C1: Column2 | D1: Column3 | E1: Column4
A2: Crop | B2: ='[4]Rent calculations'!B2 -> Maize (conven) | C2: ='[4]Rent calculations'!C2 -> Maize (Bt) | D2: ='[4]Rent calculations'!D2 -> Sunflower | E2: ='[4]Rent calculations'!E2 -> Soy bean | F2: ='[4]Rent calculations'!F2 -> Irr-Maize | I2: Free State 5-year average (2020/21-2024/25 production seasons)
A3: 1) INCOME | I3: Yellow Maize | J3: 6.2
A4: Yield target (ton/ha) | B4: =J3 -> 6.2 | C4: =J3 -> 6.2 | D4: =J5 -> 1.428 | E4: =J4 -> 2.033 | F4: ='Bes-mielies'!C5 -> 8 | I4: Soybeans | J4: 2.033
A5: SAFEX: Estimated Price | B5: ='Pryse + Sensatiwiteitsanalise'!B4 -> 4312 | C5: =B5 -> 4312 | D5: ='Pryse + Sensatiwiteitsanalise'!B5 -> 10000 | E5: ='Pryse + Sensatiwiteitsanalise'!B6 -> 8345 | F5: =B5 -> 4312 | I5: Sunflowers | J5: 1.428
A6: Deductions | B6: ='Pryse + Sensatiwiteitsanalise'!D4 -> 406.25 | C6: =B6 -> 406.25 | D6: ='Pryse + Sensatiwiteitsanalise'!D5 -> 477.52 | E6: ='Pryse + Sensatiwiteitsanalise'!D6 -> 106.17 | F6: =B6 -> 406.25
A7: Net Farm Gate Price | B7: =B5-B6 -> 3905.75 | C7: =C5-C6 -> 3905.75 | D7: =D5-D6 -> 9522.48 | E7: =E5-E6 -> 8238.83 | F7: =F5-F6 -> 3905.75
A8: GROSS INCOME (R/ha) | B8: =B4*B7 -> 24215.65 | C8: =C4*C7 -> 24215.65 | D8: =D4*D7 -> 13598.101 | E8: =E4*E7 -> 16749.541 | F8: =F4*F7 -> 31246 | I8: Note
I9: In instances where the average national yield is not estimated, the minimum estimated/ expected yield is used.
A10: 2) VARIABLE EXPENDITURES
A11: ='W-Mielie '!A9 -> Saad / Seed | B11: ='W-Mielie '!I9 -> 1806.7071 | C11: ='W-BT Mielies'!H9 -> 2728.4379 | D11: =Sonneblom!E9 -> 743.29042 | E11: =Sojabone!G9 -> 2269.8023 | F11: ='Bes-mielies'!C9 -> 4242.5625
A12: ='W-Mielie '!A10 -> Kunsmis / Fertiliser | B12: ='W-Mielie '!I10 -> 8099.62 | C12: ='W-BT Mielies'!H10 -> 8099.62 | D12: =Sonneblom!E10 -> 1645.3875 | E12: =Sojabone!G10 -> 2783.48 | F12: ='Bes-mielies'!C10 -> 11396.24
A13: ='W-Mielie '!A11 -> Kalk / Lime | B13: ='W-Mielie '!I11 -> 800 | C13: ='W-BT Mielies'!H11 -> 800 | D13: =Sonneblom!E11 -> 800 | E13: =Sojabone!G11 -> 800 | F13: ='Bes-mielies'!C11 -> 800
A14: ='W-Mielie '!A12 -> Brandstof / Fuel | B14: ='W-Mielie '!I12 -> 1942.0405 | C14: ='W-BT Mielies'!H12 -> 1942.0405 | D14: =Sonneblom!E12 -> 1546.6611 | E14: =Sojabone!G12 -> 1637.6065 | F14: ='Bes-mielies'!C12 -> 1981.0705
A15: ='W-Mielie '!A13 -> Reparasie / Reparation | B15: ='W-Mielie '!I13 -> 1362.7754 | C15: ='W-BT Mielies'!H13 -> 1362.7754 | D15: =Sonneblom!E13 -> 1219.7571 | E15: =Sojabone!G13 -> 1195.2571 | F15: ='Bes-mielies'!C13 -> 1381.7887
A16: ='W-Mielie '!A14 -> Onkruiddoders / Herbicide | B16: ='W-Mielie '!I14 -> 1108.23 | C16: ='W-BT Mielies'!H14 -> 1108.23 | D16: =Sonneblom!E14 -> 1011.33 | E16: =Sojabone!G14 -> 590.58 | F16: ='Bes-mielies'!C14 -> 1108.23
A17: ='W-Mielie '!A15 -> Plaagdoder / Pesticides | B17: ='W-Mielie '!I15 -> 333.54 | C17: ='W-BT Mielies'!H15 -> 333.54 | D17: =Sonneblom!E15 -> 436.72361 | E17: =Sojabone!G15 -> 862.41 | F17: ='Bes-mielies'!C15 -> 333.54
A18: ='W-Mielie '!A16 -> Insetversekering / Input insurance
A19: ='W-Mielie '!A17 -> Besproeiingskoste / Irrigation cost | F19: ='Bes-mielies'!C17 -> 11848.4
A20: ='W-Mielie '!A18 -> Graanprysverskansing / Grain hedging | B20: ='W-Mielie '!I18 -> 1829.9588 | C20: ='W-BT Mielies'!H18 -> 1935.2256 | D20: =Sonneblom!E18 -> 354.36233 | E20: =Sojabone!G18 -> 600.90327 | F20: ='Bes-mielies'!C18 -> 3784.4576
A21: ='W-Mielie '!A19 -> Kontrakstroop / Contract Harvesting
A22: ='W-Mielie '!A20 -> Oesversekering / Harvest insurance | B22: ='W-Mielie '!I20 -> 817.0575 | C22: ='W-BT Mielies'!H20 -> 860.00513 | D22: =Sonneblom!E20 -> 511.8333 | E22: =Sojabone!G20 -> 1400.6011 | F22: ='Bes-mielies'!C20 -> 1089.41
A23: ='W-Mielie '!A21 -> Lugspuit / Aerial spray | B23: ='W-Mielie '!I21 -> 200 | C23: ='W-BT Mielies'!H21 -> 200 | D23: =Sonneblom!E21 -> 200 | E23: =Sojabone!G21 -> 200 | F23: ='Bes-mielies'!C21 -> 200
A24: ='W-Mielie '!A22 -> Losarbeid / Casual labour | B24: ='W-Mielie '!I22 -> 300 | C24: ='W-BT Mielies'!H22 -> 300 | D24: =Sonneblom!E22 -> 300 | E24: =Sojabone!G22 -> 300 | F24: ='Bes-mielies'!C22 -> 300
A25: ='W-Mielie '!A23 -> Droogkoste / Drying cost
A26: ='W-Mielie '!A24 -> Verpakking en Pakmateriaal / Packaging and packaging material
A27: ='W-Mielie '!A25 -> Produksiekrediet rente / Interest on production R/ha | B27: ='W-Mielie '!I25 -> 1715.8435 | C27: ='W-BT Mielies'!H25 -> 1814.5459 | D27: =Sonneblom!E25 -> 539.31474 | E27: =Sojabone!G25 -> 777.39938 | F27: ='Bes-mielies'!C25 -> 2365.6405
A28: TOTAL VARIABLE EXPENDITURE (R/ha) | B28: =SUM(B11:B27) -> 20315.773 | C28: =SUM(C11:C27) -> 21484.42 | D28: =SUM(D11:D27) -> 9308.6601 | E28: =SUM(E11:E27) -> 13418.04 | F28: =SUM(F11:F27) -> 40831.34
A30: TOTAL FIXED COST (R/ha) | B30: ='W-Mielie '!I28 -> 7499.1824 | C30: ='W-BT Mielies'!C28 -> 6856.4322 | D30: =Sonneblom!D28 -> 5786.3481 | E30: =Sojabone!D28 -> 4226.6699 | F30: ='Bes-mielies'!C28 -> 6807.9428
A32: TOTAL COST (R/ha) | B32: =B28+B30 -> 27814.955 | C32: =C28+C30 -> 28340.853 | D32: =D28+D30 -> 15095.008 | E32: =E28+E30 -> 17644.709 | F32: =F28+F30 -> 47639.283
A34: 3) GROSS MARGIN (R/ha) | B34: =B8-B28 -> 3899.8772 | C34: =C8-C28 -> 2731.2296 | D34: =D8-D28 -> 4289.4413 | E34: =E8-E28 -> 3331.5018 | F34: =F8-F28 -> -9585.3399
A35: 4) NETT MARGIN (R/ha) | B35: =B8-B32 -> -3599.3052 | C35: =C8-C32 -> -4125.2027 | D35: =D8-D32 -> -1496.9067 | E35: =E8-E32 -> -895.16809 | F35: =F8-F32 -> -16393.283
A37: Disclaimer: The information herein has been obtained from various sources, the accuracy and/or completeness of which Grain SA does not guarantee and for which Grain SA accepts no liability. Any prices or levels contained herein are preliminary and indicative only and do not represent bids or offers. These indications are provided solely for your information and consideration.
A58: SUMMARY
B59: =B2 -> Maize (conven) | C59: =C2 -> Maize (Bt) | D59: =D2 -> Sunflower | E59: =E2 -> Soy bean | F59: =F2 -> Irr-Maize
A60: SAFEX: Estimated Price | B60: =B5 -> 4312 | C60: =C5 -> 4312 | D60: =D5 -> 10000 | E60: =E5 -> 8345 | F60: =F5 -> 4312
A61: LGO (ton/ha) | B61: =B4 -> 6.2 | C61: =C4 -> 6.2 | D61: =D4 -> 1.428 | E61: =E4 -> 2.033 | F61: =F4 -> 8
A63: 1) INCOME
A64: Net Farm Gate Price (R/ha) | B64: =B7 -> 3905.75 | C64: =C7 -> 3905.75 | D64: =D7 -> 9522.48 | E64: =E7 -> 8238.83 | F64: =F7 -> 3905.75
A65: Net Farm Gate Price (R/ton) | B65: =B64/B61 -> 629.95968 | C65: =C64/C61 -> 629.95968 | D65: =D64/D61 -> 6668.4034 | E65: =E64/E61 -> 4052.548 | F65: =F64/F61 -> 488.21875
...

Sheet Grafieke
A1: Winsgewendheid: Mielies | D1: Pointer
A2: Start | B2: 0 | C2: 0 | D2: % NM van tot | F2: =((B4+B3+F7)/B7)*100 -> 46.075459
A3: Veranderlike koste | B3: ='Crop Comparison'!C28 -> 21484.42 | C3: =B3/$B$7*100 -> 40.87871 | D3: Pointer | F3: 1
A4: Vaste koste | B4: ='Crop Comparison'!C30 -> 6856.4322 | C4: =B4/$B$7*100 -> 13.04583 | D4: End | F4: =C7-F3-F2 -> 152.92454
A5: Totale inkomste | B5: ='Crop Comparison'!C8 -> 24215.65 | C5: =B5/$B$7*100 -> 46.075459
A6: Max | C6: 100
A7: Totaal | B7: =SUM(B3:B5) -> 52556.503 | C7: =SUM(C2:C6) -> 200 | D7: Netto Marge | F7: =B5-(B3+B4) -> -4125.2027
A18: Winsgewendheid: Sonneblom | D18: Pointer
A19: Start | B19: 0 | C19: 0 | D19: % NM van tot | F19: =((B21+B20+F24)/B24)*100 -> 47.391522
A20: Veranderlike koste | B20: ='Crop Comparison'!D28 -> 9308.6601 | C20: =B20/$B$24*100 -> 32.442145 | D20: Pointer | F20: 1
A21: Vaste koste | B21: ='Crop Comparison'!D30 -> 5786.3481 | C21: =B21/$B$24*100 -> 20.166333 | D21: End | F21: =C24-F20-F19 -> 151.60848
A22: Totale inkomste | B22: ='Crop Comparison'!D8 -> 13598.101 | C22: =B22/$B$24*100 -> 47.391522
A23: Max | C23: 100
A24: Totaal | B24: =SUM(B20:B22) -> 28693.11 | C24: =SUM(C19:C23) -> 200 | D24: Netto Marge | F24: =B22-(B20+B21) -> -1496.9067
A35: Winsgewendheid: Sojabone | D35: Pointer
A36: Start | B36: 0 | C36: 0 | D36: % NM van tot | F36: =((B38+B37+F41)/B41)*100 -> 48.698666
A37: Veranderlike koste | B37: ='Crop Comparison'!E28 -> 13418.04 | C37: =B37/$B$41*100 -> 39.012449 | D37: Pointer | F37: 1
A38: Vaste koste | B38: ='Crop Comparison'!E30 -> 4226.6699 | C38: =B38/$B$41*100 -> 12.288885 | D38: End | F38: =C41-F37-F36 -> 150.30133
A39: Totale inkomste | B39: ='Crop Comparison'!E8 -> 16749.541 | C39: =B39/$B$41*100 -> 48.698666
A40: Max | C40: 100
A41: Totaal | B41: =SUM(B37:B39) -> 34394.251 | C41: =SUM(C36:C40) -> 200 | D41: Netto Marge | F41: =B39-(B37+B38) -> -895.16809
