Workbook
Name BTopbrengspeil: '[1]W-BT Mielies'!$K$9:$K$14
Name BTopbrengspeil: 'W-BT Mielies '!$M$9:$M$14
Name Cultivar: [2]Seedprices!$A$3:$A$49
Name Price80DP: [2]Seedprices!$B$3:$B$49
Name RRHpbrengspeil: 'W-RR mielies Hoer opbrengs '!$L$9:$L$14
Name RRLopbrengspeil: 'W-RR mielies Laer opbrengs '!$M$9:$M$14
Name RRopbrengspeil: 'W-RR mielies Laer opbrengs '!$M$9:$M$14
Name RRopbrens: '[3]W-BT Mielies'!$K$9:$K$14
Name Sojaopbrengspeil: [1]Sojabone!$K$9:$K$13
Name Sojaopbrengspeil: Sojabone!$L$9:$L$13
Name Sonopbrengspeil: [1]Sonneblom!$K$9:$K$13
Name Sonopbrengspeil: Sonneblom!$M$9:$M$14
Name Sorgopbrengspeil: [1]Graansorghum!$K$9:$K$13
Name Sorgopbrengspeil: Graansorghum!$L$9:$L$13
Name Verminopbrengspeil: #REF!

Sheet Pryse + Sensatiwiteitsanali
A1: NWFS | B1: 2026/27 season
A2: Datum opgedateer / Date updated | B2: 46269
A3: Gewas | B3: SAFEX pryse (R/ton) | D3: Total deductions (R/ton)
A4: Mielies / Maize- Jul 27 | B4: 4312 | D4: 408.16
A5: Sonneblom / Sunflower- Mei 27 | B5: 10000 | D5: 473.27
A6: Sojabone / Soybeans- Mei 27 | B6: 8345 | D6: 209.49
A7: Graansorghum / Grain sorghum | B7: 3500 | D7: 132
A8: Grondbone/ Groundnuts: Keur/ Choice 1 | B8: 21767 | D8: 63
A9: Keur/ Choice 2 | B9: 18150
A10: Diverse | B10: 16083
A11: Pers (eet) / Crush (eat) | B11: 5467
A12: Pers (olie) / Crush (oil) | B12: 3517
A13: Hooi verkope / sales
A17: ROUNDUP READY MIELIES (Laer potensiaal) / ROUNDUP READY MAIZE (Lower potential) | D17: MIELIES: SENSITIWITEITSANALISE - TOTALE KOSTES ( DIREKTE KOSTE + VASTE KOSTE) R/ton | P17: MIELIES: SENSITIWITEITSANALISE - DIREKTE KOSTE R/ton
A18: Lopendekoste / Variable cost (R/ha) | B18: ='Crop Comparison'!B27 -> 16517.496 | J18: Huidig | V18: Huidig
A19: Oorhoofse koste / Overhead cost (R/ha) | B19: ='W-RR mielies Laer opbrengs '!E27 -> 7127.22 | D19: SAFEX prys / price(R/ton) | F19: =G19-250 -> 3312 | G19: =H19-250 -> 3562 | H19: =I19-250 -> 3812 | I19: =J19-250 -> 4062 | J19: =B24 -> 4312 | K19: =J19+250 -> 4562 | L19: =K19+250 -> 4812 | M19: =L19+250 -> 5062 | N19: =M19+250 -> 5312 | P19: SAFEX prys / price(R/ton) | R19: =S19-250 -> 3312 | S19: =T19-250 -> 3562 | T19: =U19-250 -> 3812 | U19: =V19-250 -> 4062 | V19: =J19 -> 4312 | W19: =V19+250 -> 4562 | X19: =W19+250 -> 4812 | Y19: =X19+250 -> 5062 | Z19: =Y19+250 -> 5312
A20: Totale Koste / Total cost (R/ha) | B20: =B19+B18 -> 23644.716 | D20: Produsenteprys/ Producer price | F20: =F19-$B$25 -> 2903.84 | G20: =G19-$B$25 -> 3153.84 | H20: =H19-$B$25 -> 3403.84 | I20: =I19-$B$25 -> 3653.84 | J20: =J19-$B$25 -> 3903.84 | K20: =K19-$B$25 -> 4153.84 | L20: =L19-$B$25 -> 4403.84 | M20: =M19-$B$25 -> 4653.84 | N20: =N19-$B$25 -> 4903.84 | P20: Produsenteprys/ Producer price | R20: =R19-$B$25 -> 2903.84 | S20: =S19-$B$25 -> 3153.84 | T20: =T19-$B$25 -> 3403.84 | U20: =U19-$B$25 -> 3653.84 | V20: =V19-$B$25 -> 3903.84 | W20: =W19-$B$25 -> 4153.84 | X20: =X19-$B$25 -> 4403.84 | Y20: =Y19-$B$25 -> 4653.84 | Z20: =Z19-$B$25 -> 4903.84
D21: Opbrengs / Yield (t/ha) | E21: =E22-0.5 -> 3 | F21: =F$20-($B$20/$E21) -> -4977.732 | G21: =G$20-($B$20/$E21) -> -4727.732 | H21: =H$20-($B$20/$E21) -> -4477.732 | I21: =I$20-($B$20/$E21) -> -4227.732 | J21: =J$20-($B$20/$E21) -> -3977.732 | K21: =K$20-($B$20/$E21) -> -3727.732 | L21: =L$20-($B$20/$E21) -> -3477.732 | M21: =M$20-($B$20/$E21) -> -3227.732 | N21: =N$20-($B$20/$E21) -> -2977.732 | P21: Opbrengs / Yield (t/ha) | Q21: =Q22-0.5 -> 3 | R21: =R$20-($B$18/$E21) -> -2601.992 | S21: =S$20-($B$18/$E21) -> -2351.992 | T21: =T$20-($B$18/$E21) -> -2101.992 | U21: =U$20-($B$18/$E21) -> -1851.992 | V21: =V$20-($B$18/$E21) -> -1601.992 | W21: =W$20-($B$18/$E21) -> -1351.992 | X21: =X$20-($B$18/$E21) -> -1101.992 | Y21: =Y$20-($B$18/$E21) -> -851.99199 | Z21: =Z$20-($B$18/$E21) -> -601.99199
A22: Gemid Opbrengs / Average Yield (t/ha) | B22: 4 | E22: =E23-0.5 -> 3.5 | F22: =F$20-($B$20/$E22) -> -3851.7931 | G22: =G$20-($B$20/$E22) -> -3601.7931 | H22: =H$20-($B$20/$E22) -> -3351.7931 | I22: =I$20-($B$20/$E22) -> -3101.7931 | J22: =J$20-($B$20/$E22) -> -2851.7931 | K22: =K$20-($B$20/$E22) -> -2601.7931 | L22: =L$20-($B$20/$E22) -> -2351.7931 | M22: =M$20-($B$20/$E22) -> -2101.7931 | N22: =N$20-($B$20/$E22) -> -1851.7931 | Q22: =Q23-0.5 -> 3.5 | R22: =R$20-($B$18/$E22) -> -1815.4446 | S22: =S$20-($B$18/$E22) -> -1565.4446 | T22: =T$20-($B$18/$E22) -> -1315.4446 | U22: =U$20-($B$18/$E22) -> -1065.4446 | V22: =V$20-($B$18/$E22) -> -815.44456 | W22: =W$20-($B$18/$E22) -> -565.44456 | X22: =X$20-($B$18/$E22) -> -315.44456 | Y22: =Y$20-($B$18/$E22) -> -65.444562 | Z22: =Z$20-($B$18/$E22) -> 184.55544
E23: =B22 -> 4 | F23: =F$20-($B$20/$E23) -> -3007.339 | G23: =G$20-($B$20/$E23) -> -2757.339 | H23: =H$20-($B$20/$E23) -> -2507.339 | I23: =I$20-($B$20/$E23) -> -2257.339 | J23: =J$20-($B$20/$E23) -> -2007.339 | K23: =K$20-($B$20/$E23) -> -1757.339 | L23: =L$20-($B$20/$E23) -> -1507.339 | M23: =M$20-($B$20/$E23) -> -1257.339 | N23: =N$20-($B$20/$E23) -> -1007.339 | Q23: =E23 -> 4 | R23: =R$20-($B$18/$E23) -> -1225.534 | S23: =S$20-($B$18/$E23) -> -975.53399 | T23: =T$20-($B$18/$E23) -> -725.53399 | U23: =U$20-($B$18/$E23) -> -475.53399 | V23: =V$20-($B$18/$E23) -> -225.53399 | W23: =W$20-($B$18/$E23) -> 24.466008 | X23: =X$20-($B$18/$E23) -> 274.46601 | Y23: =Y$20-($B$18/$E23) -> 524.46601 | Z23: =Z$20-($B$18/$E23) -> 774.46601
A24: SAFEX Jul'27 WM 1 prys/price (R/ton) | B24: =$B$4 -> 4312 | E24: =E23+0.5 -> 4.5 | F24: =F$20-($B$20/$E24) -> -2350.5413 | G24: =G$20-($B$20/$E24) -> -2100.5413 | H24: =H$20-($B$20/$E24) -> -1850.5413 | I24: =I$20-($B$20/$E24) -> -1600.5413 | J24: =J$20-($B$20/$E24) -> -1350.5413 | K24: =K$20-($B$20/$E24) -> -1100.5413 | L24: =L$20-($B$20/$E24) -> -850.54133 | M24: =M$20-($B$20/$E24) -> -600.54133 | N24: =N$20-($B$20/$E24) -> -350.54133 | Q24: =Q23+0.5 -> 4.5 | R24: =R$20-($B$18/$E24) -> -766.71466 | S24: =S$20-($B$18/$E24) -> -516.71466 | T24: =T$20-($B$18/$E24) -> -266.71466 | U24: =U$20-($B$18/$E24) -> -16.714659 | V24: =V$20-($B$18/$E24) -> 233.28534 | W24: =W$20-($B$18/$E24) -> 483.28534 | X24: =X$20-($B$18/$E24) -> 733.28534 | Y24: =Y$20-($B$18/$E24) -> 983.28534 | Z24: =Z$20-($B$18/$E24) -> 1233.2853
A25: Aftrekkings / Deductions | B25: =D4 -> 408.16 | E25: =E24+0.5 -> 5 | F25: =F$20-($B$20/$E25) -> -1825.1032 | G25: =G$20-($B$20/$E25) -> -1575.1032 | H25: =H$20-($B$20/$E25) -> -1325.1032 | I25: =I$20-($B$20/$E25) -> -1075.1032 | J25: =J$20-($B$20/$E25) -> -825.10319 | K25: =K$20-($B$20/$E25) -> -575.10319 | L25: =L$20-($B$20/$E25) -> -325.10319 | M25: =M$20-($B$20/$E25) -> -75.103193 | N25: =N$20-($B$20/$E25) -> 174.89681 | Q25: =Q24+0.5 -> 5 | R25: =R$20-($B$18/$E25) -> -399.65919 | S25: =S$20-($B$18/$E25) -> -149.65919 | T25: =T$20-($B$18/$E25) -> 100.34081 | U25: =U$20-($B$18/$E25) -> 350.34081 | V25: =V$20-($B$18/$E25) -> 600.34081 | W25: =W$20-($B$18/$E25) -> 850.34081 | X25: =X$20-($B$18/$E25) -> 1100.3408 | Y25: =Y$20-($B$18/$E25) -> 1350.3408 | Z25: =Z$20-($B$18/$E25) -> 1600.3408
A26: Produsenteprys/ Producer price (R/ton) | B26: =B24-B25 -> 3903.84
A30: ROUNDUP READY MIELIES (Hoёr potensiaal) / ROUNDUP READY MAIZE (Higher potential) | D30: MIELIES: SENSITIWITEITSANALISE - TOTALE KOSTES ( DIREKTE KOSTE + VASTE KOSTE) R/ton | P30: MIELIES: SENSITIWITEITSANALISE - DIREKTE KOSTE R/ton
A31: Lopendekoste / Variable cost (R/ha) | B31: ='Crop Comparison'!C27 -> 22591.126 | J31: Huidig | V31: Huidig
A32: Oorhoofse koste / Overhead cost (R/ha) | B32: ='W-RR mielies Hoer opbrengs '!G27 -> 7328.61 | D32: SAFEX prys / price(R/ton) | F32: =G32-250 -> 3312 | G32: =H32-250 -> 3562 | H32: =I32-250 -> 3812 | I32: =J32-250 -> 4062 | J32: =B37 -> 4312 | K32: =J32+250 -> 4562 | L32: =K32+250 -> 4812 | M32: =L32+250 -> 5062 | N32: =M32+250 -> 5312 | P32: SAFEX prys / price(R/ton) | R32: =S32-250 -> 3312 | S32: =T32-250 -> 3562 | T32: =U32-250 -> 3812 | U32: =V32-250 -> 4062 | V32: =J32 -> 4312 | W32: =V32+250 -> 4562 | X32: =W32+250 -> 4812 | Y32: =X32+250 -> 5062 | Z32: =Y32+250 -> 5312
A33: Totale Koste / Total cost (R/ha) | B33: =B32+B31 -> 29919.736 | D33: Produsenteprys/ Producer price | F33: =F32-$B$25 -> 2903.84 | G33: =G32-$B$25 -> 3153.84 | H33: =H32-$B$25 -> 3403.84 | I33: =I32-$B$25 -> 3653.84 | J33: =J32-$B$25 -> 3903.84 | K33: =K32-$B$25 -> 4153.84 | L33: =L32-$B$25 -> 4403.84 | M33: =M32-$B$25 -> 4653.84 | N33: =N32-$B$25 -> 4903.84 | P33: Produsenteprys/ Producer price | R33: =R32-$B$25 -> 2903.84 | S33: =S32-$B$25 -> 3153.84 | T33: =T32-$B$25 -> 3403.84 | U33: =U32-$B$25 -> 3653.84 | V33: =V32-$B$25 -> 3903.84 | W33: =W32-$B$25 -> 4153.84 | X33: =X32-$B$25 -> 4403.84 | Y33: =Y32-$B$25 -> 4653.84 | Z33: =Z32-$B$25 -> 4903.84
D34: Opbrengs / Yield (t/ha) | E34: =E35-0.5 -> 5 | F34: =F$33-($B$33/$E34) -> -3080.1072 | G34: =G$33-($B$33/$E34) -> -2830.1072 | H34: =H$33-($B$33/$E34) -> -2580.1072 | I34: =I$33-($B$33/$E34) -> -2330.1072 | J34: =J$33-($B$33/$E34) -> -2080.1072 | K34: =K$33-($B$33/$E34) -> -1830.1072 | L34: =L$33-($B$33/$E34) -> -1580.1072 | M34: =M$33-($B$33/$E34) -> -1330.1072 | N34: =N$33-($B$33/$E34) -> -1080.1072 | P34: Opbrengs / Yield (t/ha) | Q34: =Q35-0.5 -> 5 | R34: =R$33-($B$31/$E34) -> -1614.3852 | S34: =S$33-($B$31/$E34) -> -1364.3852 | T34: =T$33-($B$31/$E34) -> -1114.3852 | U34: =U$33-($B$31/$E34) -> -864.38525 | V34: =V$33-($B$31/$E34) -> -614.38525 | W34: =W$33-($B$31/$E34) -> -364.38525 | X34: =X$33-($B$31/$E34) -> -114.38525 | Y34: =Y$33-($B$31/$E34) -> 135.61475 | Z34: =Z$33-($B$31/$E34) -> 385.61475
A35: Gemid Opbrengs / Average Yield (t/ha) | B35: 6 | E35: =E36-0.5 -> 5.5 | F35: =F$33-($B$33/$E35) -> -2536.112 | G35: =G$33-($B$33/$E35) -> -2286.112 | H35: =H$33-($B$33/$E35) -> -2036.112 | I35: =I$33-($B$33/$E35) -> -1786.112 | J35: =J$33-($B$33/$E35) -> -1536.112 | K35: =K$33-($B$33/$E35) -> -1286.112 | L35: =L$33-($B$33/$E35) -> -1036.112 | M35: =M$33-($B$33/$E35) -> -786.11204 | N35: =N$33-($B$33/$E35) -> -536.11204 | Q35: =Q36-0.5 -> 5.5 | R35: =R$33-($B$31/$E35) -> -1203.6375 | S35: =S$33-($B$31/$E35) -> -953.6375 | T35: =T$33-($B$31/$E35) -> -703.6375 | U35: =U$33-($B$31/$E35) -> -453.6375 | V35: =V$33-($B$31/$E35) -> -203.6375 | W35: =W$33-($B$31/$E35) -> 46.362503 | X35: =X$33-($B$31/$E35) -> 296.3625 | Y35: =Y$33-($B$31/$E35) -> 546.3625 | Z35: =Z$33-($B$31/$E35) -> 796.3625
E36: =B35 -> 6 | F36: =F$33-($B$33/$E36) -> -2082.7827 | G36: =G$33-($B$33/$E36) -> -1832.7827 | H36: =H$33-($B$33/$E36) -> -1582.7827 | I36: =I$33-($B$33/$E36) -> -1332.7827 | J36: =J$33-($B$33/$E36) -> -1082.7827 | K36: =K$33-($B$33/$E36) -> -832.78271 | L36: =L$33-($B$33/$E36) -> -582.78271 | M36: =M$33-($B$33/$E36) -> -332.78271 | N36: =N$33-($B$33/$E36) -> -82.782706 | Q36: =E36 -> 6 | R36: =R$33-($B$31/$E36) -> -861.34771 | S36: =S$33-($B$31/$E36) -> -611.34771 | T36: =T$33-($B$31/$E36) -> -361.34771 | U36: =U$33-($B$31/$E36) -> -111.34771 | V36: =V$33-($B$31/$E36) -> 138.65229 | W36: =W$33-($B$31/$E36) -> 388.65229 | X36: =X$33-($B$31/$E36) -> 638.65229 | Y36: =Y$33-($B$31/$E36) -> 888.65229 | Z36: =Z$33-($B$31/$E36) -> 1138.6523
A37: SAFEX Jul'27 WM 1 prys/price (R/ton) | B37: =B4 -> 4312 | E37: =E36+0.5 -> 6.5 | F37: =F$33-($B$33/$E37) -> -1699.1963 | G37: =G$33-($B$33/$E37) -> -1449.1963 | H37: =H$33-($B$33/$E37) -> -1199.1963 | I37: =I$33-($B$33/$E37) -> -949.19634 | J37: =J$33-($B$33/$E37) -> -699.19634 | K37: =K$33-($B$33/$E37) -> -449.19634 | L37: =L$33-($B$33/$E37) -> -199.19634 | M37: =M$33-($B$33/$E37) -> 50.803656 | N37: =N$33-($B$33/$E37) -> 300.80366 | Q37: =Q36+0.5 -> 6.5 | R37: =R$33-($B$31/$E37) -> -571.71788 | S37: =S$33-($B$31/$E37) -> -321.71788 | T37: =T$33-($B$31/$E37) -> -71.717882 | U37: =U$33-($B$31/$E37) -> 178.28212 | V37: =V$33-($B$31/$E37) -> 428.28212 | W37: =W$33-($B$31/$E37) -> 678.28212 | X37: =X$33-($B$31/$E37) -> 928.28212 | Y37: =Y$33-($B$31/$E37) -> 1178.2821 | Z37: =Z$33-($B$31/$E37) -> 1428.2821
A38: Aftrekkings / Deductions | B38: 420 | E38: =E37+0.5 -> 7 | F38: =F$33-($B$33/$E38) -> -1370.408 | G38: =G$33-($B$33/$E38) -> -1120.408 | H38: =H$33-($B$33/$E38) -> -870.40803 | I38: =I$33-($B$33/$E38) -> -620.40803 | J38: =J$33-($B$33/$E38) -> -370.40803 | K38: =K$33-($B$33/$E38) -> -120.40803 | L38: =L$33-($B$33/$E38) -> 129.59197 | M38: =M$33-($B$33/$E38) -> 379.59197 | N38: =N$33-($B$33/$E38) -> 629.59197 | Q38: =Q37+0.5 -> 7 | R38: =R$33-($B$31/$E38) -> -323.46375 | S38: =S$33-($B$31/$E38) -> -73.463748 | T38: =T$33-($B$31/$E38) -> 176.53625 | U38: =U$33-($B$31/$E38) -> 426.53625 | V38: =V$33-($B$31/$E38) -> 676.53625 | W38: =W$33-($B$31/$E38) -> 926.53625 | X38: =X$33-($B$31/$E38) -> 1176.5363 | Y38: =Y$33-($B$31/$E38) -> 1426.5363 | Z38: =Z$33-($B$31/$E38) -> 1676.5363
A39: Produsenteprys/ Producer price (R/ton) | B39: =B37-B38 -> 3892
A43: BT MIELIES / BT MAIZE | D43: MIELIES: SENSITIWITEITSANALISE - TOTALE KOSTES ( DIREKTE KOSTE + VASTE KOSTE) R/ton | P43: MIELIES: SENSITIWITEITSANALISE - DIREKTE KOSTE R/ton
A44: Lopendekoste / Variable cost (R/ha) | B44: ='W-BT Mielies '!F25 -> 19502.748 | J44: Huidig | V44: Huidig
A45: Oorhoofse koste / Overhead cost (R/ha) | B45: ='W-BT Mielies '!F27 -> 7658.16 | D45: SAFEX prys / price(R/ton) | F45: =G45-250 -> 3312 | G45: =H45-250 -> 3562 | H45: =I45-250 -> 3812 | I45: =J45-250 -> 4062 | J45: =B50 -> 4312 | K45: =J45+250 -> 4562 | L45: =K45+250 -> 4812 | M45: =L45+250 -> 5062 | N45: =M45+250 -> 5312 | P45: SAFEX prys / price(R/ton) | R45: =S45-250 -> 3312 | S45: =T45-250 -> 3562 | T45: =U45-250 -> 3812 | U45: =V45-250 -> 4062 | V45: =J45 -> 4312 | W45: =V45+250 -> 4562 | X45: =W45+250 -> 4812 | Y45: =X45+250 -> 5062 | Z45: =Y45+250 -> 5312
A46: Totale Koste / Total cost (R/ha) | B46: =B45+B44 -> 27160.908 | D46: Produsenteprys/ Producer price | F46: =F45-$B$51 -> 2903.84 | G46: =G45-$B$51 -> 3153.84 | H46: =H45-$B$51 -> 3403.84 | I46: =I45-$B$51 -> 3653.84 | J46: =J45-$B$51 -> 3903.84 | K46: =K45-$B$51 -> 4153.84 | L46: =L45-$B$51 -> 4403.84 | M46: =M45-$B$51 -> 4653.84 | N46: =N45-$B$51 -> 4903.84 | P46: Produsenteprys/ Producer price | R46: =R45-$B$51 -> 2903.84 | S46: =S45-$B$51 -> 3153.84 | T46: =T45-$B$51 -> 3403.84 | U46: =U45-$B$51 -> 3653.84 | V46: =V45-$B$51 -> 3903.84 | W46: =W45-$B$51 -> 4153.84 | X46: =X45-$B$51 -> 4403.84 | Y46: =Y45-$B$51 -> 4653.84 | Z46: =Z45-$B$51 -> 4903.84
D47: Opbrengs / Yield (t/ha) | E47: =E48-0.5 -> 3.5 | F47: =F$33-($B$46/$E47) -> -4856.4193 | G47: =G$33-($B$46/$E47) -> -4606.4193 | H47: =H$33-($B$46/$E47) -> -4356.4193 | I47: =I$33-($B$46/$E47) -> -4106.4193 | J47: =J$33-($B$46/$E47) -> -3856.4193 | K47: =K$33-($B$46/$E47) -> -3606.4193 | L47: =L$33-($B$46/$E47) -> -3356.4193 | M47: =M$33-($B$46/$E47) -> -3106.4193 | N47: =N$33-($B$46/$E47) -> -2856.4193 | P47: Opbrengs / Yield (t/ha) | Q47: =Q48-0.5 -> 3.5 | R47: =R$33-($B$44/$E47) -> -2668.3736 | S47: =S$33-($B$44/$E47) -> -2418.3736 | T47: =T$33-($B$44/$E47) -> -2168.3736 | U47: =U$33-($B$44/$E47) -> -1918.3736 | V47: =V$33-($B$44/$E47) -> -1668.3736 | W47: =W$33-($B$44/$E47) -> -1418.3736 | X47: =X$33-($B$44/$E47) -> -1168.3736 | Y47: =Y$33-($B$44/$E47) -> -918.37359 | Z47: =Z$33-($B$44/$E47) -> -668.37359
A48: Gemid Opbrengs / Average Yield (t/ha) | B48: ='W-BT Mielies '!F5 -> 4.5 | E48: =E49-0.5 -> 4 | F48: =F$33-($B$46/$E48) -> -3886.3869 | G48: =G$33-($B$46/$E48) -> -3636.3869 | H48: =H$33-($B$46/$E48) -> -3386.3869 | I48: =I$33-($B$46/$E48) -> -3136.3869 | J48: =J$33-($B$46/$E48) -> -2886.3869 | K48: =K$33-($B$46/$E48) -> -2636.3869 | L48: =L$33-($B$46/$E48) -> -2386.3869 | M48: =M$33-($B$46/$E48) -> -2136.3869 | N48: =N$33-($B$46/$E48) -> -1886.3869 | Q48: =Q49-0.5 -> 4 | R48: =R$33-($B$44/$E48) -> -1971.8469 | S48: =S$33-($B$44/$E48) -> -1721.8469 | T48: =T$33-($B$44/$E48) -> -1471.8469 | U48: =U$33-($B$44/$E48) -> -1221.8469 | V48: =V$33-($B$44/$E48) -> -971.84689 | W48: =W$33-($B$44/$E48) -> -721.84689 | X48: =X$33-($B$44/$E48) -> -471.84689 | Y48: =Y$33-($B$44/$E48) -> -221.84689 | Z48: =Z$33-($B$44/$E48) -> 28.153112
E49: =B48 -> 4.5 | F49: =F$33-($B$46/$E49) -> -3131.9172 | G49: =G$33-($B$46/$E49) -> -2881.9172 | H49: =H$33-($B$46/$E49) -> -2631.9172 | I49: =I$33-($B$46/$E49) -> -2381.9172 | J49: =J$33-($B$46/$E49) -> -2131.9172 | K49: =K$33-($B$46/$E49) -> -1881.9172 | L49: =L$33-($B$46/$E49) -> -1631.9172 | M49: =M$33-($B$46/$E49) -> -1381.9172 | N49: =N$33-($B$46/$E49) -> -1131.9172 | Q49: =E49 -> 4.5 | R49: =R$33-($B$44/$E49) -> -1430.1039 | S49: =S$33-($B$44/$E49) -> -1180.1039 | T49: =T$33-($B$44/$E49) -> -930.1039 | U49: =U$33-($B$44/$E49) -> -680.1039 | V49: =V$33-($B$44/$E49) -> -430.1039 | W49: =W$33-($B$44/$E49) -> -180.1039 | X49: =X$33-($B$44/$E49) -> 69.8961 | Y49: =Y$33-($B$44/$E49) -> 319.8961 | Z49: =Z$33-($B$44/$E49) -> 569.8961
...

Sheet W-RR mielies Laer opbrengs 
A1: Produsent prys raming vir droëland ROUND-UP READY MIELIES (lae potensiaal) / Producer price framework for dry land ROUND-UP READY MAIZE (low potential) | E1: PRODUKSIEJAAR 2026-27 PRODUCTION YEAR 2026-27
A3: Huidige Produkprys op plaas vir beste graad / Current product price for the best grade (R/TON) (Safex min bemarkingskoste/marketing cost) | E3: ='Pryse + Sensatiwiteitsanali'!B26 -> 3903.84 | F3: Rand/ton
A5: Beplanningsopbrengs / Estimated yields (ton/ha) | D5: 3 | E5: 3.5 | F5: 4 | G5: 4.5 | H5: 5 | I5: 5.5
A6: Bruto produksiewaarde / Gross production value (R/ha) | D6: 11657.52 | E6: 13600.44 | F6: 15543.36 | G6: 17486.28 | H6: 19429.2 | I6: 21372.12
M7: RRLMielies
A8: Direk Toedeelbare veranderlike koste / Direct Allocated Variable costs (R/ha) | M8: Opbrengspeil | N8: Lopende koste | O8: Oorhoofse koste
A9: Saad / Seed | D9: 1444.3623 | E9: 1444.3623 | F9: 1604.847 | G9: 1925.8164 | H9: 1965.9376 | I9: 2086.3011 | M9: =D5 -> 3 | N9: =D25 -> 14637.831 | O9: =D27 -> 7127.22
A10: Kunsmis / Fertiliser | D10: 3822.58 | E10: 4443.01 | F10: 5063.44 | G10: 5683.87 | H10: 6304.3 | I10: 6924.73 | M10: =E5 -> 3.5 | N10: =E25 -> 15483.21 | O10: =E27 -> 7127.22
A11: Kalk / Lime | D11: 800 | E11: 800 | F11: 800 | G11: 800 | H11: 800 | I11: 800 | M11: =F5 -> 4 | N11: =F25 -> 16517.496 | O11: =F27 -> 7127.22
A12: Brandstof / Fuel | D12: 2241.163 | E12: 2279.758 | F12: 2318.353 | G12: 2356.948 | H12: 2395.543 | I12: 2434.138 | M12: =G5 -> 4.5 | N12: =G25 -> 17740.691 | O12: =G27 -> 7127.22
A13: Reparasie / Reparation | D13: 1334.2554 | E13: 1339.0087 | F13: 1343.7621 | G13: 1348.5154 | H13: 1353.2687 | I13: 1358.0221 | M13: =H5 -> 5 | N13: =H25 -> 18633.296 | O13: =H27 -> 7127.22
A14: Onkruiddoders / Herbicide | D14: 1372.308 | E14: 1372.308 | F14: 1372.308 | G14: 1372.308 | H14: 1372.308 | I14: 1372.308 | M14: =I5 -> 5.5 | N14: =I25 -> 19620.355 | O14: =I27 -> 7127.22
A15: Plaagdoder / Pest control | D15: 594.303 | E15: 594.303 | F15: 594.303 | G15: 594.303 | H15: 594.303 | I15: 594.303
A16: Insetversekering / Input insurance
A17: Graanprysverskansing / Grain hedging | D17: 1357.6273 | E17: 1436.0343 | F17: 1531.9622 | G17: 1645.4109 | H17: 1728.1981 | I17: 1819.7457
A18: Kontrakstroop / Contract Harvesting
A19: Oesversekering / Harvest insurance | D19: 326.41056 | E19: 380.81232 | F19: 435.21408 | G19: 489.61584 | H19: 544.0176 | I19: 598.41936
A20: Lugspuit / Aerial spray | D20: 200 | E20: 200 | F20: 200 | G20: 200 | H20: 200 | I20: 200
A21: Losarbeid / Casual labour | D21: 300 | E21: 300 | F21: 300 | G21: 300 | H21: 300 | I21: 300
A22: Droogkoste / Drying cost
A23: Oorlê land koste / overlay costs
A24: Produksiekrediet rente / Interest on production R/ha | D24: 844.82184 | E24: 893.6128 | F24: 953.3066 | G24: 1023.9032 | H24: 1075.4199 | I24: 1132.388
A25: Totale Direk Toedeelbare veranderlike koste / Total Direct Allocated Variable Cost (R/ha) | D25: =SUM(D9:D24) -> 14637.831 | E25: =SUM(E9:E24) -> 15483.21 | F25: =SUM(F9:F24) -> 16517.496 | G25: =SUM(G9:G24) -> 17740.691 | H25: =SUM(H9:H24) -> 18633.296 | I25: =SUM(I9:I24) -> 19620.355
A27: Totale Oorhoofse koste / Total overhead cost R/ha | D27: 7127.22 | E27: 7127.22 | F27: 7127.22 | G27: 7127.22 | H27: 7127.22 | I27: 7127.22
A29: Totale Koste per ha voor fisiese bemarking R/ha / Total cost per ha before marketing cost R/ha | D29: =D25+D27 -> 21765.051 | E29: =E25+E27 -> 22610.43 | F29: =F25+F27 -> 23644.716 | G29: =G25+G27 -> 24867.911 | H29: =H25+H27 -> 25760.516 | I29: =I25+I27 -> 26747.575
A31: Totale koste per ton voor fisiese bemarking R/Ton / Total cost per ton before marketing cost R/Ton | D31: =D29/D5 -> 7255.0172 | E31: =E29/E5 -> 6460.1227 | F31: =F29/F5 -> 5911.179 | G31: =G29/G5 -> 5526.2024 | H31: =H29/H5 -> 5152.1032 | I31: =I29/I5 -> 4863.1955
A33: Totale bemarkingskoste / Total marketing cost R/ton | D33: ='Pryse + Sensatiwiteitsanali'!$D$4 -> 408.16 | E33: ='Pryse + Sensatiwiteitsanali'!$D$4 -> 408.16 | F33: ='Pryse + Sensatiwiteitsanali'!$D$4 -> 408.16 | G33: ='Pryse + Sensatiwiteitsanali'!$D$4 -> 408.16 | H33: ='Pryse + Sensatiwiteitsanali'!$D$4 -> 408.16 | I33: ='Pryse + Sensatiwiteitsanali'!$D$4 -> 408.16
A35: Verwagte minimum Safex prys SONDER wins/ Expected minimum Safex price, WITHOUT profit | D35: =D31+D33 -> 7663.1772 | E35: =E31+E33 -> 6868.2827 | F35: =F31+F33 -> 6319.339 | G35: =G31+G33 -> 5934.3624 | H35: =H31+H33 -> 5560.2632 | I35: =I31+I33 -> 5271.3555
A36: Huidige Safex prys / Current Safex price | D36: ='Pryse + Sensatiwiteitsanali'!B4 -> 4312 | E36: =$D$36 -> 4312 | F36: =$D$36 -> 4312 | G36: =$D$36 -> 4312 | H36: =$D$36 -> 4312 | I36: =$D$36 -> 4312
A38: BRUTO MARGE / GROSS MARGIN (R/ha) | D38: =D6-D25 -> -2980.3115 | E38: =E6-E25 -> -1882.7695 | F38: =F6-F25 -> -974.13597 | G38: =G6-G25 -> -254.41078 | H38: =H6-H25 -> 795.90407 | I38: =I6-I25 -> 1751.7647
A39: NETTO MARGE / NETT MARGIN (R/ha) | D39: =D6-D29 -> -10107.531 | E39: =E6-E29 -> -9009.9895 | F39: =F6-F29 -> -8101.356 | G39: =G6-G29 -> -7381.6308 | H39: =H6-H29 -> -6331.3159 | I39: =I6-I29 -> -5375.4553
A40: Disclaimer: The information herein has been obtained from various sources, the accuracy and/or completeness of which Grain SA does not
A41: guarantee and for which Grain SA accepts no liability. Any prices or levels contained herein are preliminary and indicative only and do not
A42: represent bids or offers. These indications are provided solely for your information and consideration.
A43: Thank you to the Maize Trust for partially funding this project

Sheet W-RR mielies Hoer opbrengs  
A1: Produsent prys raming vir droëland ROUND-UP READY MIELIES (hoe potensiaal) / Producer price framework for dry land ROUND-UP READY MAIZE (high potential) | E1: PRODUKSIEJAAR 2026-27 PRODUCTION YEAR 2026-27
A3: Huidige Produkprys op plaas vir beste graad / Current product price for the best grade (R/TON) (Safex min bemarkingskoste/marketing cost) | E3: ='Pryse + Sensatiwiteitsanali'!B26 -> 3903.84 | F3: Rand/ton
A5: Beplanningsopbrengs / Estimated yields (ton/ha) | D5: 5 | E5: 5.5 | F5: 6 | G5: 6.5 | H5: 7
A6: Bruto produksiewaarde / Gross production value (R/ha) | D6: 19429.2 | E6: 21372.12 | F6: 23315.04 | G6: 25257.96 | H6: 27200.88
A8: Direk Toedeelbare veranderlike koste / Direct Allocated Variable costs (R/ha)
A9: Saad / Seed | D9: 1965.9376 | E9: 2206.6646 | F9: 2447.3917 | G9: 2688.1187 | H9: 2246.7858
A10: Kunsmis / Fertiliser | D10: 6304.3 | E10: 6924.73 | F10: 7545.16 | G10: 8165.59 | H10: 8786.02
A11: Kalk / Lime | D11: 800 | E11: 800 | F11: 800 | G11: 800 | H11: 800
A12: Brandstof / Fuel | D12: 2122.3933 | E12: 2149.8133 | F12: 2177.2333 | G12: 2204.6533 | H12: 2232.0733
A13: Reparasie / Reparation | D13: 1280.8481 | E13: 1285.6015 | F13: 1290.3548 | G13: 1295.1081 | H13: 1299.8615
A14: Onkruiddoders / Herbicide | D14: 1372.308 | E14: 1372.308 | F14: 1372.308 | G14: 1372.308 | H14: 1372.308
A15: Plaagdoder / Pest control | D15: 594.303 | E15: 594.303 | F15: 594.303 | G15: 594.303 | H15: 594.303
A16: Insetversekering / Input insurance
A17: Graanprysverskansing / Grain hedging | D17: 1690.4706 | E17: 1793.9388 | F17: 1897.4071 | G17: 2000.8753 | H17: 2029.8799
A18: Kontrakstroop / Contract Harvesting
A19: Oesversekering / Harvest insurance | D19: 544.0176 | E19: 598.41936 | F19: 652.82112 | G19: 707.22288 | H19: 761.62464
A20: Lugspuit / Aerial spray | D20: 200 | E20: 200 | F20: 200 | G20: 200 | H20: 200
A21: Losarbeid / Casual labour | D21: 300 | E21: 300 | F21: 300 | G21: 300 | H21: 300
A22: Droogkoste / Drying cost
A23: ='W-RR mielies Laer opbrengs '!A23 -> Oorlê land koste / overlay costs | D23: 2010.3014 | E23: 2010.3014 | F23: 2010.3014 | G23: 2010.3014 | H23: 2010.3014
A24: Produksiekrediet rente / Interest on production R/ha | D24: 1175.0739 | E24: 1239.4599 | F24: 1303.8459 | G24: 1368.2319 | H24: 1386.2809
A25: Totale Direk Toedeelbare veranderlike koste / Total Direct Allocated Variable Cost (R/ha) | D25: =SUM(D9:D24) -> 20359.953 | E25: =SUM(E9:E24) -> 21475.54 | F25: =SUM(F9:F24) -> 22591.126 | G25: =SUM(G9:G24) -> 23706.713 | H25: =SUM(H9:H24) -> 24019.438
A27: Totale Oorhoofse koste / Total overhead cost R/ha | D27: 7328.61 | E27: 7328.61 | F27: 7328.61 | G27: 7328.61 | H27: 7328.61
A29: Totale Koste per ha voor fisiese bemarking R/ha / Total cost per ha before marketing cost R/ha | D29: =D25+D27 -> 27688.563 | E29: =E25+E27 -> 28804.15 | F29: =F25+F27 -> 29919.736 | G29: =G25+G27 -> 31035.323 | H29: =H25+H27 -> 31348.048
A31: Totale koste per ton voor fisiese bemarking R/Ton / Total cost per ton before marketing cost R/Ton | D31: =D29/D5 -> 5537.7127 | E31: =E29/E5 -> 5237.1182 | F31: =F29/F5 -> 4986.6227 | G31: =G29/G5 -> 4774.665 | H31: =H29/H5 -> 4478.2926
A33: Totale bemarkingskoste / Total marketing cost R/ton | D33: ='Pryse + Sensatiwiteitsanali'!$D$4 -> 408.16 | E33: ='Pryse + Sensatiwiteitsanali'!$D$4 -> 408.16 | F33: ='Pryse + Sensatiwiteitsanali'!$D$4 -> 408.16 | G33: ='Pryse + Sensatiwiteitsanali'!$D$4 -> 408.16 | H33: ='Pryse + Sensatiwiteitsanali'!$D$4 -> 408.16
A35: Verwagte minimum Safex prys SONDER wins/ Expected minimum Safex price, WITHOUT profit | D35: =D31+D33 -> 5945.8727 | E35: =E31+E33 -> 5645.2782 | F35: =F31+F33 -> 5394.7827 | G35: =G31+G33 -> 5182.825 | H35: =H31+H33 -> 4886.4526
A36: Huidige Safex prys / Current Safex price | D36: ='Pryse + Sensatiwiteitsanali'!B4 -> 4312 | E36: =$D$36 -> 4312 | F36: =$D$36 -> 4312 | G36: =$D$36 -> 4312 | H36: =$D$36 -> 4312
A38: BRUTO MARGE / GROSS MARGIN (R/ha) | D38: =D6-D25 -> -930.75343 | E38: =E6-E25 -> -103.41983 | F38: =F6-F25 -> 723.91377 | G38: =G6-G25 -> 1551.2474 | H38: =H6-H25 -> 3181.4416
A39: NETTO MARGE / NETT MARGIN (R/ha) | D39: =D6-D29 -> -8259.3634 | E39: =E6-E29 -> -7432.0298 | F39: =F6-F29 -> -6604.6962 | G39: =G6-G29 -> -5777.3626 | H39: =H6-H29 -> -4147.1684
A40: Disclaimer: The information herein has been obtained from various sources, the accuracy and/or completeness of which Grain SA does not
A41: guarantee and for which Grain SA accepts no liability. Any prices or levels contained herein are preliminary and indicative only and do not
A42: represent bids or offers. These indications are provided solely for your information and consideration.
A43: Thank you to the Maize Trust for partially funding this project

Sheet W-BT Mielies 
A1: Produsent prys raming vir droëland Bt MIELIES / Producer price framework for dry land BT MAIZE | E1: PRODUKSIEJAAR 2026-27 PRODUCTION YEAR 2026-27
A3: Huidige Produkprys op plaas vir beste graad / Current product price for the best grade (R/TON) (Safex min bemarkingskoste/marketing cost) | E3: ='Pryse + Sensatiwiteitsanali'!B26 -> 3903.84 | F3: Rand/ton
A5: Beplanningsopbrengs / Estimated yields (ton/ha) | D5: 3.5 | E5: 4 | F5: 4.5 | G5: 5 | H5: 6 | I5: 7
A6: Bruto produksiewaarde / Gross production value (R/ha) | D6: 14280.462 | E6: 16320.528 | F6: 18360.594 | G6: 20400.66 | H6: 24480.792 | I6: 28560.924
M7: BTMielies
A8: Direk Toedeelbare veranderlike koste / Direct Allocated Variable costs (R/ha) | M8: Opbrengspeil | N8: Lopende koste | O8: Oorhoofse koste
A9: Saad / Seed | D9: 1591.5887 | E9: 1667.3787 | F9: 1781.0636 | G9: 1894.7485 | H9: 1894.7485 | I9: 2046.3284 | M9: =D5 -> 3.5 | N9: =D25 -> 17582.555 | O9: =D27 -> 7658.16
A10: Kunsmis / Fertiliser | D10: 4443.01 | E10: 5063.44 | F10: 5683.87 | G10: 6304.3 | H10: 7545.16 | I10: 8786.02 | M10: =E5 -> 4 | N10: =E25 -> 18520.348 | O10: =E27 -> 7658.16
A11: Kalk / Lime | D11: 800 | E11: 800 | F11: 800 | G11: 800 | H11: 800 | I11: 800 | M11: =F5 -> 4.5 | N11: =F25 -> 19502.748 | O11: =F27 -> 7658.16
A12: Brandstof / Fuel | D12: 2156.9533 | E12: 2195.5483 | F12: 2234.1433 | G12: 2272.7383 | H12: 2337.0633 | I12: 2401.3883 | M12: =G5 -> 5 | N12: =G25 -> 20485.147 | O12: =G27 -> 7658.16
A13: Reparasie / Reparation | D13: 1266.5881 | E13: 1271.3415 | F13: 1276.0948 | G13: 1280.8481 | H13: 1290.3548 | I13: 1299.8615 | M13: =H5 -> 6 | N13: =H25 -> 22167.164 | O13: =H27 -> 7658.16
A14: Onkruiddoders / Herbicide | D14: 1372.308 | E14: 1372.308 | F14: 1372.308 | G14: 1372.308 | H14: 1372.308 | I14: 1372.308 | M14: =I5 -> 7 | N14: =I25 -> 24027.606 | O14: =I27 -> 7658.16
A15: Plaagdoder / Pest control | D15: 594.303 | E15: 594.303 | F15: 594.303 | G15: 594.303 | H15: 594.303 | I15: 594.303
A16: Insetversekering / Input insurance
A17: Graanprysverskansing / Grain hedging | D17: 1432.8728 | E17: 1519.8511 | F17: 1610.9666 | G17: 1702.082 | H17: 1858.0854 | I17: 2030.6375
A18: Kontrakstroop / Contract Harvesting
A19: Oesversekering / Harvest insurance | D19: 399.85294 | E19: 456.97478 | F19: 514.09663 | G19: 571.21848 | H19: 685.46218 | I19: 799.70587
A20: Lugspuit / Aerial spray | D20: 200 | E20: 200 | F20: 200 | G20: 200 | H20: 200 | I20: 200
A21: Losarbeid / Casual labour | D21: 300 | E21: 300 | F21: 300 | G21: 300 | H21: 300 | I21: 300
A22: Droogkoste / Drying cost
A23: ='W-RR mielies Hoer opbrengs '!A23 -> Oorlê land koste / overlay costs | D23: 2010.3014 | E23: 2010.3014 | F23: 2010.3014 | G23: 2010.3014 | H23: 2010.3014 | I23: 2010.3014
A24: Produksiekrediet rente / Interest on production R/ha | D24: 1014.7764 | E24: 1068.9011 | F24: 1125.6003 | G24: 1182.2994 | H24: 1279.3769 | I24: 1386.7523
A25: Totale Direk Toedeelbare veranderlike koste / Total Direct Allocated Variable Cost (R/ha) | D25: =SUM(D9:D24) -> 17582.555 | E25: =SUM(E9:E24) -> 18520.348 | F25: =SUM(F9:F24) -> 19502.748 | G25: =SUM(G9:G24) -> 20485.147 | H25: =SUM(H9:H24) -> 22167.164 | I25: =SUM(I9:I24) -> 24027.606
A27: Totale Oorhoofse koste / Total overhead cost R/ha | D27: 7658.16 | E27: 7658.16 | F27: 7658.16 | G27: 7658.16 | H27: 7658.16 | I27: 7658.16
A29: Totale Koste per ha voor fisiese bemarking R/ha / Total cost per ha before marketing cost R/ha | D29: =D25+D27 -> 25240.715 | E29: =E25+E27 -> 26178.508 | F29: =F25+F27 -> 27160.908 | G29: =G25+G27 -> 28143.307 | H29: =H25+H27 -> 29825.324 | I29: =I25+I27 -> 31685.766
A31: Totale koste per ton voor fisiese bemarking R/Ton / Total cost per ton before marketing cost R/Ton | D31: =D29/D5 -> 7211.6328 | E31: =E29/E5 -> 6544.627 | F31: =F29/F5 -> 6035.7572 | G31: =G29/G5 -> 5628.6615 | H31: =H29/H5 -> 4970.8873 | I31: =I29/I5 -> 4526.538
A33: Totale bemarkingskoste / Total marketing cost R/ton | D33: ='Pryse + Sensatiwiteitsanali'!$D$4 -> 408.16 | E33: ='Pryse + Sensatiwiteitsanali'!$D$4 -> 408.16 | F33: ='Pryse + Sensatiwiteitsanali'!$D$4 -> 408.16 | G33: ='Pryse + Sensatiwiteitsanali'!$D$4 -> 408.16 | H33: ='Pryse + Sensatiwiteitsanali'!$D$4 -> 408.16 | I33: ='Pryse + Sensatiwiteitsanali'!$D$4 -> 408.16
A35: Verwagte minimum Safex prys SONDER wins/ Expected minimum Safex price, WITHOUT profit | D35: =D31+D33 -> 7619.7928 | E35: =E31+E33 -> 6952.787 | F35: =F31+F33 -> 6443.9172 | G35: =G31+G33 -> 6036.8215 | H35: =H31+H33 -> 5379.0473 | I35: =I31+I33 -> 4934.698
A36: Huidige Safex prys / Current Safex price | D36: ='Pryse + Sensatiwiteitsanali'!B4 -> 4312 | E36: =$D$36 -> 4312 | F36: =$D$36 -> 4312 | G36: =$D$36 -> 4312 | H36: =$D$36 -> 4312 | I36: =$D$36 -> 4312
A38: BRUTO MARGE / GROSS MARGIN (R/ha) | D38: =D6-D25 -> -3302.0927 | E38: =E6-E25 -> -2199.8198 | F38: =F6-F25 -> -1142.1536 | G38: =G6-G25 -> -84.487258 | H38: =H6-H25 -> 2313.6285 | I38: =I6-I25 -> 4533.3178
A39: NETTO MARGE / NETT MARGIN (R/ha) | D39: =D6-D29 -> -10960.253 | E39: =E6-E29 -> -9857.9798 | F39: =F6-F29 -> -8800.3136 | G39: =G6-G29 -> -7742.6473 | H39: =H6-H29 -> -5344.5315 | I39: =I6-I29 -> -3124.8422
A40: Disclaimer: The information herein has been obtained from various sources, the accuracy and/or completeness of which Grain SA does not
A41: guarantee and for which Grain SA accepts no liability. Any prices or levels contained herein are preliminary and indicative only and do not
A42: represent bids or offers. These indications are provided solely for your information and consideration.
A43: Thank you to the Maize Trust for partially funding this project

Sheet Sonneblom
A1: Produsent prys raming vir droëland SONNEBLOM vir die / Producer price framework for dry land SUNFLOWER for the | E1: PRODUKSIEJAAR 2026-27 PRODUCTION YEAR 2026-27
A3: Huidige Produkprys op plaas vir beste graad / Current product price for the best grade (R/TON) (Safex min bemarkingskoste/marketing cost) | E3: ='Pryse + Sensatiwiteitsanali'!B66 -> 9526.73 | F3: Rand/ton
A5: Beplanningsopbrengs / Estimated yields (ton/ha) | D5: 1 | E5: 1.25 | F5: 1.5 | G5: 1.75 | H5: 2 | I5: 2.5
A6: Bruto produksiewaarde / Gross production value (R/ha) | D6: 9526.73 | E6: 11908.412 | F6: 14290.095 | G6: 16671.778 | H6: 19053.46 | I6: 23816.825
M7: Sonneblom
A8: Direk Toedeelbare veranderlike koste / Direct Allocated Variable costs (R/ha) | M8: Opbrengspeil | N8: Lopende koste | O8: Oorhoofse koste
A9: Saad / Seed | D9: 832.48527 | E9: 891.9485 | F9: 951.41173 | G9: 1010.875 | H9: 1070.3382 | I9: 1070.3382 | M9: =D5 -> 1 | N9: =D25 -> 10259.832 | O9: =D27 -> 6336.28
A10: Kunsmis / Fertiliser | D10: 1336.31 | E10: 1645.3875 | F10: 1954.465 | G10: 2263.5425 | H10: 2572.62 | I10: 3190.775 | M10: =E5 -> 1.25 | N10: =E25 -> 10808.592 | O10: =E27 -> 6336.28
A11: Kalk / Lime | D11: 800 | E11: 800 | F11: 800 | G11: 800 | H11: 800 | I11: 800 | M11: =F5 -> 1.5 | N11: =F25 -> 11357.352 | O11: =F27 -> 6336.28
A12: Brandstof / Fuel | D12: 2094.502 | E12: 2113.7995 | F12: 2133.097 | G12: 2152.3945 | H12: 2171.692 | I12: 2197.422 | M12: =G5 -> 1.75 | N12: =G25 -> 11906.112 | O12: =G27 -> 6336.28
A13: Reparasie / Reparation | D13: 1261.9687 | E13: 1263.1571 | F13: 1264.3454 | G13: 1265.5337 | H13: 1266.7221 | I13: 1269.0987 | M13: =H5 -> 2 | N13: =H25 -> 12454.873 | O13: =H27 -> 6336.28
A14: Onkruiddoders / Herbicide | D14: 1331.712 | E14: 1331.712 | F14: 1331.712 | G14: 1331.712 | H14: 1331.712 | I14: 1331.712 | M14: =I5 -> 2.5 | N14: =I25 -> 13406.642 | O14: =I27 -> 6336.28
A15: Plaagdoder / Pest control | D15: 691.509 | E15: 691.509 | F15: 691.509 | G15: 691.509 | H15: 691.509 | I15: 691.509
A16: Insetversekering / Input insurance
A17: Graanprysverskansing / Grain hedging | D17: 390.49633 | E17: 411.38253 | F17: 432.26872 | G17: 453.15491 | H17: 474.0411 | I17: 510.26611
A18: Kontrakstroop / Contract Harvesting
A19: Oesversekering / Harvest insurance | D19: 428.70285 | E19: 535.87856 | F19: 643.05427 | G19: 750.22999 | H19: 857.4057 | I19: 1071.7571
A20: Lugspuit / Aerial spray | D20: 200 | E20: 200 | F20: 200 | G20: 200 | H20: 200 | I20: 200
A21: Losarbeid / Casual labour | D21: 300 | E21: 300 | F21: 300 | G21: 300 | H21: 300 | I21: 300
A22: Droogkoste / Drying cost
A23: ='W-BT Mielies '!A23 -> Oorlê land koste / overlay costs
A24: Produksiekrediet rente / Interest on production R/ha | D24: 592.14578 | E24: 623.81745 | F24: 655.48912 | G24: 687.16079 | H24: 718.83246 | I24: 773.76379
A25: Totale Direk Toedeelbare veranderlike koste / Total Direct Allocated Variable Cost (R/ha) | D25: =SUM(D9:D24) -> 10259.832 | E25: =SUM(E9:E24) -> 10808.592 | F25: =SUM(F9:F24) -> 11357.352 | G25: =SUM(G9:G24) -> 11906.112 | H25: =SUM(H9:H24) -> 12454.873 | I25: =SUM(I9:I24) -> 13406.642
A27: Totale Oorhoofse koste / Total overhead cost R/ha | D27: 6336.28 | E27: 6336.28 | F27: 6336.28 | G27: 6336.28 | H27: 6336.28 | I27: 6336.28
A29: Totale Koste per ha voor fisiese bemarking R/ha / Total cost per ha before marketing cost R/ha | D29: =D25+D27 -> 16596.112 | E29: =E25+E27 -> 17144.872 | F29: =F25+F27 -> 17693.632 | G29: =G25+G27 -> 18242.392 | H29: =H25+H27 -> 18791.153 | I29: =I25+I27 -> 19742.922
A31: Totale koste per ton voor fisiese bemarking R/Ton / Total cost per ton before marketing cost R/Ton | D31: =D29/D5 -> 16596.112 | E31: =E29/E5 -> 13715.898 | F31: =F29/F5 -> 11795.755 | G31: =G29/G5 -> 10424.224 | H31: =H29/H5 -> 9395.5763 | I31: =I29/I5 -> 7897.1688
A33: Totale bemarkingskoste / Total marketing cost R/ton | D33: ='Pryse + Sensatiwiteitsanali'!$D$5 -> 473.27 | E33: ='Pryse + Sensatiwiteitsanali'!$D$5 -> 473.27 | F33: ='Pryse + Sensatiwiteitsanali'!$D$5 -> 473.27 | G33: ='Pryse + Sensatiwiteitsanali'!$D$5 -> 473.27 | H33: ='Pryse + Sensatiwiteitsanali'!$D$5 -> 473.27 | I33: ='Pryse + Sensatiwiteitsanali'!$D$5 -> 473.27
A35: Verwagte minimum Safex prys SONDER wins/ Expected minimum Safex price, WITHOUT profit | D35: =D31+D33 -> 17069.382 | E35: =E31+E33 -> 14189.168 | F35: =F31+F33 -> 12269.025 | G35: =G31+G33 -> 10897.494 | H35: =H31+H33 -> 9868.8463 | I35: =I31+I33 -> 8370.4388
A36: Huidige Safex prys / Current Safex price | D36: ='Pryse + Sensatiwiteitsanali'!B5 -> 10000 | E36: =$D$36 -> 10000 | F36: =$D$36 -> 10000 | G36: =$D$36 -> 10000 | H36: =$D$36 -> 10000 | I36: =$D$36 -> 10000
A38: BRUTO MARGE / GROSS MARGIN (R/ha) | D38: =D6-D25 -> -733.10201 | E38: =E6-E25 -> 1099.8203 | F38: =F6-F25 -> 2932.7427 | G38: =G6-G25 -> 4765.6651 | H38: =H6-H25 -> 6598.5874 | I38: =I6-I25 -> 10410.183
A39: NETTO MARGE / NETT MARGIN (R/ha) | D39: =D6-D29 -> -7069.382 | E39: =E6-E29 -> -5236.4597 | F39: =F6-F29 -> -3403.5373 | G39: =G6-G29 -> -1570.6149 | H39: =H6-H29 -> 262.30743 | I39: =I6-I29 -> 4073.903
A40: Disclaimer: The information herein has been obtained from various sources, the accuracy and/or completeness of which Grain SA does not
A41: guarantee and for which Grain SA accepts no liability. Any prices or levels contained herein are preliminary and indicative only and do not
A42: represent bids or offers. These indications are provided solely for your information and consideration.
A44: Thank you to the Maize Trust for partially funding this project

Sheet Graansorghum
A1: Produsent prys raming vir droëland GRAANSORGHUM vir die / Producer price framework for dry land GRAIN SORGHUM for the | E1: PRODUKSIEJAAR 2026-27 PRODUCTION YEAR 2026-27
A3: Huidige Produkprys op plaas vir beste graad / Current product price for the best grade (R/TON) (Safex min bemarkingskoste/marketing cost) | E3: ='Pryse + Sensatiwiteitsanali'!B92 -> 3368 | F3: Rand/ton
A5: Beplanningsopbrengs / Estimated yields (ton/ha) | D5: 2 | E5: 2.5 | F5: 3 | G5: 3.5 | H5: 4
A6: Bruto produksiewaarde / Gross production value (R/ha) | D6: 6724.48 | E6: 8405.6 | F6: 10086.72 | G6: 11767.84 | H6: 13448.96
L7: Sorghum
A8: Direk Toedeelbare veranderlike koste / Direct Allocated Variable costs (R/ha) | L8: Opbrengspeil | M8: Lopende koste | N8: Oorhoofse koste
A9: Saad / Seed | D9: 603.1206 | E9: 670.134 | F9: 737.1474 | G9: 804.1608 | H9: 938.1876 | L9: =D5 -> 2 | M9: =D25 -> 9642.23 | N9: =D27 -> 6918.24
A10: Kunsmis / Fertiliser | D10: 2597.51 | E10: 3246.8875 | F10: 3896.265 | G10: 4545.6425 | H10: 5195.02 | L10: =E5 -> 2.5 | M10: =E25 -> 10311.942 | N10: =E27 -> 6918.24
A11: Kalk / Lime | D11: 266.4 | E11: 266.4 | F11: 266.4 | G11: 266.4 | H11: 266.4 | L11: =F5 -> 3 | M11: =F25 -> 11372.948 | N11: =F27 -> 6918.24
A12: Brandstof / Fuel | D12: 2683.1508 | E12: 2520.9231 | F12: 2727.4064 | G12: 2749.5342 | H12: 2771.662 | L12: =G5 -> 3.5 | M12: =G25 -> 12238.307 | N12: =G27 -> 6918.24
A13: Reparasie / Reparation | D13: 1360.8687 | E13: 1366.2637 | F13: 1371.6587 | G13: 1377.0537 | H13: 1382.4487 | L13: =H5 -> 4 | M13: =H25 -> 13174.784 | N13: =H27 -> 6918.24
A14: Onkruiddoders / Herbicide | D14: 394.37117 | E14: 394.37117 | F14: 394.37117 | G14: 394.37117 | H14: 394.37117 | L14: =#REF! -> #REF! | M14: =#REF! -> #REF! | N14: =#REF! -> #REF!
A15: Plaagdoder / Pest control | D15: 594.303 | E15: 594.303 | F15: 594.303 | G15: 594.303 | H15: 594.303
A16: Insetversekering / Input insurance | D16: 131.34186 | E16: 164.17732 | F16: 197.01279 | G16: 229.84825 | H16: 262.68372
A17: Graanprysverskansing / Grain hedging
A18: Kontrakstroop / Contract Harvesting
A19: Oesversekering / Harvest insurance | D19: 154.66304 | E19: 193.3288 | F19: 231.99456 | G19: 270.66032 | H19: 309.32608
A20: Lugspuit / Aerial spray
A21: Losarbeid / Casual labour | D21: 300 | E21: 300 | F21: 300 | G21: 300 | H21: 300
A22: Droogkoste / Drying cost
A23: =Sonneblom!A23 -> Oorlê land koste / overlay costs
A24: Produksiekrediet rente / Interest on production R/ha | D24: 556.50091 | E24: 595.1533 | F24: 656.38924 | G24: 706.3334 | H24: 760.38214
A25: Totale Direk Toedeelbare veranderlike koste / Total Direct Allocated Variable Cost (R/ha) | D25: =SUM(D9:D24) -> 9642.23 | E25: =SUM(E9:E24) -> 10311.942 | F25: =SUM(F9:F24) -> 11372.948 | G25: =SUM(G9:G24) -> 12238.307 | H25: =SUM(H9:H24) -> 13174.784
A27: Totale Oorhoofse koste / Total overhead cost R/ha | D27: 6918.24 | E27: 6918.24 | F27: 6918.24 | G27: 6918.24 | H27: 6918.24
A29: Totale Koste per ha voor fisiese bemarking R/ha / Total cost per ha before marketing cost R/ha | D29: =D25+D27 -> 16560.47 | E29: =E25+E27 -> 17230.182 | F29: =F25+F27 -> 18291.188 | G29: =G25+G27 -> 19156.547 | H29: =H25+H27 -> 20093.024
A31: Totale koste per ton voor fisiese bemarking R/Ton / Total cost per ton before marketing cost R/Ton | D31: =D29/D5 -> 8280.235 | E31: =E29/E5 -> 6892.0728 | F31: =F29/F5 -> 6097.0627 | G31: =G29/G5 -> 5473.2992 | H31: =H29/H5 -> 5023.2561
A33: Totale bemarkingskoste / Total marketing cost R/ton | D33: ='Pryse + Sensatiwiteitsanali'!D7 -> 132 | E33: =$D$33 -> 132 | F33: =$D$33 -> 132 | G33: =$D$33 -> 132 | H33: =$D$33 -> 132
A35: Verwagte minimum Safex prys SONDER wins/ Expected minimum Safex price, WITHOUT profit | D35: =D31+D33 -> 8412.235 | E35: =E31+E33 -> 7024.0728 | F35: =F31+F33 -> 6229.0627 | G35: =G31+G33 -> 5605.2992 | H35: =H31+H33 -> 5155.2561
A36: Huidige Safex prys / Current Safex price | D36: ='Pryse + Sensatiwiteitsanali'!B7 -> 3500 | E36: =$D$36 -> 3500 | F36: =$D$36 -> 3500 | G36: =$D$36 -> 3500 | H36: =$D$36 -> 3500
A38: BRUTO MARGE / GROSS MARGIN (R/ha) | D38: =D6-D25 -> -2917.75 | E38: =E6-E25 -> -1906.3419 | F38: =F6-F25 -> -1286.2282 | G38: =G6-G25 -> -470.4673 | H38: =H6-H25 -> 274.17564
A39: NETTO MARGE / NETT MARGIN (R/ha) | D39: =D6-D29 -> -9835.99 | E39: =E6-E29 -> -8824.5819 | F39: =F6-F29 -> -8204.4682 | G39: =G6-G29 -> -7388.7073 | H39: =H6-H29 -> -6644.0644
A40: Disclaimer: The information herein has been obtained from various sources, the accuracy and/or completeness of which Grain SA does not
A41: guarantee and for which Grain SA accepts no liability. Any prices or levels contained herein are preliminary and indicative only and do not
A42: represent bids or offers. These indications are provided solely for your information and consideration.
A43: Thank you to the Maize Trust for partially funding this project

Sheet Grondbone
A1: Produsent prys raming vir droëland GRONDBONE vir die / Producer price framework for dry land GROUNDNUTS for the | E1: PRODUKSIEJAAR 2026-27 PRODUCTION YEAR 2026-27
A3: Graadverdeling / Grade distribution | D3: Prys per graad / Price per grade (R/ton) | E3: %
A4: Keur / Choice 1 | D4: ='Pryse + Sensatiwiteitsanali'!B8 -> 21767 | E4: 0.2
A5: Keur / Choice 2 | D5: ='Pryse + Sensatiwiteitsanali'!B9 -> 18150 | E5: 0.35
A6: Diverse / Diverse | D6: ='Pryse + Sensatiwiteitsanali'!B10 -> 16083 | E6: 0.3
A7: Pers (eet) / Crush | D7: ='Pryse + Sensatiwiteitsanali'!B11 -> 5467 | E7: 0.1
A8: Pers (olie) | D8: ='Pryse + Sensatiwiteitsanali'!B12 -> 3517 | E8: 0.05
A9: Hooi verkope / sales | D9: ='Pryse + Sensatiwiteitsanali'!B13 -> 0
A10: Gemiddelde prys vir al die grade / Average price for all grades | D10: =(D4*E4)+(D5*E5)+(D6*E6)+(D7*E7)+(D8*E8) -> 16253.35 | E10: Rand/ton
A12: Beplanningsopbrengs / Estimated yields (ton/ha) | D12: 1.5 | E12: 0
A13: Bruto produksiewaarde / Gross production value (R/ha) | D13: 26278.95 | E13: 0
A15: Direk Toedeelbare veranderlike koste / Direct Allocated Variable costs (R/ha)
A16: Saad / Seed | D16: 900
A17: Kunsmis / Fertiliser | D17: 2252.55
A18: Kalk / Lime | D18: 800
A19: Brandstof / Fuel | D19: 2822.5925
A20: Reparasie / Reparation | D20: 1775.4467
A21: Onkruiddoders / Herbicide | D21: 1189.5094
A22: Plaagdoder / Pest control | D22: 1118.2233
A23: Insetversekering / Input insurance
A24: Graanprysverskansing / Grain hedging
A25: Kontrakstroop / Contract Harvesting
A26: Oesversekering / Harvest insurance
A27: Lugspuit / Aerial spray
A28: Losarbeid / Casual labour | D28: 300
A29: Droogkoste / Drying cost
A30: =Graansorghum!A23 -> Oorlê land koste / overlay costs | D30: 350
A31: Produksiekrediet rente / Interest on production R/ha | D31: 683.44722
A32: Totale Direk Toedeelbare veranderlike koste / Total Direct Allocated Variable Cost (R/ha) | D32: =SUM(D16:D31) -> 12191.769
A34: Totale Oorhoofse koste / Total overhead cost R/ha | D34: 7880.47 | E34: 0
A36: Totale Koste per ha voor fisiese bemarking R/ha / Total cost per ha before marketing cost R/ha | D36: =D32+D34 -> 20072.239 | E36: 0
A38: Totale koste per ton voor fisiese bemarking R/Ton / Total cost per ton before marketing cost R/Ton | D38: =D36/D12 -> 13381.493 | E38: 0
A40: Totale bemarkingskoste / Total marketing cost R/ton | D40: 63 | E40: 0
A42: Verwagte minimum prys SONDER wins/ Expected minimum price, WITHOUT profit | D42: =D38+D40 -> 13444.493 | E42: 0
A43: Huidige prys / Current price (keur) | D43: ='Pryse + Sensatiwiteitsanali'!B8 -> 21767 | E43: 0
A44: Gemiddelde prys vir al die grade / Average price for all the grades | D44: =D10 -> 16253.35
A46: BRUTO MARGE / GROSS MARGIN (R/ha) | D46: =D13-D32 -> 14087.181
A47: NETTO MARGE / NETT MARGIN (R/ha) | D47: =D13-D36 -> 6206.7108
A48: Disclaimer: The information herein has been obtained from various sources, the accuracy and/or completeness of which Grain SA does not
A49: guarantee and for which Grain SA accepts no liability. Any prices or levels contained herein are preliminary and indicative only and do not
...

Sheet Sojabone
A1: Produsent prys raming vir droëland SOJABONE vir die Producer price framework for dry land SOYBEANS for the | E1: PRODUKSIEJAAR 2026-27 PRODUCTION YEAR 2026-27
A3: Huidige Produkprys op plaas vir beste graad / Current product price for the best grade (R/TON) (Safex min bemarkingskoste/marketing cost) | E3: ='Pryse + Sensatiwiteitsanali'!B79 -> 8135.51 | F3: Rand/ton
A5: Beplanningsopbrengs / Estimated yields (ton/ha) | D5: 1.25 | E5: 1.5 | F5: 1.75 | G5: 2 | H5: 2.25
A6: Bruto produksiewaarde / Gross production value (R/ha) | D6: 10169.388 | E6: 12203.265 | F6: 14237.142 | G6: 16271.02 | H6: 18304.897
L7: Sojabone
A8: Direk Toedeelbare veranderlike koste / Direct Allocated Variable costs (R/ha) | L8: Opbrengspeil | M8: Lopende koste | N8: Oorhoofse koste
A9: Saad / Seed | D9: 1890.4687 | E9: 1890.4687 | F9: 1890.4687 | G9: 1890.4687 | H9: 1890.4687 | L9: =D5 -> 1.25 | M9: =D25 -> 14357.109 | N9: =D27 -> 6784.87
A10: Kunsmis / Fertiliser | D10: 1957.175 | E10: 2292.61 | F10: 2628.045 | G10: 2963.48 | H10: 3298.915 | L10: =E5 -> 1.5 | M10: =E25 -> 14958.001 | N10: =E27 -> 6784.87
A11: Kalk / Lime | D11: 800 | E11: 800 | F11: 800 | G11: 800 | H11: 800 | L11: =F5 -> 1.75 | M11: =F25 -> 15558.893 | N11: =F27 -> 6784.87
A12: Brandstof / Fuel | D12: 1990.9948 | E12: 2010.2923 | F12: 2029.5898 | G12: 2048.8873 | H12: 2068.1848 | L12: =G5 -> 2 | M12: =G25 -> 16159.785 | N12: =G27 -> 6784.87
A13: Reparasie / Reparation | D13: 1190.7365 | E13: 1191.9248 | F13: 1193.1131 | G13: 1194.3015 | H13: 1195.4898 | L13: =H5 -> 2.25 | M13: =H25 -> 16760.676 | N13: =H27 -> 6784.87
A14: Onkruiddoders / Herbicide | D14: 856.2798 | E14: 856.2798 | F14: 856.2798 | G14: 856.2798 | H14: 856.2798 | L14: =#REF! -> #REF! | M14: =#REF! -> #REF! | N14: =#REF! -> #REF!
A15: Plaagdoder / Pest control | D15: 863.124 | E15: 863.124 | F15: 863.124 | G15: 863.124 | H15: 863.124
A16: Insetversekering / Input insurance
A17: Graanprysverskansing / Grain hedging | D17: 554.16397 | E17: 581.40558 | F17: 608.64719 | G17: 635.8888 | H17: 663.13041
A18: Kontrakstroop / Contract Harvesting
A19: Oesversekering / Harvest insurance | D19: 915.24487 | E19: 1098.2939 | F19: 1281.3428 | G19: 1464.3918 | H19: 1647.4408
A20: Lugspuit / Aerial spray | D20: 200 | E20: 200 | F20: 200 | G20: 200 | H20: 200
A21: Losarbeid / Casual labour | D21: 300 | E21: 300 | F21: 300 | G21: 300 | H21: 300
A22: Droogkoste / Drying cost
A23: =Graansorghum!A23 -> Oorlê land koste / overlay costs | D23: 2010.3014 | E23: 2010.3014 | F23: 2010.3014 | G23: 2010.3014 | H23: 2010.3014
A24: Produksiekrediet rente / Interest on production R/ha | D24: 828.61995 | E24: 863.3004 | F24: 897.98085 | G24: 932.6613 | H24: 967.34175
A25: Totale Direk Toedeelbare veranderlike koste / Total Direct Allocated Variable Cost (R/ha) | D25: =SUM(D9:D24) -> 14357.109 | E25: =SUM(E9:E24) -> 14958.001 | F25: =SUM(F9:F24) -> 15558.893 | G25: =SUM(G9:G24) -> 16159.785 | H25: =SUM(H9:H24) -> 16760.676
A27: Totale Oorhoofse koste / Total overhead cost R/ha | D27: 6784.87 | E27: 6784.87 | F27: 6784.87 | G27: 6784.87 | H27: 6784.87
A29: Totale Koste per ha voor fisiese bemarking R/ha / Total cost per ha before marketing cost R/ha | D29: =D25+D27 -> 21141.979 | E29: =E25+E27 -> 21742.871 | F29: =F25+F27 -> 22343.763 | G29: =G25+G27 -> 22944.655 | H29: =H25+H27 -> 23545.546
A31: Totale koste per ton voor fisiese bemarking R/Ton / Total cost per ton before marketing cost R/Ton | D31: =D29/D5 -> 16913.583 | E31: =E29/E5 -> 14495.247 | F31: =F29/F5 -> 12767.864 | G31: =G29/G5 -> 11472.327 | H31: =H29/H5 -> 10464.687
A33: Totale bemarkingskoste / Total marketing cost R/ton | D33: ='Pryse + Sensatiwiteitsanali'!$D$6 -> 209.49 | E33: ='Pryse + Sensatiwiteitsanali'!$D$6 -> 209.49 | F33: ='Pryse + Sensatiwiteitsanali'!$D$6 -> 209.49 | G33: ='Pryse + Sensatiwiteitsanali'!$D$6 -> 209.49 | H33: ='Pryse + Sensatiwiteitsanali'!$D$6 -> 209.49
A35: Verwagte minimum Safex prys SONDER wins/ Expected minimum Safex price, WITHOUT profit | D35: =D31+D33 -> 17123.073 | E35: =E31+E33 -> 14704.737 | F35: =F31+F33 -> 12977.354 | G35: =G31+G33 -> 11681.817 | H35: =H31+H33 -> 10674.177
A36: Huidige Safex prys / Current Safex price | D36: ='Pryse + Sensatiwiteitsanali'!B6 -> 8345 | E36: =$D$36 -> 8345 | F36: =$D$36 -> 8345 | G36: =$D$36 -> 8345 | H36: =$D$36 -> 8345
A38: BRUTO MARGE / GROSS MARGIN (R/ha) | D38: =D6-D25 -> -4187.7214 | E38: =E6-E25 -> -2754.7358 | F38: =F6-F25 -> -1321.7502 | G38: =G6-G25 -> 111.23547 | H38: =H6-H25 -> 1544.2211
A39: NETTO MARGE / NETT MARGIN (R/ha) | D39: =D6-D29 -> -10972.591 | E39: =E6-E29 -> -9539.6058 | F39: =F6-F29 -> -8106.6202 | G39: =G6-G29 -> -6673.6345 | H39: =H6-H29 -> -5240.6489
A40: Disclaimer: The information herein has been obtained from various sources, the accuracy and/or completeness of which Grain SA does not
A41: guarantee and for which Grain SA accepts no liability. Any prices or levels contained herein are preliminary and indicative only and do not
A42: represent bids or offers. These indications are provided solely for your information and consideration.
A43: Thank you to the Maize Trust for partially funding this project

Sheet Crop Comparison
A1: NORTH WEST FREE STATE INCOME & COST BUDGETS - SUMMER CROPS 2026/27 | B1: Column1 | C1: Column2 | D1: Column3 | E1: Column4 | F1: Column5 | G1: Column6 | H1: Column7
A2: Crop | B2: Maize (lower yield) | C2: Maize (higher yield) | D2: Maize (Bt) | E2: Sunflower | F2: Soybean | G2: Grain Sorghum | H2: Groundnuts | K2: North West 5-year average (2020/21-2024/25 production seasons)
A3: 1) INCOME | K3: White Maize | L3: 4.9
A4: Yield target (ton/ha) | B4: ='W-RR mielies Laer opbrengs '!F5 -> 4 | C4: ='W-RR mielies Hoer opbrengs '!F5 -> 6 | D4: =L3 -> 4.9 | E4: =L5 -> 1.428 | F4: =L4 -> 2.033 | G4: =L6 -> 2.9 | H4: =L7 -> 1.471559 | K4: Soybeans | L4: 2.033
A5: SAFEX: Estimated Price | B5: ='Pryse + Sensatiwiteitsanali'!B4 -> 4312 | C5: ='Pryse + Sensatiwiteitsanali'!B4 -> 4312 | D5: =C5 -> 4312 | E5: ='Pryse + Sensatiwiteitsanali'!B5 -> 10000 | F5: ='Pryse + Sensatiwiteitsanali'!B6 -> 8345 | G5: ='Pryse + Sensatiwiteitsanali'!B7 -> 3500 | H5: =Grondbone!D10 -> 16253.35 | K5: Sunflowers | L5: 1.428
A6: Deductions | B6: 420 | C6: 420 | D6: =C6 -> 420 | E6: ='Pryse + Sensatiwiteitsanali'!D5 -> 473.27 | F6: 218 | G6: ='Pryse + Sensatiwiteitsanali'!D7 -> 132 | H6: ='Pryse + Sensatiwiteitsanali'!D8 -> 63 | K6: Sorghum | L6: 2.9
A7: Net Farm Gate Price | B7: =B5-B6 -> 3892 | C7: =C5-C6 -> 3892 | D7: =D5-D6 -> 3892 | E7: =E5-E6 -> 9526.73 | F7: =F5-F6 -> 8127 | G7: =Graansorghum!E3 -> 3368 | H7: =H5-H6 -> 16190.35 | K7: Groundnuts | L7: 1.471559
A8: GROSS INCOME (R/ha) | B8: =B4*B7 -> 15568 | C8: =C4*C7 -> 23352 | D8: =D4*D7 -> 19070.8 | E8: =E4*E7 -> 13604.17 | F8: =F4*F7 -> 16522.191 | G8: =G4*G7 -> 9767.2 | H8: =H4*H7 -> 23825.055
A10: 2) VARIABLE EXPENDITURES
A11: ='W-BT Mielies '!A9 -> Saad / Seed | B11: ='W-RR mielies Laer opbrengs '!F9 -> 1604.847 | C11: ='W-RR mielies Hoer opbrengs '!F9 -> 2447.3917 | D11: ='W-BT Mielies '!G9 -> 1894.7485 | E11: =Sonneblom!F9 -> 951.41173 | F11: =Sojabone!G9 -> 1890.4687 | G11: =Graansorghum!F9 -> 737.1474 | H11: =Grondbone!D16 -> 900
A12: ='W-BT Mielies '!A10 -> Kunsmis / Fertiliser | B12: ='W-RR mielies Laer opbrengs '!F10 -> 5063.44 | C12: ='W-RR mielies Hoer opbrengs '!F10 -> 7545.16 | D12: ='W-BT Mielies '!G10 -> 6304.3 | E12: =Sonneblom!F10 -> 1954.465 | F12: =Sojabone!G10 -> 2963.48 | G12: =Graansorghum!F10 -> 3896.265 | H12: =Grondbone!D17 -> 2252.55
A13: ='W-BT Mielies '!A11 -> Kalk / Lime | B13: ='W-RR mielies Laer opbrengs '!F11 -> 800 | C13: ='W-RR mielies Hoer opbrengs '!F11 -> 800 | D13: ='W-BT Mielies '!G11 -> 800 | E13: =Sonneblom!F11 -> 800 | F13: =Sojabone!G11 -> 800 | G13: =Graansorghum!F11 -> 266.4 | H13: =Grondbone!D18 -> 800
A14: ='W-BT Mielies '!A12 -> Brandstof / Fuel | B14: ='W-RR mielies Laer opbrengs '!F12 -> 2318.353 | C14: ='W-RR mielies Hoer opbrengs '!F12 -> 2177.2333 | D14: ='W-BT Mielies '!G12 -> 2272.7383 | E14: =Sonneblom!F12 -> 2133.097 | F14: =Sojabone!G12 -> 2048.8873 | G14: =Graansorghum!F12 -> 2727.4064 | H14: =Grondbone!D19 -> 2822.5925
A15: ='W-BT Mielies '!A13 -> Reparasie / Reparation | B15: ='W-RR mielies Laer opbrengs '!F13 -> 1343.7621 | C15: ='W-RR mielies Hoer opbrengs '!F13 -> 1290.3548 | D15: ='W-BT Mielies '!G13 -> 1280.8481 | E15: =Sonneblom!F13 -> 1264.3454 | F15: =Sojabone!G13 -> 1194.3015 | G15: =Graansorghum!F13 -> 1371.6587 | H15: =Grondbone!D20 -> 1775.4467
A16: ='W-BT Mielies '!A14 -> Onkruiddoders / Herbicide | B16: ='W-RR mielies Laer opbrengs '!F14 -> 1372.308 | C16: ='W-RR mielies Hoer opbrengs '!F14 -> 1372.308 | D16: ='W-BT Mielies '!G14 -> 1372.308 | E16: =Sonneblom!F14 -> 1331.712 | F16: =Sojabone!G14 -> 856.2798 | G16: =Graansorghum!F14 -> 394.37117 | H16: =Grondbone!D21 -> 1189.5094
A17: ='W-BT Mielies '!A15 -> Plaagdoder / Pest control | B17: ='W-RR mielies Laer opbrengs '!F15 -> 594.303 | C17: ='W-RR mielies Hoer opbrengs '!F15 -> 594.303 | D17: ='W-BT Mielies '!G15 -> 594.303 | E17: =Sonneblom!F15 -> 691.509 | F17: =Sojabone!G15 -> 863.124 | G17: =Graansorghum!F15 -> 594.303 | H17: =Grondbone!D22 -> 1118.2233
A18: ='W-BT Mielies '!A16 -> Insetversekering / Input insurance
A19: ='W-BT Mielies '!A17 -> Graanprysverskansing / Grain hedging | B19: ='W-RR mielies Laer opbrengs '!F17 -> 1531.9622 | C19: ='W-RR mielies Hoer opbrengs '!F17 -> 1897.4071 | D19: ='W-BT Mielies '!G17 -> 1702.082 | E19: =Sonneblom!F17 -> 432.26872 | F19: =Sojabone!G17 -> 635.8888
A20: ='W-BT Mielies '!A18 -> Kontrakstroop / Contract Harvesting
A21: ='W-BT Mielies '!A19 -> Oesversekering / Harvest insurance | B21: ='W-RR mielies Laer opbrengs '!F19 -> 435.21408 | C21: ='W-RR mielies Hoer opbrengs '!F19 -> 652.82112 | D21: ='W-BT Mielies '!G19 -> 571.21848 | E21: =Sonneblom!F19 -> 643.05427 | F21: =Sojabone!G19 -> 1464.3918 | G21: =Graansorghum!F19 -> 231.99456
A22: ='W-BT Mielies '!A20 -> Lugspuit / Aerial spray | B22: ='W-RR mielies Laer opbrengs '!F20 -> 200 | C22: ='W-RR mielies Hoer opbrengs '!F20 -> 200 | D22: ='W-BT Mielies '!G20 -> 200 | E22: =Sonneblom!F20 -> 200 | F22: =Sojabone!G20 -> 200
A23: ='W-BT Mielies '!A21 -> Losarbeid / Casual labour | B23: ='W-RR mielies Laer opbrengs '!F21 -> 300 | C23: ='W-RR mielies Hoer opbrengs '!F21 -> 300 | D23: ='W-BT Mielies '!G21 -> 300 | E23: =Sonneblom!F21 -> 300 | F23: =Sojabone!G21 -> 300 | G23: =Graansorghum!F21 -> 300 | H23: =Grondbone!D28 -> 300
A24: ='W-BT Mielies '!A22 -> Droogkoste / Drying cost
A25: ='W-BT Mielies '!A23 -> Oorlê land koste / overlay costs | C25: ='W-RR mielies Hoer opbrengs '!F23 -> 2010.3014 | D25: ='W-BT Mielies '!G23 -> 2010.3014 | F25: =Sojabone!G23 -> 2010.3014 | H25: =Grondbone!D30 -> 350
A26: ='W-BT Mielies '!A24 -> Produksiekrediet rente / Interest on production R/ha | B26: ='W-RR mielies Laer opbrengs '!F24 -> 953.3066 | C26: ='W-RR mielies Hoer opbrengs '!F24 -> 1303.8459 | D26: ='W-BT Mielies '!G24 -> 1182.2994 | E26: =Sonneblom!F24 -> 655.48912 | F26: =Sojabone!G24 -> 932.6613 | G26: =Graansorghum!F24 -> 656.38924 | H26: =Grondbone!D31 -> 683.44722
A27: TOTAL VARIABLE EXPENDITURE (R/ha) | B27: =SUM(B11:B26) -> 16517.496 | C27: =SUM(C11:C26) -> 22591.126 | D27: =SUM(D11:D26) -> 20485.147 | E27: =SUM(E11:E26) -> 11357.352 | F27: =SUM(F11:F26) -> 16159.785 | G27: =SUM(G11:G26) -> 11175.935 | H27: =SUM(H11:H26) -> 12191.769
A29: TOTAL FIXED COST (R/ha) | B29: ='W-RR mielies Laer opbrengs '!D27 -> 7127.22 | C29: ='W-RR mielies Hoer opbrengs '!D27 -> 7328.61 | D29: ='W-BT Mielies '!D27 -> 7658.16 | E29: =SUM(Sonneblom!D27) -> 6336.28 | F29: =Sojabone!G27 -> 6784.87 | G29: =Graansorghum!F27 -> 6918.24 | H29: =Grondbone!D34 -> 7880.47
A31: TOTAL COST (R/ha) | B31: =B27+B29 -> 23644.716 | C31: =C27+C29 -> 29919.736 | D31: =D27+D29 -> 28143.307 | E31: =E27+E29 -> 17693.632 | F31: =F27+F29 -> 22944.655 | G31: =G27+G29 -> 18094.175 | H31: =H27+H29 -> 20072.239
A33: 3) GROSS MARGIN (R/ha) | B33: =B8-B27 -> -949.49597 | C33: =C8-C27 -> 760.87377 | D33: =D8-D27 -> -1414.3473 | E33: =E8-E27 -> 2246.8181 | F33: =F8-F27 -> 362.40647 | G33: =G8-G27 -> -1408.7354 | H33: =H8-H27 -> 11633.286
A34: 4) NETT MARGIN (R/ha) | B34: =B8-B31 -> -8076.716 | C34: =C8-C31 -> -6567.7362 | D34: =D8-D31 -> -9072.5073 | E34: =E8-E31 -> -4089.4619 | F34: =F8-F31 -> -6422.4635 | G34: =G8-G31 -> -8326.9754 | H34: =H8-H31 -> 3752.8161
A36: Disclaimer: The information herein has been obtained from various sources, the accuracy and/or completeness of which Grain SA does not guarantee and for which Grain SA accepts no liability. Any prices or levels contained herein are preliminary and indicative only and do not represent bids or offers. These indications are provided solely for your information and consideration.
A57: SUMMARY
B58: =B2 -> Maize (lower yield) | C58: =C2 -> Maize (higher yield) | D58: =D2 -> Maize (Bt) | E58: =E2 -> Sunflower | F58: =F2 -> Soybean | G58: =G2 -> Grain Sorghum | H58: =H2 -> Groundnuts
A59: SAFEX: Estimated Price | B59: =B5 -> 4312 | C59: =C5 -> 4312 | D59: =D5 -> 4312 | E59: =E5 -> 10000 | F59: =F5 -> 8345 | G59: =G5 -> 3500 | H59: =H5 -> 16253.35
A60: LGO (ton/ha) | B60: =B4 -> 4 | C60: =C4 -> 6 | D60: =D4 -> 4.9 | E60: =E4 -> 1.428 | F60: =F4 -> 2.033 | G60: =G4 -> 2.9 | H60: =H4 -> 1.471559
A62: 1) INCOME
A63: Net Farm Gate Price (R/ha) | B63: =B7 -> 3892 | C63: =C7 -> 3892 | D63: =D7 -> 3892 | E63: =E7 -> 9526.73 | F63: =F7 -> 8127 | G63: =G7 -> 3368 | H63: =H7 -> 16190.35
A64: Net Farm Gate Price (R/ton) | B64: =B63/B60 -> 973 | C64: =C63/C60 -> 648.66667 | D64: =D63/D60 -> 794.28571 | E64: =E63/E60 -> 6671.3796 | F64: =F63/F60 -> 3997.5406 | G64: =G63/G60 -> 1161.3793 | H64: =H63/H60 -> 11002.175
A66: 2) EXPENDITURES
A67: Total variable cost (R/ha) | B67: =B27 -> 16517.496 | C67: =C27 -> 22591.126 | D67: =D27 -> 20485.147 | E67: =E27 -> 11357.352 | F67: =F27 -> 16159.785 | G67: =G27 -> 11175.935 | H67: =H27 -> 12191.769
...

Sheet Grafieke
